BEGIN:VCALENDAR
VERSION:2.0
PRODID:-//Nene Valley Harley Owners Group - ECPv6.15.20//NONSGML v1.0//EN
CALSCALE:GREGORIAN
METHOD:PUBLISH
X-ORIGINAL-URL:https://nenevalleyhog.co.uk
X-WR-CALDESC:Events for Nene Valley Harley Owners Group
REFRESH-INTERVAL;VALUE=DURATION:PT1H
X-Robots-Tag:noindex
X-PUBLISHED-TTL:PT1H
BEGIN:VTIMEZONE
TZID:Europe/London
BEGIN:DAYLIGHT
TZOFFSETFROM:+0000
TZOFFSETTO:+0100
TZNAME:BST
DTSTART:20220327T010000
END:DAYLIGHT
BEGIN:STANDARD
TZOFFSETFROM:+0100
TZOFFSETTO:+0000
TZNAME:GMT
DTSTART:20221030T010000
END:STANDARD
BEGIN:DAYLIGHT
TZOFFSETFROM:+0000
TZOFFSETTO:+0100
TZNAME:BST
DTSTART:20230326T010000
END:DAYLIGHT
BEGIN:STANDARD
TZOFFSETFROM:+0100
TZOFFSETTO:+0000
TZNAME:GMT
DTSTART:20231029T010000
END:STANDARD
BEGIN:DAYLIGHT
TZOFFSETFROM:+0000
TZOFFSETTO:+0100
TZNAME:BST
DTSTART:20240331T010000
END:DAYLIGHT
BEGIN:STANDARD
TZOFFSETFROM:+0100
TZOFFSETTO:+0000
TZNAME:GMT
DTSTART:20241027T010000
END:STANDARD
END:VTIMEZONE
BEGIN:VEVENT
DTSTART;TZID=Europe/London:20230831T130000
DTEND;TZID=Europe/London:20230903T130000
DTSTAMP:20260422T064605
CREATED:20230103T173131Z
LAST-MODIFIED:20230103T173133Z
UID:1620-1693486800-1693746000@nenevalleyhog.co.uk
SUMMARY:Circus Maximus 2023 Rally
DESCRIPTION:Circus Maximus: The Rally In The Valley\n\n\n\nEarly Bird Tickets can be purchased here. \n\n\n\nIncluded in the £49.50 ticket price: \n\n\n\n\nThree evenings of great entertainment.\n\n\n\nA ‘Ladies of Harley’ event.\n\n\n\nCamping on site for tents\, motorhomes and caravans.\n\n\n\nA Custom Bike Show\n\n\n\n…plus great ride-outs around beautiful North Wales!\n\n\n\n\nT-shirts are available at an additional cost of £15\, you can order when you buy your rally ticket. \n\n\n\nGlamping Packages are available\, the package includes: \n\n\n\n\nA tent\, already pitched for you when you arrive at the rally.\n\n\n\nClose proximity to the main pavilion\, with showers and toilets.\n\n\n\nYour bedding\, pillows and a torch.\n\n\n\n\nSet in the beautiful River Dee Valley in Llangollen\, North Wales our rally is held in the International Pavilion – it is one of the best rally locations in the UK!   \n\n\n\nLOCATION\n\n\n\nLlangollen Pavilion\, Abbey Road\, Llangollen\, Denbighshire LL20 8SW
URL:https://nenevalleyhog.co.uk/event/circus-maximus-2023-rally/
LOCATION:Llangollen Pavilion\, Abbey Road\, Llangollen\, Denbighshire\, LL20 8SW\, United Kingdom
CATEGORIES:Rally
ATTACH;FMTTYPE=image/jpeg:https://nenevalleyhog.co.uk/wp-content/uploads/2023/01/CM23-First-FB-Post.png-1024x576-1.jpg
END:VEVENT
BEGIN:VEVENT
DTSTART;TZID=Europe/London:20230901T000000
DTEND;TZID=Europe/London:20230903T235959
DTSTAMP:20260422T064605
CREATED:20230816T203637Z
LAST-MODIFIED:20230816T203637Z
UID:2049-1693526400-1693785599@nenevalleyhog.co.uk
SUMMARY:Orval Rally
DESCRIPTION:https://www.facebook.com/profile.php?id=100063575707626
URL:https://nenevalleyhog.co.uk/event/orval-rally/
LOCATION:Bucks
CATEGORIES:International Rally,Rally
END:VEVENT
BEGIN:VEVENT
DTSTART;TZID=Europe/London:20230905T000000
DTEND;TZID=Europe/London:20230910T235959
DTSTAMP:20260422T064605
CREATED:20230906T162924Z
LAST-MODIFIED:20230906T162925Z
UID:2081-1693872000-1694390399@nenevalleyhog.co.uk
SUMMARY:European Bike Week
DESCRIPTION:Every year at the beginning of September the European Bike Week – probably the most iconic motorcycle and Harley-Davidson gathering in the world – takes place around Faaker See! The motorcycle event attracts hundreds of thousands of Harley riders and fans of the cult brand to Carinthia every year. Both for the guests and the many local spectators\, the Faaker See region is the focus of attention for the week. Don’t miss this spectacular event! \n\n\n\nhttps://www.bikeweek.at/en/european-bike-week.html
URL:https://nenevalleyhog.co.uk/event/european-bike-week-2/
LOCATION:Bucks
CATEGORIES:Bike Events,International Rally
END:VEVENT
BEGIN:VEVENT
DTSTART;TZID=Europe/London:20230906T180000
DTEND;TZID=Europe/London:20230906T220000
DTSTAMP:20260422T064605
CREATED:20230816T210118Z
LAST-MODIFIED:20230906T162322Z
UID:2059-1694023200-1694037600@nenevalleyhog.co.uk
SUMMARY:Boyd's Bike Night
DESCRIPTION:Departing from Towcester McDonalds at 6pm. Martin ‘So Bad’ leading.\n\n\n\nEvening rideout to Boyd’s of Bedford. \n\n\n\nhttps://boydsofbedford.com/pages/the-story-of-boyds
URL:https://nenevalleyhog.co.uk/event/boyds-bike-night/
LOCATION:McDonalds Towcester\, A43\, Towcester\, Northamptonshire\, NN12 6TQ\, United Kingdom
CATEGORIES:Ride Out
END:VEVENT
BEGIN:VEVENT
DTSTART;TZID=Europe/London:20230908T000000
DTEND;TZID=Europe/London:20230910T235959
DTSTAMP:20260422T064605
CREATED:20230906T163323Z
LAST-MODIFIED:20230906T163324Z
UID:2084-1694131200-1694390399@nenevalleyhog.co.uk
SUMMARY:Lindium Rally
DESCRIPTION:
URL:https://nenevalleyhog.co.uk/event/lindium-rally/
LOCATION:Bucks
CATEGORIES:Rally
END:VEVENT
BEGIN:VEVENT
DTSTART;TZID=Europe/London:20230908T100000
DTEND;TZID=Europe/London:20230910T160000
DTSTAMP:20260422T064605
CREATED:20230103T172512Z
LAST-MODIFIED:20230103T172514Z
UID:1617-1694167200-1694361600@nenevalleyhog.co.uk
SUMMARY:Hogs around the Rock Rally
DESCRIPTION:The Jersey “HOGs around the Rock” rally returns in September 2023 following two years of Covid disruption. This event has historically been a biennial event that is targeted at the discerning HOG member who likes a little comfort and the opportunity to thoroughly enjoy a few days in a unique location. Finally\,we are back for 2023!  \n\n\n\nJersey is a small island (9 miles by 5 miles) with around 350 miles of roads and country lanes that are often narrow and winding. Speed is not something that you can push on the island roads but then why would you when you either have lovely sea vistas or countryside to look at. \n\n\n\nWith a population of over 100\,000\, and a vibrant Finance industry\, it means that accommodation is usually very good\, and the restaurants are both plentiful and of superior quality. Being surrounded by the sea means that seafood is a norm\, but those meat eaters can still get their teeth into great steaks. \n\n\n\nThe HOGs around the Rock rally is a boutique event and as such you’ll thoroughly enjoy yourself and get to know everyone that attends. The rally will be based upon riding around the island taking in some of the island’s unique history with several opportunities to visit the extensive German WW2 sites\, a definite “must do” for your diary.  \n\n\n\nWe’re going to fit in an evening ride to enjoy the sunset over the sea\, rides to various historic locations\, a day of riding the lanes to conclude with a ride around the coast of Jersey. In the evenings we’ll hold impromptu gatherings as well as a fun evening of music and a buffet dinner. \n\n\n\nWe will look after you during your stay and make you feel very welcome so if you fancy something a little bit different and a chance to meet some like-minded people – HOGs around the Rock is the event for you! \n\n\n\nTickets availability will be limited so make sure to book early to avoid disappointment. \n\n\n\nContacts and Links: \n\n\n\nTravel to the Island \n\n\n\nCondor Ferries: http://www.condorferries.co.uk \n\n\n\nIMPORTANT INFORMATION: All ferry bookings for motorcycles must be made through Condor’s Group Travel Team. Please quote ‘Jersey Harley Davidson Rally’ at the time of booking. \n\n\n\nEmail: Group.Travel@condorferries.com \n\n\n\nAccommodation \n\n\n\nJersey Tourism: http://www.jersey.com \n\n\n\nJersey Chapter
URL:https://nenevalleyhog.co.uk/event/hogs-around-the-rock-rally/
LOCATION:Bucks
CATEGORIES:Rally
ATTACH;FMTTYPE=image/jpeg:https://nenevalleyhog.co.uk/wp-content/uploads/2023/01/297438456_6254294877917901_1598475114955905671_n.jpg
END:VEVENT
BEGIN:VEVENT
DTSTART;TZID=Europe/London:20230910T090000
DTEND;TZID=Europe/London:20230910T170000
DTSTAMP:20260422T064605
CREATED:20230816T205305Z
LAST-MODIFIED:20230816T205306Z
UID:2056-1694336400-1694365200@nenevalleyhog.co.uk
SUMMARY:Ride to the Tide
DESCRIPTION:Departing from Shell Petrol station on A45\, just off J15 of the M1 9am. Simon leading\n\n\n\nSimon will be leading a ride to Hunstanton on 10th September\, leaving at 09:00.PLEASE NOTE: This ride is leaving from the Shell Petrol station on A45 just off J15 of M1 NN4 0JN.From here\, we will be taking a direct route along the A45 towards Thrapston\, then A605 to Peterborough. We will stop at Eye Green services for fuel and a comfort break\, and we will also be meeting Rutland Chapter here.From there\, Nene Valley and Rutland will tide together to Hunstanton where you will be able to enjoy the usual costal joys of fish n chips\, ice-cream and walks on the beach. 
URL:https://nenevalleyhog.co.uk/event/ride-to-the-tide/
LOCATION:Bucks
CATEGORIES:Ride Out
ATTACH;FMTTYPE=image/jpeg:https://nenevalleyhog.co.uk/wp-content/uploads/2023/08/368031802_10231100188118952_2501808974342189327_n.jpg
END:VEVENT
BEGIN:VEVENT
DTSTART;TZID=Europe/London:20230913T193000
DTEND;TZID=Europe/London:20230913T220000
DTSTAMP:20260422T064605
CREATED:20230906T163651Z
LAST-MODIFIED:20230906T163652Z
UID:2087-1694633400-1694642400@nenevalleyhog.co.uk
SUMMARY:Chapter Clubnight
DESCRIPTION:At the Walnut Tree Inn\, Blisworth from 7.30pm\n\n\n\nOur monthly clubnight and catchup at the Walnut tree inn. Thinking of joining? Why not come and see us.
URL:https://nenevalleyhog.co.uk/event/chapter-clubnight-16/
LOCATION:The Walnut Tree\, 21 Station Road\, Blisworth\, Northamptonshire\, NN7 3DS\, United Kingdom
CATEGORIES:Clubnight
END:VEVENT
BEGIN:VEVENT
DTSTART;TZID=Europe/London:20230922T000000
DTEND;TZID=Europe/London:20230925T235959
DTSTAMP:20260422T064605
CREATED:20230119T120601Z
LAST-MODIFIED:20230119T120602Z
UID:1761-1695340800-1695686399@nenevalleyhog.co.uk
SUMMARY:Blazin' Wild West Rally
DESCRIPTION:New Forrest HOG chapter are now in the position to share the details of their next rally to be held next September 22nd – 25th 2023. \n\n\n\nThe rally will be held once again at Lakeside Coastal Village.Hayling Island Hampshire \n\n\n\nThe prices are as follows: (Prices are based on two people sharing\,includes half board and goodie bag) \n\n\n\n£259 per person for a Standard room and this includes the price of your rally ticket \n\n\n\n£316 per person for a Supreme room and this includes the price of your rally ticket \n\n\n\n£310 per person for a Woodland lodge and this includes the price of your rally ticket \n\n\n\n£334 per person for a Bay Cottage and this includes the price of your rally ticket \n\n\n\n£349 per person for a Harbour Suite and this includes the price of your rally ticket. \n\n\n\nThere is a deposit payable upon booking of £80pp. All deposits are non-refundable. \n\n\n\nIf you would like to book accommodation\, please contact the site directly on Tel 02392 463976 (please be patient they will come back to you if you leave a message). Please be aware that this phone is only manned during normal working hours. This is Monday to Friday 9 – 5pm. \n\n\n\nThe theme for the rally is Blazin Wild West and we already have a number of bands etc booked. \n\n\n\nWe hope to see you all soon \n\n\n\nThe Rally Committee
URL:https://nenevalleyhog.co.uk/event/blazin-wild-west-rally/
LOCATION:Lakeside Coastal Village\, Hayling Island\, Hants\, United Kingdom
CATEGORIES:Rally
ATTACH;FMTTYPE=image/jpeg:https://nenevalleyhog.co.uk/wp-content/uploads/2023/01/Logo-632x621-1.jpg
END:VEVENT
BEGIN:VEVENT
DTSTART;TZID=Europe/London:20230923T100000
DTEND;TZID=Europe/London:20230924T170000
DTSTAMP:20260422T064605
CREATED:20230103T173734Z
LAST-MODIFIED:20230103T173734Z
UID:1626-1695463200-1695574800@nenevalleyhog.co.uk
SUMMARY:Sywell Classic - Pistons and Props
DESCRIPTION:Combining historic racers\, hot rods and motorbikes with classic planes and vintage music to create a fantastic two-day event\, celebrating classic motoring on the ground and in the air. \n\n\n\nWatch amazing live action on the transformed ‘Racing Runway’ and ‘Sprint Strip’ with iconic Formula 1 cars\, Hot Rods\, Dragsters and Motorcycles all in action throughout the weekend. Up in the skies; expect to see a variety of breath taking aerial displays & acrobatics from a variety of display teams. With a vintage fun fair and shopping village\, make a weekend of it as camping packages are available.  \n\n\n\nIt’s a great weekend for all the family.
URL:https://nenevalleyhog.co.uk/event/sywell-classic-pistons-and-props/
LOCATION:Sywell\, Hall Farm\, Sywell\, Northamptonshire\, NN6 0BN\, United Kingdom
CATEGORIES:Bike Events
ATTACH;FMTTYPE=image/png:https://nenevalleyhog.co.uk/wp-content/uploads/2023/01/Sywell-Logo-2023.png
END:VEVENT
BEGIN:VEVENT
DTSTART;TZID=Europe/London:20230930T150000
DTEND;TZID=Europe/London:20230930T180000
DTSTAMP:20260422T064605
CREATED:20230731T163630Z
LAST-MODIFIED:20230731T163631Z
UID:2033-1696086000-1696096800@nenevalleyhog.co.uk
SUMMARY:LOH Bowling and Burger
DESCRIPTION:At Sixfields Northampton.\n\n\n\nFollowing the poll recently for options of LOH event\, Bowling and Burger won. This will be on Saturday 30th September at 15.00hrs\, Sixfields\, Northampton. There are always different offers on so I will see what is available nearer to the date. If you can let Angie know if you want to come.MEN ALSO WELCOME
URL:https://nenevalleyhog.co.uk/event/loh-bowling-and-burger/
LOCATION:Bucks
CATEGORIES:Ladies of Harley,Social Event
END:VEVENT
END:VCALENDAR