BEGIN:VCALENDAR
VERSION:2.0
PRODID:-//Nene Valley Harley Owners Group - ECPv6.15.20//NONSGML v1.0//EN
CALSCALE:GREGORIAN
METHOD:PUBLISH
X-WR-CALNAME:Nene Valley Harley Owners Group
X-ORIGINAL-URL:https://nenevalleyhog.co.uk
X-WR-CALDESC:Events for Nene Valley Harley Owners Group
REFRESH-INTERVAL;VALUE=DURATION:PT1H
X-Robots-Tag:noindex
X-PUBLISHED-TTL:PT1H
BEGIN:VTIMEZONE
TZID:Europe/London
BEGIN:DAYLIGHT
TZOFFSETFROM:+0000
TZOFFSETTO:+0100
TZNAME:BST
DTSTART:20220327T010000
END:DAYLIGHT
BEGIN:STANDARD
TZOFFSETFROM:+0100
TZOFFSETTO:+0000
TZNAME:GMT
DTSTART:20221030T010000
END:STANDARD
BEGIN:DAYLIGHT
TZOFFSETFROM:+0000
TZOFFSETTO:+0100
TZNAME:BST
DTSTART:20230326T010000
END:DAYLIGHT
BEGIN:STANDARD
TZOFFSETFROM:+0100
TZOFFSETTO:+0000
TZNAME:GMT
DTSTART:20231029T010000
END:STANDARD
BEGIN:DAYLIGHT
TZOFFSETFROM:+0000
TZOFFSETTO:+0100
TZNAME:BST
DTSTART:20240331T010000
END:DAYLIGHT
BEGIN:STANDARD
TZOFFSETFROM:+0100
TZOFFSETTO:+0000
TZNAME:GMT
DTSTART:20241027T010000
END:STANDARD
END:VTIMEZONE
BEGIN:VEVENT
DTSTART;TZID=Europe/London:20230701T000000
DTEND;TZID=Europe/London:20230701T235959
DTSTAMP:20260422T100618
CREATED:20230206T161538Z
LAST-MODIFIED:20230206T161539Z
UID:1772-1688169600-1688255999@nenevalleyhog.co.uk
SUMMARY:Rockin' The Country
DESCRIPTION:
URL:https://nenevalleyhog.co.uk/event/rockin-the-country/
LOCATION:Horse Creek Farm\, Coldham Bank\, March\, Cambridgeshire\, PE15 0BS\, United Kingdom
CATEGORIES:Bike Events
ATTACH;FMTTYPE=image/jpeg:https://nenevalleyhog.co.uk/wp-content/uploads/2023/02/328935361_710135247365187_1633294991672723989_n.jpg
END:VEVENT
BEGIN:VEVENT
DTSTART;TZID=Europe/London:20230701T113000
DTEND;TZID=Europe/London:20230701T150000
DTSTAMP:20260422T100618
CREATED:20230603T200401Z
LAST-MODIFIED:20230603T200402Z
UID:1946-1688211000-1688223600@nenevalleyhog.co.uk
SUMMARY:Shoteswell Village Fete
DESCRIPTION:Departing from Towcester McDonalds at 11:30am. Carl leading\n\n\n\nMeet at McDonald’s Towcester\, for a departure at 11:30hrs. A leisurely ride across the countryside to join a traditional village fete at Shotteswell\, OX17 1JA. We will be displaying our bikes for the public to enjoy and you are free to join in with any/all the activities\, eat plenty of burgers\, cake and ice cream\, before making your own way home from there (whenever you want).
URL:https://nenevalleyhog.co.uk/event/shoteswell-village-fete/
LOCATION:McDonalds Towcester\, A43\, Towcester\, Northamptonshire\, NN12 6TQ\, United Kingdom
CATEGORIES:Ride Out
END:VEVENT
BEGIN:VEVENT
DTSTART;TZID=Europe/London:20230706T080000
DTEND;TZID=Europe/London:20230709T170000
DTSTAMP:20260422T100618
CREATED:20230110T225402Z
LAST-MODIFIED:20230110T225403Z
UID:1735-1688630400-1688922000@nenevalleyhog.co.uk
SUMMARY:Wake the Lakes 23 rally
DESCRIPTION:
URL:https://nenevalleyhog.co.uk/event/wake-the-lakes-23-rally/
LOCATION:Wake the Lakes\, Mint Bridge\, Kendal\, LA9 6DL\, United Kingdom
CATEGORIES:Rally
ATTACH;FMTTYPE=image/jpeg:https://nenevalleyhog.co.uk/wp-content/uploads/2023/01/3ed7a558886bcc95475e6add53e44d70399b3abe84a301a758fe846b382b7896-rimg-w526-h263-gmir.jpg
END:VEVENT
BEGIN:VEVENT
DTSTART;TZID=Europe/London:20230707T000000
DTEND;TZID=Europe/London:20230709T235959
DTSTAMP:20260422T100618
CREATED:20230630T161006Z
LAST-MODIFIED:20230630T161007Z
UID:1971-1688688000-1688947199@nenevalleyhog.co.uk
SUMMARY:Horseshoe Rally - Rutland chapter
DESCRIPTION:
URL:https://nenevalleyhog.co.uk/event/horseshoe-rally-rutland-chapter/
LOCATION:Bucks
CATEGORIES:Rally
END:VEVENT
BEGIN:VEVENT
DTSTART;TZID=Europe/London:20230708T100000
DTEND;TZID=Europe/London:20230708T160000
DTSTAMP:20260422T100618
CREATED:20230624T102817Z
LAST-MODIFIED:20230624T102818Z
UID:1966-1688810400-1688832000@nenevalleyhog.co.uk
SUMMARY:Ride2Give support GXO Fun day
DESCRIPTION:We are running a stall with Ride2Give with static bike display and some fun n games to raise awareness and cash for this great charity if anyone fancies helping out or displaying their bike this should be a big event with 1000 expected to attend throughout the day.
URL:https://nenevalleyhog.co.uk/event/ride2give-support-gxo-fun-day/
LOCATION:Waitrose NDC\, Waitrose NDC\, Milton Keynes\, Bucks\, MK17 8FF\, United Kingdom
CATEGORIES:Social Event
ATTACH;FMTTYPE=image/jpeg:https://nenevalleyhog.co.uk/wp-content/uploads/2022/10/harley-davidson-logo-metal-1864229.jpg
END:VEVENT
BEGIN:VEVENT
DTSTART;TZID=Europe/London:20230709T100000
DTEND;TZID=Europe/London:20230709T160000
DTSTAMP:20260422T100618
CREATED:20230103T171515Z
LAST-MODIFIED:20230103T171516Z
UID:1614-1688896800-1688918400@nenevalleyhog.co.uk
SUMMARY:Baston Car and Bike Show
DESCRIPTION:The Baston Car & Bike Show will be returning to Grimsthorpe Castle in 2023. Taking place on Sunday 9th July\, we will be welcoming a whole host of special vehicles – vintage\, classics\, road\, race\, sports\, customised\, commercial and more! Not to mention the wide array of traders\, live music\, entertainment for the kids\, food & drink\, all set to the gorgeous backdrop of Grimsthorpe Castle. \n\n\n\nThe show kicks off at 10am and ends at 4pm.For all Pole Position Parking entries\, please arrive from 8:30am onwards to get your cars in position ready for the show. \n\n\n\nUNDER 12’s GO FREE! \n\n\n\nDAY VISITORS’ TICKETS JUST £10 PER ADULT IN ADVANCE DON’T MISS OUT BOOK YOUR TICKETS TODAY!
URL:https://nenevalleyhog.co.uk/event/baston-car-and-bike-show/
LOCATION:Bucks
CATEGORIES:Bike Events
ATTACH;FMTTYPE=image/png:https://nenevalleyhog.co.uk/wp-content/uploads/2023/01/Baston-CarBike-Show-Logo-White.png
END:VEVENT
BEGIN:VEVENT
DTSTART;TZID=Europe/London:20230712T193000
DTEND;TZID=Europe/London:20230712T210000
DTSTAMP:20260422T100618
CREATED:20230607T154149Z
LAST-MODIFIED:20230607T154150Z
UID:1963-1689190200-1689195600@nenevalleyhog.co.uk
SUMMARY:Chapter Clubnight
DESCRIPTION:At the Walnut Tree from 7.30pm\n\n\n\nCome along and have a drink and chat with your friends.
URL:https://nenevalleyhog.co.uk/event/chapter-clubnight-14/
LOCATION:Bucks
CATEGORIES:Clubnight
ATTACH;FMTTYPE=image/jpeg:https://nenevalleyhog.co.uk/wp-content/uploads/2022/10/harley-davidson-logo-metal-1864229.jpg
END:VEVENT
BEGIN:VEVENT
DTSTART;TZID=Europe/London:20230713T000000
DTEND;TZID=Europe/London:20230716T235959
DTSTAMP:20260422T100618
CREATED:20230107T145743Z
LAST-MODIFIED:20230107T145744Z
UID:1642-1689206400-1689551999@nenevalleyhog.co.uk
SUMMARY:Harley Davidson Homecoming
DESCRIPTION:Milwaukee Wisconsin USA\n\n\n\nH-D will celebrate its 120th anniversary in 2023 with the launch of Harley-Davidson Homecoming\, an annual four-day festival filled with music\, food and moto-culture. The inaugural event will be held in Harley’s hometown of Milwaukee\, Wisconsin on July 13–16\, 2023. Riders\, enthusiasts\, and fans from around the world will gather for this unforgettable weekend. Check out our lodging suggestions and book yours today.
URL:https://nenevalleyhog.co.uk/event/harley-davidson-homecoming/
LOCATION:Bucks
CATEGORIES:Bike Events
ATTACH;FMTTYPE=image/jpeg:https://nenevalleyhog.co.uk/wp-content/uploads/2023/01/homecoming-image-desktop-tall-hero.jpg
END:VEVENT
BEGIN:VEVENT
DTSTART;TZID=Europe/London:20230714T000000
DTEND;TZID=Europe/London:20230716T235959
DTSTAMP:20260422T100618
CREATED:20221210T173040Z
LAST-MODIFIED:20221210T173041Z
UID:1527-1689292800-1689551999@nenevalleyhog.co.uk
SUMMARY:Harley Davidson in the City (Brechin)
DESCRIPTION:Come along and join the thousands of local and national visitors here in Brechin for another action packed weekend on Friday 14th\, Saturday 15th and Sunday 16th July 2023. \n\n\n\nLots happening on Saturday and Sunday\, including: \n\n\n\nHundreds of Harley-Davidsons – among othersLocal and national tradersA vast selection of food vendorsNew Ride-Out starting pointOutside bar and live music stage – in a new location and both beside each otherFunfairCampsiteBike ShowTattoo CompetitionFashion Show \n\n\n\nLOTS MORE TO BE ANNOUNCED \n\n\n\nRIDE-OUT TICKETS – TBC \n\n\n\nCAMPING TICKETS – TBC \n\n\n\nAlso check out other Music Events in Brechin\, Fashion Events in Brechin.
URL:https://nenevalleyhog.co.uk/event/harley-davidson-in-the-city-brechin/
LOCATION:Brechin\, River Street\, Brechin\, DD9 7\, United Kingdom
CATEGORIES:Bike Events
ATTACH;FMTTYPE=image/jpeg:https://nenevalleyhog.co.uk/wp-content/uploads/2022/12/motorcycle-bike-harley-davidson-89717.jpg
END:VEVENT
BEGIN:VEVENT
DTSTART;TZID=Europe/London:20230714T000000
DTEND;TZID=Europe/London:20230716T235959
DTSTAMP:20260422T100618
CREATED:20230630T162246Z
LAST-MODIFIED:20230630T162247Z
UID:1974-1689292800-1689551999@nenevalleyhog.co.uk
SUMMARY:Oak Tree Rally - Black mountains chapter
DESCRIPTION:Rally organised by Black Mountains HOG chapter. Tickets are £40 each.
URL:https://nenevalleyhog.co.uk/event/oak-tree-rally-black-mountains-chapter/
LOCATION:Ivy Bush Royal Hotel\, 11 Spilman Street\, Carmarthen\, SA31 1LG\, United Kingdom
CATEGORIES:Rally
ORGANIZER;CN="kenbritton3@gmail.com":MAILTO:kenbritton3@gmail.com
END:VEVENT
BEGIN:VEVENT
DTSTART;TZID=Europe/London:20230721T000000
DTEND;TZID=Europe/London:20230723T235959
DTSTAMP:20260422T100618
CREATED:20230508T125611Z
LAST-MODIFIED:20230508T125612Z
UID:1875-1689897600-1690156799@nenevalleyhog.co.uk
SUMMARY:Fields of Thunder
DESCRIPTION:A BRAND NEW EVENT FOR ALL BIKE LOVERS! \n\n\n\nThere’s nothing quite like the heady aromas of petrol vapour and burning rubber to signal the start of the motorcycle festival season. \n\n\n\nFields of Thunder is a weekend celebration of bikes\, beers\, beats and more. Join us this July for the best bikers weekend in the Home Counties. We have amazing live music acts\, locally brewed beers and delicious street foods and of course loads of stunning bikes.  \n\n\n\nKicking off Friday afternoon and running all day Saturday you are set to have a great weekend! Sunday will be breakfast/brunch and home time for all our campers. \n\n\n\nSee you then!
URL:https://nenevalleyhog.co.uk/event/fields-of-thunder/
LOCATION:Bucks
CATEGORIES:Bike Events,Rally
END:VEVENT
BEGIN:VEVENT
DTSTART;TZID=Europe/London:20230727T000000
DTEND;TZID=Europe/London:20230730T235959
DTSTAMP:20260422T100618
CREATED:20230630T162818Z
LAST-MODIFIED:20230630T162819Z
UID:1981-1690416000-1690761599@nenevalleyhog.co.uk
SUMMARY:Fenlanders HOG Rally
DESCRIPTION:At Diss Rugby club.Tickets available via link below.
URL:https://nenevalleyhog.co.uk/event/fenlanders-hog-rally-3/
LOCATION:Diss Rugby Club\, Bellrope Lane\, Diss\, IP22 5RG\, United Kingdom
CATEGORIES:Rally
END:VEVENT
BEGIN:VEVENT
DTSTART;TZID=Europe/London:20230727T190000
DTEND;TZID=Europe/London:20230727T220000
DTSTAMP:20260422T100618
CREATED:20230603T201603Z
LAST-MODIFIED:20230603T201604Z
UID:1949-1690484400-1690495200@nenevalleyhog.co.uk
SUMMARY:Evening Social at the Navigation
DESCRIPTION:At the Navigation Inn in Stoke Bruerne\n\n\n\nI am planning an evening meal at The Navigation\, Stoke Bruerne on Thurs 27th July @ 7pm – I have requested a separate area to the main restaurant which holds approx. 30 people (with this is mind I will need names of those wanting to go as soon as possible) – If you would like to join us\, can you please confirm by Mon 03/07/23. \n\n\n\nIf you would like to be added to the list for the booking\, please let me know via the facebook event invite or email me on activities@nenevalleyhog.co.uk  \n\n\n\nHopefully lots of you will be able to join us\, Angie \n\n\n\nPart of my role as your activities officer is to promote/arrange social events outside those planned with the Rideout’s etc. Good company\, general chit-chat & hopefully lots of laughs. \n\n\n\nThe Navigation do charge for parking\, however if you hand your parking ticket in when you pay this will be refunded.
URL:https://nenevalleyhog.co.uk/event/evening-social-at-the-navigation/
LOCATION:navigation\, Navigation Inn\, Stoke Bruerne\, NN12 7SY\, United Kingdom
CATEGORIES:Social Event
END:VEVENT
BEGIN:VEVENT
DTSTART;TZID=Europe/London:20230728T000000
DTEND;TZID=Europe/London:20230730T235959
DTSTAMP:20260422T100618
CREATED:20230220T175507Z
LAST-MODIFIED:20230220T175509Z
UID:1788-1690502400-1690761599@nenevalleyhog.co.uk
SUMMARY:The Big Chill Rally
DESCRIPTION:
URL:https://nenevalleyhog.co.uk/event/the-big-chill-rally/
LOCATION:Supermarine Sport Club\, South Marston\, Swindon\, Wiltshire\, SN3 4BZ\, United Kingdom
CATEGORIES:Rally
ATTACH;FMTTYPE=image/jpeg:https://nenevalleyhog.co.uk/wp-content/uploads/2023/02/331516475_1197873004455129_6863162041251843589_n.jpg
END:VEVENT
BEGIN:VEVENT
DTSTART;TZID=Europe/London:20230729T130000
DTEND;TZID=Europe/London:20230729T150000
DTSTAMP:20260422T100618
CREATED:20230603T193849Z
LAST-MODIFIED:20230603T193849Z
UID:1933-1690635600-1690642800@nenevalleyhog.co.uk
SUMMARY:LOH Crazy Golf Afternoon
DESCRIPTION:Join Lisa for another LOH event\, indoor golf at Mr Mulligans indoor golf in Milton Keynes.£22.00 each for a game of golf and 2 drinks of your choice.Saturday 29th July @ 13.00hrs.If you fancy a fun afternoon then please let me know as I will need £22.00 from you as you have to pay on booking.
URL:https://nenevalleyhog.co.uk/event/loh-crazy-golf-afternoon/
LOCATION:Mr Mulligans Indoor Milton Keynes\, Unit B4\, Savoy Crescent\, Milton Keynes MK9 3PU\, Unit B4\, Savoy Crescent\, Milton Keynes\, MK9 3PU\, United Kingdom
CATEGORIES:Ladies of Harley,Social Event
END:VEVENT
BEGIN:VEVENT
DTSTART;TZID=Europe/London:20230730T100000
DTEND;TZID=Europe/London:20230730T140000
DTSTAMP:20260422T100618
CREATED:20230710T162513Z
LAST-MODIFIED:20230710T162514Z
UID:2014-1690711200-1690725600@nenevalleyhog.co.uk
SUMMARY:Picnic Ride to Ashridge
DESCRIPTION:Departing from Towcester McDonalds at 10am on Sunday 30th July. Becky Leading\n\n\n\nAs Gloria’s ‘plunge’ has now been delayed till August\, this ride has now been added. It’s a ride to the Ashridge Estate on the Dunstable Downs. A nice place with a small cafe and toilets. Enjoyable woodland walks and a viewing tower for those who fancy the climb.
URL:https://nenevalleyhog.co.uk/event/picnic-ride-to-ashridge/
LOCATION:McDonalds Towcester\, A43\, Towcester\, Northamptonshire\, NN12 6TQ\, United Kingdom
CATEGORIES:Ride Out
ATTACH;FMTTYPE=image/jpeg:https://nenevalleyhog.co.uk/wp-content/uploads/2023/07/DLiCaRGuhxfnrLM-800x450-noPad.jpg
END:VEVENT
END:VCALENDAR