BEGIN:VCALENDAR
VERSION:2.0
PRODID:-//Nene Valley Harley Owners Group - ECPv6.15.20//NONSGML v1.0//EN
CALSCALE:GREGORIAN
METHOD:PUBLISH
X-WR-CALNAME:Nene Valley Harley Owners Group
X-ORIGINAL-URL:https://nenevalleyhog.co.uk
X-WR-CALDESC:Events for Nene Valley Harley Owners Group
REFRESH-INTERVAL;VALUE=DURATION:PT1H
X-Robots-Tag:noindex
X-PUBLISHED-TTL:PT1H
BEGIN:VTIMEZONE
TZID:Europe/London
BEGIN:DAYLIGHT
TZOFFSETFROM:+0000
TZOFFSETTO:+0100
TZNAME:BST
DTSTART:20220327T010000
END:DAYLIGHT
BEGIN:STANDARD
TZOFFSETFROM:+0100
TZOFFSETTO:+0000
TZNAME:GMT
DTSTART:20221030T010000
END:STANDARD
BEGIN:DAYLIGHT
TZOFFSETFROM:+0000
TZOFFSETTO:+0100
TZNAME:BST
DTSTART:20230326T010000
END:DAYLIGHT
BEGIN:STANDARD
TZOFFSETFROM:+0100
TZOFFSETTO:+0000
TZNAME:GMT
DTSTART:20231029T010000
END:STANDARD
BEGIN:DAYLIGHT
TZOFFSETFROM:+0000
TZOFFSETTO:+0100
TZNAME:BST
DTSTART:20240331T010000
END:DAYLIGHT
BEGIN:STANDARD
TZOFFSETFROM:+0100
TZOFFSETTO:+0000
TZNAME:GMT
DTSTART:20241027T010000
END:STANDARD
END:VTIMEZONE
BEGIN:VEVENT
DTSTART;TZID=Europe/London:20230602T180000
DTEND;TZID=Europe/London:20230602T210000
DTSTAMP:20260422T130845
CREATED:20230531T195150Z
LAST-MODIFIED:20230531T195150Z
UID:1911-1685728800-1685739600@nenevalleyhog.co.uk
SUMMARY:Bike Sanctuary Bike Night
DESCRIPTION:Departing from Hamburger Heaven at 6pm.\n\n\n\nHi all\, on Friday (2nd June)\, a couple of us are going to take a ride to Bike Night at the Bike Sanctuary\, Unit 2\, The Old Woodyard\, Forest Rd\, Hanslope\, Milton Keynes MK19 7DE. \n\n\n\nhttps://www.bikesanctuary.co.uk/events \n\n\n\nIf anyone would like to join us\, we will meet at 18:00hrs at 81 Hamburger Heaven\, London Rd\, Northampton NN4 0LY (where Simon has taken us all for breakfast in the past). \n\n\n\nPlease let me know if you are coming along to join us 👍🏼 \n\n\n\nassistantdirector@nenevalleyhog.co.uk \n\n\n\nCheers \n\n\n\nCarl
URL:https://nenevalleyhog.co.uk/event/bike-sanctuary-bike-night/
LOCATION:81 Hamburger Heaven\, London Road Northampton\, Northampton\, Northants\, NN4 0LY\, United Kingdom
CATEGORIES:Bike Events
END:VEVENT
BEGIN:VEVENT
DTSTART;TZID=Europe/London:20230604T090000
DTEND;TZID=Europe/London:20230604T170000
DTSTAMP:20260422T130845
CREATED:20230508T120847Z
LAST-MODIFIED:20230508T120850Z
UID:1861-1685869200-1685898000@nenevalleyhog.co.uk
SUMMARY:NMA Ride and Guide
DESCRIPTION:Join us on a ride to the National Memorial Arboretum\, please arrive at McDonalds Towcester at 09:00 for a 09:30 departure. The ride is approximately 60 miles and take 1.5 hours. \n\n\n\nWe have a guided tour of the site booked allowing for a more personal and educational visit.  \n\n\n\nThis ride and guided tour is only available by prebooking on the Trybooking site.  \n\n\n\nTickets are £5 each plus 15p per person booking fee. \n\n\n\nNumbers are restricted to 20 people. \n\n\n\nTo book your place visit \n\n\n\nhttps://www.trybooking.co.uk/CJIR \n\n\n\nSimon \n\n\n\n07961 027921
URL:https://nenevalleyhog.co.uk/event/nma-ride-and-guide/
LOCATION:McDonalds Towcester\, A43\, Towcester\, Northamptonshire\, NN12 6TQ\, United Kingdom
CATEGORIES:Ride Out
END:VEVENT
BEGIN:VEVENT
DTSTART;TZID=Europe/London:20230607T180000
DTEND;TZID=Europe/London:20230607T220000
DTSTAMP:20260422T130845
CREATED:20230508T123127Z
LAST-MODIFIED:20230508T123128Z
UID:1869-1686160800-1686175200@nenevalleyhog.co.uk
SUMMARY:Mike's (Nearly Birthday) Ride
DESCRIPTION:Leaving at 6:00. This is usually the longest day ride but because I’m away then I’ve moved it forward. It’s an evening ride starting at Macdonalds\, Towcester and follows a fairly back street route to end in Stratford-upon-Avon where you can indulge yourself with coffee or a meal or just a wander along the river. We will park in the bike park by the sports centre because Stratford council are miserable bast***s and won’t let us park by the river.The length of the stop will be decided when we arrive and the return journey will end Nr Banbury where everyone can make their own way home. 
URL:https://nenevalleyhog.co.uk/event/mikes-nearly-birthday-ride/
LOCATION:McDonalds Towcester\, A43\, Towcester\, Northamptonshire\, NN12 6TQ\, United Kingdom
CATEGORIES:Ride Out
END:VEVENT
BEGIN:VEVENT
DTSTART;TZID=Europe/London:20230610T090000
DTEND;TZID=Europe/London:20230610T160000
DTSTAMP:20260422T130845
CREATED:20230508T124000Z
LAST-MODIFIED:20230508T124000Z
UID:1872-1686387600-1686412800@nenevalleyhog.co.uk
SUMMARY:High Peak Passes (Iron Butt) ride
DESCRIPTION:Departing from Rugby Truck Stop (Stobbarts A5) at 9am prompt.\n\n\n\nThe route in total will be 220 miles from Truck Stop to the finish point at LFE Services (M1 southbound). \n\n\n\nTo get up quickly we will head up the M1 and A50 to Derby & Burton Services where we shall stop for a fuel up\, comfort break etc. @ Shell station  LOCATION  DE65 6DX.  (48 miles). \n\n\n\nIts then onwards up to Ashbourne and a scenic ride through the Dales and up and over the Cat & Fiddle pass\, over to Macclesfield and stop @ Shell station for fuel and quick break.  LOCATION   SK11 0JX  (53 miles) \n\n\n\nThen it’s up and over Dumbers\, through Buxton and on towards Glossop.  We stop for lunch at the George & Dragon (where else !!) in Charlesworth LOCATION SK13 5EZ (31 miles) \n\n\n\nOur return route is up and over the Snake Pass\, down through Chatsworth Park\, through Matlock Bath and we stop for fuel\, comfort break @ Sainsbury’s\, Ripley  LOCATION  DE5 3QP.   (48  miles). \n\n\n\nFinally we pick the M1 south and the ride finishes at LFE services on the M1 near Leicester  LOCATION  LE3 3GB  (38 miles) \n\n\n\nI must point out that this ride takes in a number of narrow and very winding roads through The Dales\, with some steep declines and ascent and dry stone walls at the edges of the road.  You will need to continually observe the conditions of the roads as pot holes and lose gravel could crop up anywhere\, and there tends to be a number of cyclists and horses out and about. \n\n\n\nWe will be covering a lot of miles over demanding roads\, so it will be necessary for all riders to keep up with the pace of the ride in front of them at all times.  This will ensure the smooth flow and progress of the ride and keep all riders safe by not having to slow the ride.  It also helps to reduce the number of 2nd man drops required. \n\n\n\nI intend to use the same pub we have stopped at before as it is generally quiet at lunch time and has always worked well before (pre-pandemic).  We normally sit out- side. \n\n\n\nFinally\, this ride require decent weather – therefore if the forecast is poor for the day I will postpone.  Keep an eye out on the chapter website\, facebook\, email. \n\n\n\n Cheers   Slow Hand          Mobile:   07709 205571      Email : c.lapsley@ntlworld.com
URL:https://nenevalleyhog.co.uk/event/high-peak-passes-iron-butt-ride/
LOCATION:Rugby Truck Stop\, A5\, Rugby\, Warks\, CV23 0AE\, United Kingdom
CATEGORIES:Ride Out
END:VEVENT
BEGIN:VEVENT
DTSTART;TZID=Europe/London:20230611T103000
DTEND;TZID=Europe/London:20230611T150000
DTSTAMP:20260422T130845
CREATED:20230607T152624Z
LAST-MODIFIED:20230607T152625Z
UID:1957-1686479400-1686495600@nenevalleyhog.co.uk
SUMMARY:Mystery Rideout
DESCRIPTION:Departing from Towcester McDonalds at 11:00 prompt on Sunday 11th June. Colin leading.\n\n\n\nCome and join me for an easy\, low mileage\, mystery ride\, where you can get food and a drink\, have a chat and just enjoy some gentle riding together.  \n\n\n\nI plan to leave McDonalds A43 at 11.00 and ride of approx. 35 miles (1 hour) to get to the venue\, then another 30 miles to the end of the ride. Looking at the weather for Sunday it is the only day currently showing a possibility of rain so I will keep an eye on that and will confirm Saturday evening if there are any issues. This will be announced on the Chapter Facebook page so if you do not have access to Facebook\, please ask a friend who has access to keep you notified. \n\n\n\nCheers\, Colin
URL:https://nenevalleyhog.co.uk/event/mystery-rideout/
LOCATION:McDonalds Towcester\, A43\, Towcester\, Northamptonshire\, NN12 6TQ\, United Kingdom
CATEGORIES:Ride Out
ATTACH;FMTTYPE=image/jpeg:https://nenevalleyhog.co.uk/wp-content/uploads/2023/06/motorcycle-harley-sportster-1613022.jpg
END:VEVENT
BEGIN:VEVENT
DTSTART;TZID=Europe/London:20230614T193000
DTEND;TZID=Europe/London:20230614T213000
DTSTAMP:20260422T130845
CREATED:20230508T130231Z
LAST-MODIFIED:20230508T130232Z
UID:1878-1686771000-1686778200@nenevalleyhog.co.uk
SUMMARY:Chapter Clubnight
DESCRIPTION:Our monthly chapter club night. Come and see your friends.
URL:https://nenevalleyhog.co.uk/event/chapter-clubnight-13/
LOCATION:The Walnut Tree\, 21 Station Road\, Blisworth\, Northamptonshire\, NN7 3DS\, United Kingdom
CATEGORIES:Clubnight
ATTACH;FMTTYPE=image/jpeg:https://nenevalleyhog.co.uk/wp-content/uploads/2022/12/motorcycle-harley-harley-davidson-2613296.jpg
END:VEVENT
BEGIN:VEVENT
DTSTART;TZID=Europe/London:20230616T103000
DTEND;TZID=Europe/London:20230618T120000
DTSTAMP:20260422T130845
CREATED:20230220T180228Z
LAST-MODIFIED:20230220T180229Z
UID:1793-1686911400-1687089600@nenevalleyhog.co.uk
SUMMARY:Great Western Rally - The Rumble
DESCRIPTION:We are really excited to welcome you to the Great Western Rumble at a new venue where we have arranged fantastic facilities. Here` is a taster\, for full details check the website below. \n\n\n\nOnline ticket sales close June 9\, and will be available on the gate at the Somerdale Pavilion on the day. This is a Harley Davidson Rally and is open to HOG members and guests only with first 100 tickets getting a rally pack so the earlier you buy your ticket the better the deal  \n\n\n\nFree on site camping and there is a Tarmac area for caravan and campers. There is no electric hook up. No dogs are allowed as this is a sports ground. \n\n\n\n\n\n\n\n\n\nhttp://greatwesternchapter.uk/9000-2/
URL:https://nenevalleyhog.co.uk/event/great-western-rally-the-rumble/
LOCATION:Somerdale Pavilion\, Somerdale Pavilion\, Keynsham\, Wiltshire\, BS31 2FW\, United Kingdom
CATEGORIES:Rally
ATTACH;FMTTYPE=image/jpeg:https://nenevalleyhog.co.uk/wp-content/uploads/2023/02/https-cdn.evbuc_.com-images-420259469-161445532890-1-original.20230108-130627.jpeg
END:VEVENT
BEGIN:VEVENT
DTSTART;TZID=Europe/London:20230617T100000
DTEND;TZID=Europe/London:20230617T170000
DTSTAMP:20260422T130845
CREATED:20230603T195528Z
LAST-MODIFIED:20230603T195531Z
UID:1943-1686996000-1687021200@nenevalleyhog.co.uk
SUMMARY:Foxton Locks Rideout
DESCRIPTION:Departing from Towcester McDonalds at 10am. Gary Palmer Leading.\n\n\n\nPlease join Gary on his first ride out since becoming a road captain. We will meet at McDonald’s Towcester leaving at 10.00am prompt. Our route will take us via some excellent roads shirting Market Harborough arriving at Foxton around 11.30. There are 2 pubs\, a cafe and picnic areas. Plan is to leave around 2pm heading back towards Northampton for a pit stop at the Hotel Chocolat factory cafe. Ride is weather permitting. 
URL:https://nenevalleyhog.co.uk/event/foxton-locks-rideout/
LOCATION:McDonalds Towcester\, A43\, Towcester\, Northamptonshire\, NN12 6TQ\, United Kingdom
END:VEVENT
BEGIN:VEVENT
DTSTART;TZID=Europe/London:20230622T000000
DTEND;TZID=Europe/London:20230625T235959
DTSTAMP:20260422T130845
CREATED:20221210T164548Z
LAST-MODIFIED:20221210T164637Z
UID:1508-1687392000-1687737599@nenevalleyhog.co.uk
SUMMARY:HD120 Budapest
DESCRIPTION:120th Anniversary Budapest: More than 50 acts on five stages! Don’t miss four incredible nights of entertainment\, including international headliners at the Harley-Davidson 120th Anniversary Festival in Budapest from 22-25 June\, 2023. Big Early Bird discounts of up to €20 off full price tickets and a further €10 off for H.O.G. members are available until 31 December 2022 only. H.O.G. members also get €10 off Early Bird Rally Pack and ticket combinations. This offer is available for a limited time only – so what are you waiting for?? For tickets and accommodation visit https://hd120budapest.hu/. Early Bird discount is compared to price at the gate for four day tickets\, at current HUF/€ exchange rate. \n\n\n\nDetails at; https://hd120budapest.hu/site/
URL:https://nenevalleyhog.co.uk/event/hd120-budapest/
LOCATION:Budapest\, Budapest\, Hungary
CATEGORIES:International Rally
END:VEVENT
BEGIN:VEVENT
DTSTART;TZID=Europe/London:20230625T090000
DTEND;TZID=Europe/London:20230625T130000
DTSTAMP:20260422T130845
CREATED:20230603T194611Z
LAST-MODIFIED:20230603T194612Z
UID:1938-1687683600-1687698000@nenevalleyhog.co.uk
SUMMARY:Gilks Cafe Breakfast Ride and Industry Supply
DESCRIPTION:Departing from Towcester McDonalds at 9am. Mikey Ivers leading\n\n\n\nJoin Mike for a bimble across country to Gilks Café \, ( CV35 0JZ) for breakfast\, taking in a stunning 30 mile country route\, ideal for pillions with lots of nice views. \n\n\n\nYou will be free to depart when you like but I plan to return via Industry and Supply at Weedon ( NN7 4PS) so if your heading that way would be great to ride together. As you know they now have weekly events on at Industry and Supply and its Ladies Biker Day on this day
URL:https://nenevalleyhog.co.uk/event/gilks-cafe-breakfast-ride-and-industry-supply/
LOCATION:touches
CATEGORIES:Ride Out
ATTACH;FMTTYPE=image/jpeg:https://nenevalleyhog.co.uk/wp-content/uploads/2023/06/347439230_164451319754654_3269140900728678644_n.jpg
END:VEVENT
BEGIN:VEVENT
DTSTART;TZID=Europe/London:20230626T160000
DTEND;TZID=Europe/London:20230626T220000
DTSTAMP:20260422T130845
CREATED:20230221T141620Z
LAST-MODIFIED:20230221T141621Z
UID:1813-1687795200-1687816800@nenevalleyhog.co.uk
SUMMARY:Cassington Bike Night
DESCRIPTION:Cassington Bike Night is confirmed for Monday 26th June 2023. \n\n\n\nCassington Bike Night attracts thousands of modern and classic motorcycles together with their riders (modern and classic!)\, lots of food options and a beer tent on the village green. What better way to spend a summer evening! \n\n\n\nAfter a successful return in 2022 following a two-year pandemic absence\, we are once again looking forward to welcoming bikers back to our lovely village – see you here in June. \n\n\n\nThe event kicks off from 4pm\, classic bikes can head to the village green\, with all other bikes being directed by our marshalling team to suitable parking at the school and sports fields. \n\n\n\nCar parking is available at either end of the village and is run by charities\, all donations very welcome.
URL:https://nenevalleyhog.co.uk/event/cassington-bike-night/
LOCATION:Cassington\, Cassington\, Oxfordshire\, United Kingdom
CATEGORIES:Bike Events
ATTACH;FMTTYPE=image/jpeg:https://nenevalleyhog.co.uk/wp-content/uploads/2023/02/331743791_5955881187832120_7374083805085617543_n.jpg
END:VEVENT
END:VCALENDAR