BEGIN:VCALENDAR
VERSION:2.0
PRODID:-//Nene Valley Harley Owners Group - ECPv6.15.20//NONSGML v1.0//EN
CALSCALE:GREGORIAN
METHOD:PUBLISH
X-ORIGINAL-URL:https://nenevalleyhog.co.uk
X-WR-CALDESC:Events for Nene Valley Harley Owners Group
REFRESH-INTERVAL;VALUE=DURATION:PT1H
X-Robots-Tag:noindex
X-PUBLISHED-TTL:PT1H
BEGIN:VTIMEZONE
TZID:Europe/London
BEGIN:DAYLIGHT
TZOFFSETFROM:+0000
TZOFFSETTO:+0100
TZNAME:BST
DTSTART:20220327T010000
END:DAYLIGHT
BEGIN:STANDARD
TZOFFSETFROM:+0100
TZOFFSETTO:+0000
TZNAME:GMT
DTSTART:20221030T010000
END:STANDARD
BEGIN:DAYLIGHT
TZOFFSETFROM:+0000
TZOFFSETTO:+0100
TZNAME:BST
DTSTART:20230326T010000
END:DAYLIGHT
BEGIN:STANDARD
TZOFFSETFROM:+0100
TZOFFSETTO:+0000
TZNAME:GMT
DTSTART:20231029T010000
END:STANDARD
BEGIN:DAYLIGHT
TZOFFSETFROM:+0000
TZOFFSETTO:+0100
TZNAME:BST
DTSTART:20240331T010000
END:DAYLIGHT
BEGIN:STANDARD
TZOFFSETFROM:+0100
TZOFFSETTO:+0000
TZNAME:GMT
DTSTART:20241027T010000
END:STANDARD
END:VTIMEZONE
BEGIN:VEVENT
DTSTART;TZID=Europe/London:20230304T000000
DTEND;TZID=Europe/London:20230304T120000
DTSTAMP:20260422T174414
CREATED:20230220T182250Z
LAST-MODIFIED:20230220T182251Z
UID:1805-1677888000-1677931200@nenevalleyhog.co.uk
SUMMARY:Deva Legion Breakfast Meetup
DESCRIPTION:Come on down\, talk bikes and drool over your next possible purchase!
URL:https://nenevalleyhog.co.uk/event/deva-legion-breakfast-meetup/
LOCATION:Chester Harley Davidson\, Staney Mill Lane\, Chester\, Cheshire\, United Kingdom
CATEGORIES:Bike Events
ATTACH;FMTTYPE=image/jpeg:https://nenevalleyhog.co.uk/wp-content/uploads/2023/02/47cf28c4ace54912161731c534acc0722fb37d8277fd3a00b42d522752319a7e-rimg-w960-h720-gmir.jpg
END:VEVENT
BEGIN:VEVENT
DTSTART;TZID=Europe/London:20230304T103000
DTEND;TZID=Europe/London:20230304T133000
DTSTAMP:20260422T174414
CREATED:20230220T182845Z
LAST-MODIFIED:20230220T182846Z
UID:1810-1677925800-1677936600@nenevalleyhog.co.uk
SUMMARY:New Owners Morning - Wolverhampton
DESCRIPTION:New Owners Morning  \n\n\n\nYour invite to our popular new owners morning!  \n\n\n\nYou will:* Have a presentation on cleaning\, protecting your Harley from the elements!* Advice and support with home maintenance* Guided tour of the Dealership* Local ride out with the friendly Wolfruna Chapter to sample the best about Harley ownership – group riding! \n\n\n\nYou may also like the following events from Sycamore Harley-Davidson Wolverhampton: \n\n\n\n\nThis May\, 17th May\, 04:00 pm\, Sycamore HD Bike Night in Wolverhampton\n\n\n\nThis October\, 27th October\, 02:00 pm\, Harleyween in Wolverhampton\n\n\n\n\nAlso check out other Trips & Adventurous Activities in Wolverhampton.
URL:https://nenevalleyhog.co.uk/event/new-owners-morning-wolverhampton/
LOCATION:Bucks
CATEGORIES:Bike Events
ATTACH;FMTTYPE=image/jpeg:https://nenevalleyhog.co.uk/wp-content/uploads/2023/02/1b02a85e2fdf63ad0bc2231def6452a28c5da1d83a2bd1c7901346400c1cb626-rimg-w665-h665-gmir.jpg
END:VEVENT
BEGIN:VEVENT
DTSTART;TZID=Europe/London:20230308T193000
DTEND;TZID=Europe/London:20230308T220000
DTSTAMP:20260422T174414
CREATED:20230107T172731Z
LAST-MODIFIED:20230107T172732Z
UID:1681-1678303800-1678312800@nenevalleyhog.co.uk
SUMMARY:Chapter Clubnight
DESCRIPTION:Our monthly club night at Blisworth. Come and see us and plan those future rides as the days warm up and the riding season gets into full swing.
URL:https://nenevalleyhog.co.uk/event/chapter-clubnight-10/
LOCATION:The Walnut Tree\, 21 Station Road\, Blisworth\, Northamptonshire\, NN7 3DS\, United Kingdom
CATEGORIES:Clubnight
ATTACH;FMTTYPE=image/jpeg:https://nenevalleyhog.co.uk/wp-content/uploads/2023/01/harley-davidson-motor-5194069.jpg
END:VEVENT
BEGIN:VEVENT
DTSTART;TZID=Europe/London:20230311T093000
DTEND;TZID=Europe/London:20230311T140000
DTSTAMP:20260422T174414
CREATED:20230107T142634Z
LAST-MODIFIED:20230220T180647Z
UID:1631-1678527000-1678543200@nenevalleyhog.co.uk
SUMMARY:Memorial Ride
DESCRIPTION:Departing from Towcester McDonalds at 09:30hrs. Simon Leading.\n\n\n\nOur memorial ride will be taking place on Saturday the 11th March 2023. \n\n\n\nPlease arrive at McDonalds Towcester for 09:30 to allow time for the ride breifing and to remember lost chapter members.  \n\n\n\nThe ride will leave at 09:45 prompt and we will be riding to Sycamore Harley Davidson where we will meet up with the Rutland Chapter. \n\n\n\nFollowing a short break at Sycamore\, we will hand over to the Rutland Head Road Captain\, who will lead us on a ride to Sywell Aerodrome where the ride will finish.
URL:https://nenevalleyhog.co.uk/event/memorial-ride-2/
LOCATION:McDonalds Towcester\, A43\, Towcester\, Northamptonshire\, NN12 6TQ\, United Kingdom
CATEGORIES:Ride Out
ATTACH;FMTTYPE=image/jpeg:https://nenevalleyhog.co.uk/wp-content/uploads/2023/01/loving-memory-memorial-1207568.jpg
END:VEVENT
BEGIN:VEVENT
DTSTART;TZID=Europe/London:20230311T120000
DTEND;TZID=Europe/London:20230311T140000
DTSTAMP:20260422T174414
CREATED:20230220T174424Z
LAST-MODIFIED:20230220T174426Z
UID:1782-1678536000-1678543200@nenevalleyhog.co.uk
SUMMARY:Meet Moto Girl
DESCRIPTION:ON SATURDAY 11TH MARCH WE ARE ROLLING OUT THE RED CARPET!  \n\n\n\nEllen\, Co-founder from Moto Girl will be visiting our store and hosting a talk at our store on Saturday 11th March\, between 12pm and 2pm! \n\n\n\nThis is your chance to take advantage of in store offers (for another weekend!) as well as hear all about the brand and their exciting future plans! \n\n\n\nThe response we have had for stocking this range has been fantastic and we can’t wait to welcome Ellen to our store\, with support from the amazing @midlandsmotorbikers gang! Midlands Motorbikers Thank you guys! \n\n\n\nMore details on the event will be released nearer the time\, comment below if you are looking to attend and tag all your friends!! \n\n\n\nMotoGirl@motogirluk#riderchick#riderchicks \n\n\n\n#motogirl#Louise#motorcyclejacket#girlsonbikes#bikergirls#bikergirl#motorcycleladies#womenonbikes#womcn#girlonbikesclub#northampton#bikegirl#girlrider#femalerider#femalemotorbiker#femalemotorcyclist
URL:https://nenevalleyhog.co.uk/event/meet-moto-girl/
LOCATION:Bucks
CATEGORIES:Bike Events
ATTACH;FMTTYPE=image/jpeg:https://nenevalleyhog.co.uk/wp-content/uploads/2023/02/329713853_880488606533905_1474922907228704457_n.jpg
END:VEVENT
END:VCALENDAR