BEGIN:VCALENDAR
VERSION:2.0
PRODID:-//Nene Valley Harley Owners Group - ECPv6.15.20//NONSGML v1.0//EN
CALSCALE:GREGORIAN
METHOD:PUBLISH
X-ORIGINAL-URL:https://nenevalleyhog.co.uk
X-WR-CALDESC:Events for Nene Valley Harley Owners Group
REFRESH-INTERVAL;VALUE=DURATION:PT1H
X-Robots-Tag:noindex
X-PUBLISHED-TTL:PT1H
BEGIN:VTIMEZONE
TZID:Europe/London
BEGIN:DAYLIGHT
TZOFFSETFROM:+0000
TZOFFSETTO:+0100
TZNAME:BST
DTSTART:20210328T010000
END:DAYLIGHT
BEGIN:STANDARD
TZOFFSETFROM:+0100
TZOFFSETTO:+0000
TZNAME:GMT
DTSTART:20211031T010000
END:STANDARD
BEGIN:DAYLIGHT
TZOFFSETFROM:+0000
TZOFFSETTO:+0100
TZNAME:BST
DTSTART:20220327T010000
END:DAYLIGHT
BEGIN:STANDARD
TZOFFSETFROM:+0100
TZOFFSETTO:+0000
TZNAME:GMT
DTSTART:20221030T010000
END:STANDARD
BEGIN:DAYLIGHT
TZOFFSETFROM:+0000
TZOFFSETTO:+0100
TZNAME:BST
DTSTART:20230326T010000
END:DAYLIGHT
BEGIN:STANDARD
TZOFFSETFROM:+0100
TZOFFSETTO:+0000
TZNAME:GMT
DTSTART:20231029T010000
END:STANDARD
END:VTIMEZONE
BEGIN:VEVENT
DTSTART;TZID=Europe/London:20220309T193000
DTEND;TZID=Europe/London:20220309T213000
DTSTAMP:20260425T134934
CREATED:20220211T142725Z
LAST-MODIFIED:20220211T142731Z
UID:1194-1646854200-1646861400@nenevalleyhog.co.uk
SUMMARY:Clubnight
DESCRIPTION:Our monthly club night at Towcester mill
URL:https://nenevalleyhog.co.uk/event/clubnight/
LOCATION:Towcester Mill\, Chantry Lane\, Towcester\, Northamptonshire\, NN12 6YY\, United Kingdom
CATEGORIES:Clubnight
END:VEVENT
BEGIN:VEVENT
DTSTART;TZID=Europe/London:20220319T093000
DTEND;TZID=Europe/London:20220319T120000
DTSTAMP:20260425T134934
CREATED:20220228T150510Z
LAST-MODIFIED:20220228T150515Z
UID:1232-1647682200-1647691200@nenevalleyhog.co.uk
SUMMARY:Breakfast Meet
DESCRIPTION:I am trying a different venue this time with a more personal touch to the cooking and service. For this visit there are only two choices to choose from\, but this may change if the visit proves successful. I need to know names of who will be coming and your choice of breakfast before 12th March please as they will be getting the food in just for us. Menu choices:Full English breakfast:- two rashers of rindless back bacon\, two Lashfords champion sausages\, grilled cherry vine tomatoes\, sauté potatoes\, a field mushroom \, beans \, slice of white toast \, spiced french crumpet & a fried local free range egg.Veggie breakfast Two veggi sausage \, grilled cherry vine tomatoes. A slice of white toast\, 2 field mushrooms \, 2 spiced french crumpets \, sauté potatoes\, beans & if required a fried local free range egg.to accompany your breakfast choose of tea coffee or fresh orange juice with a free refill £10.CheersSimon
URL:https://nenevalleyhog.co.uk/event/breakfast-meet/
LOCATION:The Bull\, Towcester\, The Bull\, Brackley Road\, Towcester\, NN12 6DH\, United Kingdom
CATEGORIES:Social Event
END:VEVENT
BEGIN:VEVENT
DTSTART;TZID=Europe/London:20220326T100000
DTEND;TZID=Europe/London:20220326T150000
DTSTAMP:20260425T134934
CREATED:20220211T135832Z
LAST-MODIFIED:20220321T174136Z
UID:1176-1648288800-1648306800@nenevalleyhog.co.uk
SUMMARY:Memorial Ride
DESCRIPTION:Martin (So Bad) leading. Departing from Towcester McDonalds at 10:00am. \n\n\n\nOur annual memorial ride to remember those who no longer ride at our side.  \n\n\n\nMartin will be leading our Memorial Ride leaving from McDonalds\, A43 in Towcester at 10.00.We will be riding on a pleasant scenic route to Uppingham where we will be meeting Rutland Chapter for a joint bimble somewhere.It’ll be great to see you all there for our inaugural ride of the season.Hugs to all and safe riding
URL:https://nenevalleyhog.co.uk/event/memorial-ride/
LOCATION:McDonalds Towcester\, A43\, Towcester\, Northamptonshire\, NN12 6TQ\, United Kingdom
CATEGORIES:Ride Out
END:VEVENT
BEGIN:VEVENT
DTSTART;TZID=Europe/London:20220329T180000
DTEND;TZID=Europe/London:20220329T210000
DTSTAMP:20260425T134935
CREATED:20220321T170335Z
LAST-MODIFIED:20220321T170336Z
UID:1250-1648576800-1648587600@nenevalleyhog.co.uk
SUMMARY:Cave Cultura Bike Night
DESCRIPTION:Departing from Towcester McDonalds at 6pm \n\n\n\nA short ride to a new venue. Leaving McDonald’s Towcester at 6pm
URL:https://nenevalleyhog.co.uk/event/cave-cultura-bike-night/
LOCATION:McDonalds Towcester\, A43\, Towcester\, Northamptonshire\, NN12 6TQ\, United Kingdom
CATEGORIES:Ride Out
END:VEVENT
END:VCALENDAR