BEGIN:VCALENDAR
VERSION:2.0
PRODID:-//Nene Valley Harley Owners Group - ECPv6.15.20//NONSGML v1.0//EN
CALSCALE:GREGORIAN
METHOD:PUBLISH
X-ORIGINAL-URL:https://nenevalleyhog.co.uk
X-WR-CALDESC:Events for Nene Valley Harley Owners Group
REFRESH-INTERVAL;VALUE=DURATION:PT1H
X-Robots-Tag:noindex
X-PUBLISHED-TTL:PT1H
BEGIN:VTIMEZONE
TZID:Europe/London
BEGIN:DAYLIGHT
TZOFFSETFROM:+0000
TZOFFSETTO:+0100
TZNAME:BST
DTSTART:20210328T010000
END:DAYLIGHT
BEGIN:STANDARD
TZOFFSETFROM:+0100
TZOFFSETTO:+0000
TZNAME:GMT
DTSTART:20211031T010000
END:STANDARD
BEGIN:DAYLIGHT
TZOFFSETFROM:+0000
TZOFFSETTO:+0100
TZNAME:BST
DTSTART:20220327T010000
END:DAYLIGHT
BEGIN:STANDARD
TZOFFSETFROM:+0100
TZOFFSETTO:+0000
TZNAME:GMT
DTSTART:20221030T010000
END:STANDARD
BEGIN:DAYLIGHT
TZOFFSETFROM:+0000
TZOFFSETTO:+0100
TZNAME:BST
DTSTART:20230326T010000
END:DAYLIGHT
BEGIN:STANDARD
TZOFFSETFROM:+0100
TZOFFSETTO:+0000
TZNAME:GMT
DTSTART:20231029T010000
END:STANDARD
END:VTIMEZONE
BEGIN:VEVENT
DTSTART;TZID=Europe/London:20220208T100000
DTEND;TZID=Europe/London:20220208T140000
DTSTAMP:20260425T151638
CREATED:20220207T204002Z
LAST-MODIFIED:20220207T204005Z
UID:1154-1644314400-1644328800@nenevalleyhog.co.uk
SUMMARY:Richard Wilson's Funeral
DESCRIPTION:For those wishing to attend the Organ Grinder\, Richard Wilsons funeral\, could we please meet at McDonalds Towcester at 10:00am for a 10:15am departure ( prompt!!) to go to Richards house. After the service we are all welcome to attend the wake. All the bikes are to be ridden in front of the hearse\, with Colin leading from the house. I will be following the hearse on Richards bike\, followed by the family limousine.  \n\n\n\nCheersMikey
URL:https://nenevalleyhog.co.uk/event/richard-wilsons-funeral/
LOCATION:McDonalds Towcester\, A43\, Towcester\, Northamptonshire\, NN12 6TQ\, United Kingdom
CATEGORIES:Social Event
END:VEVENT
BEGIN:VEVENT
DTSTART;TZID=Europe/London:20220209T193000
DTEND;TZID=Europe/London:20220209T220000
DTSTAMP:20260425T151638
CREATED:20220124T214829Z
LAST-MODIFIED:20220207T203521Z
UID:1137-1644435000-1644444000@nenevalleyhog.co.uk
SUMMARY:Clubnight and Biker Down
DESCRIPTION:Our monthly club night at the Towcester brewery. Hopefully\, the biker down course that Mike has been trying to arrange for February club night will now go ahead. I have tried to give a start time of around 7.30 so we can tie up the committee meeting first.I would hope that we can use our normal meeting room so everyone is involved but if we want to keep it separate perhaps we could hold it upstairs in the party room then people can choose.It has come round a bit suddenly as it was only re-arranged a week ago so I hope it works out. So far 17 people have indicated they are coming and I expect a few more.Scott\, could you still add it to the web site\, sorry\, I know it’s late in the day. Can’t say I know the format or length of the course as so far I have only had a brief conversation with the instructor who has been working nights.I’m sure it will work out somehow.
URL:https://nenevalleyhog.co.uk/event/1137/
LOCATION:Towcester Mill\, Chantry Lane\, Towcester\, Northamptonshire\, NN12 6YY\, United Kingdom
CATEGORIES:Clubnight
ATTACH;FMTTYPE=image/jpeg:https://nenevalleyhog.co.uk/wp-content/uploads/2022/01/biker-harley-harley-davidson-2572586.jpg
END:VEVENT
BEGIN:VEVENT
DTSTART;TZID=Europe/London:20220211T000000
DTEND;TZID=Europe/London:20220213T235959
DTSTAMP:20260425T151638
CREATED:20220207T204528Z
LAST-MODIFIED:20220207T204532Z
UID:1157-1644537600-1644796799@nenevalleyhog.co.uk
SUMMARY:London Motorcycle Show
DESCRIPTION:The 2022 Carole Nash MCN London Motorcycle Show returns to ExCeL this 11-13 Feb for an unmissable biking weekend. \n\n\n\nWith everything from the latest bikes and launches from manufacturers\, an exclusive Rossi tribute\, deals on kit\, bike fire-ups\, racing action and SO much more! \n\n\n\nCelebrating RossiIn tribute to the legendary Valentino Rossi and his incredible career in MotoGP there will be a display of his championship winning machines and exclusive interviews with the people who helped shape his success. It’s a rare and exclusive chance to see these bikes all under one roof and a must-see for any fans of the nine-time world champion. \n\n\n\nExclusive! See the new Ducati DesertX revealed at the London showSee all the important new bikes in London including 2022 models revealed live and exclusive at the show. \n\n\n\nBe inspired for adventure!Nathan Millward hosts the Travel and Adventure stage – visitors will have the chance to meet a mix of inspirational travellers and pick up tons of practical advice. \n\n\n\nGet yourself kitted out for the seasonAll the biggest clothing\, kit and accessory brands will be at the show. From technologically advanced race leathers to branded casual clothing. Bag a bargain from London’s biggest motorcycle shop – it’s on for one weekend only! \n\n\n\nSee the World’s coolest customsBuilt magazine will be bringing a jaw dropping collection of the latest machines from Europe’s premier custom shops. There’ll be over a dozen bikes on display\, expect the very best bikes from the biggest names in the business. \n\n\n\nClassics auctionSilverstone Auctions will be running a huge auction at the show on Saturday afternoon. With a wide-ranging selection of over 100 bikes from pre-war to modern machinery there’ll be something for every pocket. The star lot of the auction is a 1936 Brough Superior SS80 expected to reach over £50K  \n\n\n\nThrills and spills in the live action showThe biggest and best live action is back! PLUS a new circuit layout that guarantees even closer racing. \n\n\n\nRoads legends and team captains John McGuinness and Peter Hickman will be fighting it out in the all-new ‘King of the Roads’ live action racing that takes place at the heart of the London show. Featuring a new TT course that includes a technical section and a jump\, the racing will be fast paced and as packed with action as the real TT course as these two top class riders and their teams shoot it out for the title of ‘King of the Roads’.  \n\n\n\nBook a Paddock Pass and get the ultimate show experience. A Paddock Pass includes day entry into the show PLUS a grandstand seat for the live action race of your choice AND the chance to meet the riders in the paddock area for backstage banter and signings\, you’ll also get a limited-edition Rossi souvenir magazine worth £9.99 (whilst stocks last).
URL:https://nenevalleyhog.co.uk/event/london-motorcycle-show/
CATEGORIES:Bike Events
END:VEVENT
BEGIN:VEVENT
DTSTART;TZID=Europe/London:20220219T093000
DTEND;TZID=Europe/London:20220219T120000
DTSTAMP:20260425T151638
CREATED:20220124T214325Z
LAST-MODIFIED:20220216T104150Z
UID:1134-1645263000-1645272000@nenevalleyhog.co.uk
SUMMARY:Nene Valley Brekkie
DESCRIPTION:Three additional spaces now available! Contact Simon if you are interested.\n\n\n\nactivities@nenevalleyhog.co.uk \n\n\n\nFancy a breakfast at an American diner? Come along to the 81 Diner London Road\, Northampton. NN4 0LY just off junction 15 of the M1 on Saturday 19th February @ 09:30.If you want to join us for breakfast please let me know ASAP so I can confirm numbers with the Diner. I have reservations for 25Attendance on your bike is optional.
URL:https://nenevalleyhog.co.uk/event/nene-valley-brekkie/
LOCATION:81 Hamburger Heaven\, London Road Northampton\, Northampton\, Northants\, NN4 0LY\, United Kingdom
CATEGORIES:Social Event
END:VEVENT
END:VCALENDAR