BEGIN:VCALENDAR
VERSION:2.0
PRODID:-//Nene Valley Harley Owners Group - ECPv6.15.20//NONSGML v1.0//EN
CALSCALE:GREGORIAN
METHOD:PUBLISH
X-WR-CALNAME:Nene Valley Harley Owners Group
X-ORIGINAL-URL:https://nenevalleyhog.co.uk
X-WR-CALDESC:Events for Nene Valley Harley Owners Group
REFRESH-INTERVAL;VALUE=DURATION:PT1H
X-Robots-Tag:noindex
X-PUBLISHED-TTL:PT1H
BEGIN:VTIMEZONE
TZID:Europe/London
BEGIN:DAYLIGHT
TZOFFSETFROM:+0000
TZOFFSETTO:+0100
TZNAME:BST
DTSTART:20250330T010000
END:DAYLIGHT
BEGIN:STANDARD
TZOFFSETFROM:+0100
TZOFFSETTO:+0000
TZNAME:GMT
DTSTART:20251026T010000
END:STANDARD
BEGIN:DAYLIGHT
TZOFFSETFROM:+0000
TZOFFSETTO:+0100
TZNAME:BST
DTSTART:20260329T010000
END:DAYLIGHT
BEGIN:STANDARD
TZOFFSETFROM:+0100
TZOFFSETTO:+0000
TZNAME:GMT
DTSTART:20261025T010000
END:STANDARD
BEGIN:DAYLIGHT
TZOFFSETFROM:+0000
TZOFFSETTO:+0100
TZNAME:BST
DTSTART:20270328T010000
END:DAYLIGHT
BEGIN:STANDARD
TZOFFSETFROM:+0100
TZOFFSETTO:+0000
TZNAME:GMT
DTSTART:20271031T010000
END:STANDARD
END:VTIMEZONE
BEGIN:VEVENT
DTSTART;TZID=Europe/London:20260424T170000
DTEND;TZID=Europe/London:20260424T200000
DTSTAMP:20260424T031234
CREATED:20260304T172936Z
LAST-MODIFIED:20260304T172940Z
UID:4338-1777050000-1777060800@nenevalleyhog.co.uk
SUMMARY:Refuel Cafe Bike Night
DESCRIPTION:Refuel cafe is within Motorcycle world in Northampton. A dealership of Honda and Indian\, some clothing and parts. Bike night is on\, weather permitting. \n\n\n\nmotorcycle-world.co.uk
URL:https://nenevalleyhog.co.uk/event/refuel-cafe-bike-night/
LOCATION:Motorcycle world\, Quorn Way Grafton Trade Park Unit 3\, Northampton\, Northants\, NN1 2PN\, United Kingdom
CATEGORIES:Bike Events
ATTACH;FMTTYPE=image/jpeg:https://nenevalleyhog.co.uk/wp-content/uploads/2026/03/images-8.jpeg
END:VEVENT
BEGIN:VEVENT
DTSTART;TZID=Europe/London:20260424T170000
DTEND;TZID=Europe/London:20260424T210000
DTSTAMP:20260424T031234
CREATED:20260324T182259Z
LAST-MODIFIED:20260324T182302Z
UID:4683-1777050000-1777064400@nenevalleyhog.co.uk
SUMMARY:Motorcycle World Bike Night
DESCRIPTION:1 MONTH TO GO- Until our first Bike night of the year\, here at Motorcycle World\, Northampton!  \n\n\n\n Friday 24th April \n\n\n\n Location: Motorcycle World\, Northampton NN1 2PN \n\n\n\n 5:00pm- 9:00pm \n\n\n\nWhether you ride\, admire\, or just love the atmosphere—this is the night for bikers and bike lovers alike! \n\n\n\nWe know you’ll be peckish after work so our café will be open and like last time\, to ease you into the weekend\, a live band will be performing too!  \n\n\n\n Spread the word\, bring your mates\, and let’s make it a night to remember! \n\n\n\nAll bikes welcome\, our friendly team look forward to meeting you all! \n\n\n\nFacebook Event link in Bio – Let us know if you can join! \n\n\n\n@hondaukmotorcycles \n\n\n\n#BikeNight#MotorcycleWorld#NorthamptonBikers#RideTogether@hondaukmotorcycles
URL:https://nenevalleyhog.co.uk/event/motorcycle-world-bike-night/
LOCATION:Motorcycle world\, Quorn Way Grafton Trade Park Unit 3\, Northampton\, Northants\, NN1 2PN\, United Kingdom
CATEGORIES:Bike Events
ATTACH;FMTTYPE=image/jpeg:https://nenevalleyhog.co.uk/wp-content/uploads/2026/03/657407812_1341690594646388_3851168407155508031_n.jpg
END:VEVENT
BEGIN:VEVENT
DTSTART;TZID=Europe/London:20260424T170000
DTEND;TZID=Europe/London:20260424T210000
DTSTAMP:20260424T031234
CREATED:20260403T210130Z
LAST-MODIFIED:20260403T210135Z
UID:4714-1777050000-1777064400@nenevalleyhog.co.uk
SUMMARY:Hook Norton Bike Night
DESCRIPTION:HOOK NORTON BIKE NIGHTS � \n\n\n\nWe’re BACK — once a month all season long �Dates are already set… stick them in your calendar now before you forget � \n\n\n\nSet around the iconic Hook Norton Brewery (brewing since 1849 �)\, this place is unreal — proper Victorian backdrop\, surrounded by dreamy Cotswold twisties that were made for bikes. \n\n\n\nRide in\, chill out\, soak it all in… this one’s a must \n\n\n\nhttps://www.facebook.com/events/1324759816139425
URL:https://nenevalleyhog.co.uk/event/hook-norton-bike-night/
LOCATION:Hook Norton Brewery\, 47 Parsons Street\, Banbury\, Oxfordshire\, United Kingdom
CATEGORIES:Bike Events
ATTACH;FMTTYPE=image/jpeg:https://nenevalleyhog.co.uk/wp-content/uploads/2026/04/651268313_940954598510155_2651810459708092918_n.jpg
END:VEVENT
END:VCALENDAR