BEGIN:VCALENDAR
VERSION:2.0
PRODID:-//Nene Valley Harley Owners Group - ECPv6.15.20//NONSGML v1.0//EN
CALSCALE:GREGORIAN
METHOD:PUBLISH
X-WR-CALNAME:Nene Valley Harley Owners Group
X-ORIGINAL-URL:https://nenevalleyhog.co.uk
X-WR-CALDESC:Events for Nene Valley Harley Owners Group
REFRESH-INTERVAL;VALUE=DURATION:PT1H
X-Robots-Tag:noindex
X-PUBLISHED-TTL:PT1H
BEGIN:VTIMEZONE
TZID:Europe/London
BEGIN:DAYLIGHT
TZOFFSETFROM:+0000
TZOFFSETTO:+0100
TZNAME:BST
DTSTART:20250330T010000
END:DAYLIGHT
BEGIN:STANDARD
TZOFFSETFROM:+0100
TZOFFSETTO:+0000
TZNAME:GMT
DTSTART:20251026T010000
END:STANDARD
BEGIN:DAYLIGHT
TZOFFSETFROM:+0000
TZOFFSETTO:+0100
TZNAME:BST
DTSTART:20260329T010000
END:DAYLIGHT
BEGIN:STANDARD
TZOFFSETFROM:+0100
TZOFFSETTO:+0000
TZNAME:GMT
DTSTART:20261025T010000
END:STANDARD
BEGIN:DAYLIGHT
TZOFFSETFROM:+0000
TZOFFSETTO:+0100
TZNAME:BST
DTSTART:20270328T010000
END:DAYLIGHT
BEGIN:STANDARD
TZOFFSETFROM:+0100
TZOFFSETTO:+0000
TZNAME:GMT
DTSTART:20271031T010000
END:STANDARD
END:VTIMEZONE
BEGIN:VEVENT
DTSTART;TZID=Europe/London:20260423T173000
DTEND;TZID=Europe/London:20260423T193000
DTSTAMP:20260423T013452
CREATED:20260323T163816Z
LAST-MODIFIED:20260323T163819Z
UID:4664-1776965400-1776972600@nenevalleyhog.co.uk
SUMMARY:Braybrooke Brewery Bike Night
DESCRIPTION:BIKE NIGHTS ARE BACK!  \n\n\n\nAfter a long\, cold\, VERY wet winter… it’s finally time to get the bikes out and bring the vibes back!  \n\n\n\nWe’re kicking off the season with not one… but TWO weekly bike nights running right through to the end of September! \n\n\n\n Stoney Cove – Starting 31st March (Tuesdays) \n\n\n\n Braybrooke Brewery – Starting 2nd April (Thursdays) \n\n\n\nFrom April onwards we’ll be running: \n\n\n\n Every Tuesday – Stoney Cove \n\n\n\n Every Thursday – Braybrooke Brewery \n\n\n\nAll the way until the end of the season in September! \n\n\n\nExpect: \n\n\n\n Great bikes \n\n\n\n Good people \n\n\n\n Proper biker atmosphere \n\n\n\n Food & drinks flowing \n\n\n\n Summer evening rides \n\n\n\nWe’re also working behind the scenes on some fresh merchandise drops  \n\n\n\nNew hoodies\, new T-shirts\, different designs — something for everyone who comes down and supports the nights. Stay tuned… you’ll want to get your hands on these! \n\n\n\nFurther details can be found here: https://www.facebook.com/groups/2051244288490906/user/100077868710159/
URL:https://nenevalleyhog.co.uk/event/braybrooke-brewery-bike-night/
LOCATION:Braybrook Farm\, Harborough Road\, Market Harborough\, Leicestershire\, LE16 8LJ\, United Kingdom
CATEGORIES:Bike Events
ATTACH;FMTTYPE=image/jpeg:https://nenevalleyhog.co.uk/wp-content/uploads/2026/03/637516792_922154360390179_8874472888228099201_n.jpg
END:VEVENT
BEGIN:VEVENT
DTSTART;TZID=Europe/London:20260423T193000
DTEND;TZID=Europe/London:20260423T200000
DTSTAMP:20260423T013452
CREATED:20260320T173439Z
LAST-MODIFIED:20260320T173442Z
UID:4522-1776972600-1776974400@nenevalleyhog.co.uk
SUMMARY:Bike Night Season Opener - Lowndes Arms
DESCRIPTION:Bikes\, Beers and Burgers a go.
URL:https://nenevalleyhog.co.uk/event/bike-night-season-opener-lowndes-arms/
LOCATION:Lowndes Arms\, 4 High Street\, Whaddon\, Bucks\, MK17 0NA\, United Kingdom
CATEGORIES:Bike Events
ATTACH;FMTTYPE=image/jpeg:https://nenevalleyhog.co.uk/wp-content/uploads/2026/03/652455968_122196735488530289_6304686009937244664_n.jpg
END:VEVENT
END:VCALENDAR