BEGIN:VCALENDAR
VERSION:2.0
PRODID:-//Nene Valley Harley Owners Group - ECPv6.15.20//NONSGML v1.0//EN
CALSCALE:GREGORIAN
METHOD:PUBLISH
X-WR-CALNAME:Nene Valley Harley Owners Group
X-ORIGINAL-URL:https://nenevalleyhog.co.uk
X-WR-CALDESC:Events for Nene Valley Harley Owners Group
REFRESH-INTERVAL;VALUE=DURATION:PT1H
X-Robots-Tag:noindex
X-PUBLISHED-TTL:PT1H
BEGIN:VTIMEZONE
TZID:Europe/London
BEGIN:DAYLIGHT
TZOFFSETFROM:+0000
TZOFFSETTO:+0100
TZNAME:BST
DTSTART:20220327T010000
END:DAYLIGHT
BEGIN:STANDARD
TZOFFSETFROM:+0100
TZOFFSETTO:+0000
TZNAME:GMT
DTSTART:20221030T010000
END:STANDARD
BEGIN:DAYLIGHT
TZOFFSETFROM:+0000
TZOFFSETTO:+0100
TZNAME:BST
DTSTART:20230326T010000
END:DAYLIGHT
BEGIN:STANDARD
TZOFFSETFROM:+0100
TZOFFSETTO:+0000
TZNAME:GMT
DTSTART:20231029T010000
END:STANDARD
BEGIN:DAYLIGHT
TZOFFSETFROM:+0000
TZOFFSETTO:+0100
TZNAME:BST
DTSTART:20240331T010000
END:DAYLIGHT
BEGIN:STANDARD
TZOFFSETFROM:+0100
TZOFFSETTO:+0000
TZNAME:GMT
DTSTART:20241027T010000
END:STANDARD
END:VTIMEZONE
BEGIN:VEVENT
DTSTART;TZID=Europe/London:20230831T130000
DTEND;TZID=Europe/London:20230903T130000
DTSTAMP:20260422T083039
CREATED:20230103T173131Z
LAST-MODIFIED:20230103T173133Z
UID:1620-1693486800-1693746000@nenevalleyhog.co.uk
SUMMARY:Circus Maximus 2023 Rally
DESCRIPTION:Circus Maximus: The Rally In The Valley\n\n\n\nEarly Bird Tickets can be purchased here. \n\n\n\nIncluded in the £49.50 ticket price: \n\n\n\n\nThree evenings of great entertainment.\n\n\n\nA ‘Ladies of Harley’ event.\n\n\n\nCamping on site for tents\, motorhomes and caravans.\n\n\n\nA Custom Bike Show\n\n\n\n…plus great ride-outs around beautiful North Wales!\n\n\n\n\nT-shirts are available at an additional cost of £15\, you can order when you buy your rally ticket. \n\n\n\nGlamping Packages are available\, the package includes: \n\n\n\n\nA tent\, already pitched for you when you arrive at the rally.\n\n\n\nClose proximity to the main pavilion\, with showers and toilets.\n\n\n\nYour bedding\, pillows and a torch.\n\n\n\n\nSet in the beautiful River Dee Valley in Llangollen\, North Wales our rally is held in the International Pavilion – it is one of the best rally locations in the UK!   \n\n\n\nLOCATION\n\n\n\nLlangollen Pavilion\, Abbey Road\, Llangollen\, Denbighshire LL20 8SW
URL:https://nenevalleyhog.co.uk/event/circus-maximus-2023-rally/
LOCATION:Llangollen Pavilion\, Abbey Road\, Llangollen\, Denbighshire\, LL20 8SW\, United Kingdom
CATEGORIES:Rally
ATTACH;FMTTYPE=image/jpeg:https://nenevalleyhog.co.uk/wp-content/uploads/2023/01/CM23-First-FB-Post.png-1024x576-1.jpg
END:VEVENT
BEGIN:VEVENT
DTSTART;TZID=Europe/London:20230901T000000
DTEND;TZID=Europe/London:20230903T235959
DTSTAMP:20260422T083039
CREATED:20230816T203637Z
LAST-MODIFIED:20230816T203637Z
UID:2049-1693526400-1693785599@nenevalleyhog.co.uk
SUMMARY:Orval Rally
DESCRIPTION:https://www.facebook.com/profile.php?id=100063575707626
URL:https://nenevalleyhog.co.uk/event/orval-rally/
LOCATION:Bucks
CATEGORIES:International Rally,Rally
END:VEVENT
END:VCALENDAR