BEGIN:VCALENDAR
VERSION:2.0
PRODID:-//Nene Valley Harley Owners Group - ECPv6.15.20//NONSGML v1.0//EN
CALSCALE:GREGORIAN
METHOD:PUBLISH
X-ORIGINAL-URL:https://nenevalleyhog.co.uk
X-WR-CALDESC:Events for Nene Valley Harley Owners Group
REFRESH-INTERVAL;VALUE=DURATION:PT1H
X-Robots-Tag:noindex
X-PUBLISHED-TTL:PT1H
BEGIN:VTIMEZONE
TZID:Europe/London
BEGIN:DAYLIGHT
TZOFFSETFROM:+0000
TZOFFSETTO:+0100
TZNAME:BST
DTSTART:20220327T010000
END:DAYLIGHT
BEGIN:STANDARD
TZOFFSETFROM:+0100
TZOFFSETTO:+0000
TZNAME:GMT
DTSTART:20221030T010000
END:STANDARD
BEGIN:DAYLIGHT
TZOFFSETFROM:+0000
TZOFFSETTO:+0100
TZNAME:BST
DTSTART:20230326T010000
END:DAYLIGHT
BEGIN:STANDARD
TZOFFSETFROM:+0100
TZOFFSETTO:+0000
TZNAME:GMT
DTSTART:20231029T010000
END:STANDARD
BEGIN:DAYLIGHT
TZOFFSETFROM:+0000
TZOFFSETTO:+0100
TZNAME:BST
DTSTART:20240331T010000
END:DAYLIGHT
BEGIN:STANDARD
TZOFFSETFROM:+0100
TZOFFSETTO:+0000
TZNAME:GMT
DTSTART:20241027T010000
END:STANDARD
END:VTIMEZONE
BEGIN:VEVENT
DTSTART;TZID=Europe/London:20230825T000000
DTEND;TZID=Europe/London:20230828T235959
DTSTAMP:20260422T100816
CREATED:20221210T163522Z
LAST-MODIFIED:20221210T163523Z
UID:1503-1692921600-1693267199@nenevalleyhog.co.uk
SUMMARY:Thunder in the Glens
DESCRIPTION:The first Dunedin Chapter Rally was held in 1997. Apart from one year\, it has been held in Aviemore on the last weekend in August. It is run by the Dunedin HOG Chapter in partnership with Edinburgh Harley-Davidson\, Dunedin’s sponsoring dealership. During the weekend\, the rally attracts over 10\,000 visitors to the Aviemore and Speyside area. Year on year the Rally has grown from strength to strength and attracts headline acts and local entertainers. They work with the local community to put on what has been described as the best Chapter run HOG Rally in Europe. \n\n\n\nTo find out more\, visit their website at; https://www.dunedinhog.com/titg?fbclid=IwAR2FuW9EnBn0SWLaj4piYTzDBNJHDQQWXg9T0p8FM9xziC_KpA6WNv9K4l0
URL:https://nenevalleyhog.co.uk/event/thunder-in-the-glens-2/
LOCATION:Highland Resort\, Aviemore PH22 1PN\, PH22 1PN\, United Kingdom
CATEGORIES:Rally
ATTACH;FMTTYPE=image/png:https://nenevalleyhog.co.uk/wp-content/uploads/2022/12/main-logos.png
END:VEVENT
BEGIN:VEVENT
DTSTART;TZID=Europe/London:20230827T093000
DTEND;TZID=Europe/London:20230827T150000
DTSTAMP:20260422T100816
CREATED:20230603T202335Z
LAST-MODIFIED:20230710T161642Z
UID:1954-1693128600-1693148400@nenevalleyhog.co.uk
SUMMARY:The Picnic Ride (aka Gloria's dangle and dip)
DESCRIPTION:Departing from Towcester McDonalds at 09:30. Mike Wakelin leading\n\n\n\nThis ride is now to join our own Nene Valley Secretary\, Steve Whatmore\, (Gloria) who has been nominated by family to do a 300ft bungee jump to celebrate his 70th (yes 70th) birthday. It’s not my idea of a way to celebrate anything\, let alone becoming a septuagenarian\, but as ever he’s more than up for it.So\, my original picnic ride has been re-planned to join him at Bray Lake between Maidenhead and Windsor on the A308.The ride will leave MacDonalds\, Towcester at 9.30 for what will be a busy ride down the A43\, A41\, A413\, A355 & A308. These are all main roads and we will be passing through Aylesbury and Slough so KEEPING UP will be essential as there are traffic lights and lots of Joe Public out to split us up. Bray lake are allowing us to park right up by the event site and use their facilities which are limited but clean. They do have a small family run cafe / coffee bar but they can be a tad slow and might struggle if we all hit them together so I would suggest sandwiches and a flask but I would still encourage everyone to try and purchase something if possible as a thank you. Steve’s jump is timed for 2.00pm but we’re leaving early enough to cope with traffic\, a stop and be able to get settled prior to the event. On the way down we will have to ride for around an hour and a half before we stop at Beaconsfield services at the M40 where we can all have a pee and top up on any grub or drinks. There is NO NEED to fill with fuel as we will do that prior to entering the site.We will leave around 2.30 -2.45 (or as dictated by the jump) for a faster ride home up the M308\, M404 and M40. The ride will finish at Baynards Green services on the A43. Distance will be around 80 miles there and less back. Steve’s jump will go ahead in the rain but not strong wind. The ride will be pretty much weather dependant as it won’t be much fun for us in the wet so keep an eye on the Facebook page and emails etc.Steve is setting up a just giving page and I’m sure will accept donations on the day that will go to Ride to Give and MacMillan.Don’t forget that this ride is one of the Landmark challenge rides.Hope to see you all there. Any questions get in touch.Mike Wakelin.
URL:https://nenevalleyhog.co.uk/event/the-picnic-ride-aka-glorias-dangle-and-dip/
LOCATION:McDonalds Towcester\, A43\, Towcester\, Northamptonshire\, NN12 6TQ\, United Kingdom
CATEGORIES:Ride Out
ATTACH;FMTTYPE=image/jpeg:https://nenevalleyhog.co.uk/wp-content/uploads/2023/06/348479934_753850173146063_4414013845210532642_n.jpg
END:VEVENT
END:VCALENDAR