BEGIN:VCALENDAR
VERSION:2.0
PRODID:-//Nene Valley Harley Owners Group - ECPv6.15.20//NONSGML v1.0//EN
CALSCALE:GREGORIAN
METHOD:PUBLISH
X-WR-CALNAME:Nene Valley Harley Owners Group
X-ORIGINAL-URL:https://nenevalleyhog.co.uk
X-WR-CALDESC:Events for Nene Valley Harley Owners Group
REFRESH-INTERVAL;VALUE=DURATION:PT1H
X-Robots-Tag:noindex
X-PUBLISHED-TTL:PT1H
BEGIN:VTIMEZONE
TZID:Europe/London
BEGIN:DAYLIGHT
TZOFFSETFROM:+0000
TZOFFSETTO:+0100
TZNAME:BST
DTSTART:20220327T010000
END:DAYLIGHT
BEGIN:STANDARD
TZOFFSETFROM:+0100
TZOFFSETTO:+0000
TZNAME:GMT
DTSTART:20221030T010000
END:STANDARD
BEGIN:DAYLIGHT
TZOFFSETFROM:+0000
TZOFFSETTO:+0100
TZNAME:BST
DTSTART:20230326T010000
END:DAYLIGHT
BEGIN:STANDARD
TZOFFSETFROM:+0100
TZOFFSETTO:+0000
TZNAME:GMT
DTSTART:20231029T010000
END:STANDARD
BEGIN:DAYLIGHT
TZOFFSETFROM:+0000
TZOFFSETTO:+0100
TZNAME:BST
DTSTART:20240331T010000
END:DAYLIGHT
BEGIN:STANDARD
TZOFFSETFROM:+0100
TZOFFSETTO:+0000
TZNAME:GMT
DTSTART:20241027T010000
END:STANDARD
END:VTIMEZONE
BEGIN:VEVENT
DTSTART;TZID=Europe/London:20230818T000000
DTEND;TZID=Europe/London:20230820T235959
DTSTAMP:20260422T100616
CREATED:20230119T115704Z
LAST-MODIFIED:20230119T115705Z
UID:1756-1692316800-1692575999@nenevalleyhog.co.uk
SUMMARY:Cirencester Rally
DESCRIPTION:
URL:https://nenevalleyhog.co.uk/event/cirencester-rally-2/
LOCATION:Royal Agricultural University\, Royal Agricultural University\, Cirencester\, Gloucestershire\, GL7 6JS\, United Kingdom
CATEGORIES:Rally
ATTACH;FMTTYPE=image/jpeg:https://nenevalleyhog.co.uk/wp-content/uploads/2023/01/326026128_551809073657444_5246391531298780948_n.jpg
ORGANIZER;CN="activities@hogsbackchapteruk.org":MAILTO:activities@hogsbackchapteruk.org
END:VEVENT
BEGIN:VEVENT
DTSTART;TZID=Europe/London:20230819T100000
DTEND;TZID=Europe/London:20230819T170000
DTSTAMP:20260422T100616
CREATED:20230607T153400Z
LAST-MODIFIED:20230624T103523Z
UID:1960-1692439200-1692464400@nenevalleyhog.co.uk
SUMMARY:The Tesco Delivery Rideout
DESCRIPTION:Departing from Rugby truck stop at 10:00hrs on Saturday 19th August. Slow Hand leading\n\n\n\nWhy not come and join us for a ride around the country lanes of our counties – Warwickshire and Northants \n\n\n\nThis is a chilled ride out that comprises 2 shifts in the TESCO van. \n\n\n\nHaving loaded the van\, we depart Stobbart Truck stop on the A5 and do a route that will ultimately take us to the Rugby Tesco Superstore (that I work out of)  \n\n\n\nIt’s about 30 miles and should take about 1hr 15 mins \n\n\n\nWe will stop at Rugby store for toilet\, coffee and fuel for those that need it. \n\n\n\nAfter re-loading the van we head off on the slightly long afternoon shift and will cover about 45 miles and take just over 1hr 30 mins \n\n\n\nOur final destination will be the White Horse pub in the village of Old. \n\n\n\nHopefully it will be a sunny day and we use the beer garden.    \n\n\n\nOnce I have numbers for those wishing to come I will liaise with the pub regarding pre-orders if you wish to eat. \n\n\n\nFinally\, this ride requires decent weather – therefore if the forecast is poor for the day I will postpone.  Keep an eye out on the chapter website\, facebook\, email. \n\n\n\n Cheers   Slow Hand          Mobile:   07709 205571      Email : c.lapsley@ntlworld.com
URL:https://nenevalleyhog.co.uk/event/the-tesco-delivery-rideout/
LOCATION:Rugby Truck Stop\, A5\, Rugby\, Warks\, CV23 0AE\, United Kingdom
CATEGORIES:Ride Out
END:VEVENT
END:VCALENDAR