BEGIN:VCALENDAR
VERSION:2.0
PRODID:-//Nene Valley Harley Owners Group - ECPv6.15.20//NONSGML v1.0//EN
CALSCALE:GREGORIAN
METHOD:PUBLISH
X-ORIGINAL-URL:https://nenevalleyhog.co.uk
X-WR-CALDESC:Events for Nene Valley Harley Owners Group
REFRESH-INTERVAL;VALUE=DURATION:PT1H
X-Robots-Tag:noindex
X-PUBLISHED-TTL:PT1H
BEGIN:VTIMEZONE
TZID:Europe/London
BEGIN:DAYLIGHT
TZOFFSETFROM:+0000
TZOFFSETTO:+0100
TZNAME:BST
DTSTART:20220327T010000
END:DAYLIGHT
BEGIN:STANDARD
TZOFFSETFROM:+0100
TZOFFSETTO:+0000
TZNAME:GMT
DTSTART:20221030T010000
END:STANDARD
BEGIN:DAYLIGHT
TZOFFSETFROM:+0000
TZOFFSETTO:+0100
TZNAME:BST
DTSTART:20230326T010000
END:DAYLIGHT
BEGIN:STANDARD
TZOFFSETFROM:+0100
TZOFFSETTO:+0000
TZNAME:GMT
DTSTART:20231029T010000
END:STANDARD
BEGIN:DAYLIGHT
TZOFFSETFROM:+0000
TZOFFSETTO:+0100
TZNAME:BST
DTSTART:20240331T010000
END:DAYLIGHT
BEGIN:STANDARD
TZOFFSETFROM:+0100
TZOFFSETTO:+0000
TZNAME:GMT
DTSTART:20241027T010000
END:STANDARD
END:VTIMEZONE
BEGIN:VEVENT
DTSTART;TZID=Europe/London:20230813T101500
DTEND;TZID=Europe/London:20230813T170000
DTSTAMP:20260422T143527
CREATED:20230630T164555Z
LAST-MODIFIED:20230731T161751Z
UID:1993-1691921700-1691946000@nenevalleyhog.co.uk
SUMMARY:Iron Horse Ranch House Rideout
DESCRIPTION:Departing from Towcester McDonalds at 10.15am on Sunday 13th August. Simon leading.\n\n\n\nSimon will be leading a ride on Sunday 13th August to the Iron Horse Ranch House Market Deeping PE6 8EB.The Iron Horse Ranch House has everything you would expect from an American style diner. The ride will depart from McDonalds Towcester at 10:15 sharp.The ride to Iron Horse Ranch House is approximatley 70 miles with a fuel stop for those requiring petrol as we enter Market Deeping. After you are all fed and watered\, we will take a direct ride of about 30 miles to an Esso petrol station at Kettering NN14 1UE where the ride will end.Please let him know in advance if you are coming\, so he can let the venue know numbers
URL:https://nenevalleyhog.co.uk/event/v-ate-diner-rideout/
LOCATION:McDonalds Towcester\, A43\, Towcester\, Northamptonshire\, NN12 6TQ\, United Kingdom
CATEGORIES:Ride Out
ATTACH;FMTTYPE=image/jpeg:https://nenevalleyhog.co.uk/wp-content/uploads/2023/06/103_521828961.jpg
END:VEVENT
END:VCALENDAR