BEGIN:VCALENDAR
VERSION:2.0
PRODID:-//Nene Valley Harley Owners Group - ECPv6.15.20//NONSGML v1.0//EN
CALSCALE:GREGORIAN
METHOD:PUBLISH
X-ORIGINAL-URL:https://nenevalleyhog.co.uk
X-WR-CALDESC:Events for Nene Valley Harley Owners Group
REFRESH-INTERVAL;VALUE=DURATION:PT1H
X-Robots-Tag:noindex
X-PUBLISHED-TTL:PT1H
BEGIN:VTIMEZONE
TZID:Europe/London
BEGIN:DAYLIGHT
TZOFFSETFROM:+0000
TZOFFSETTO:+0100
TZNAME:BST
DTSTART:20220327T010000
END:DAYLIGHT
BEGIN:STANDARD
TZOFFSETFROM:+0100
TZOFFSETTO:+0000
TZNAME:GMT
DTSTART:20221030T010000
END:STANDARD
BEGIN:DAYLIGHT
TZOFFSETFROM:+0000
TZOFFSETTO:+0100
TZNAME:BST
DTSTART:20230326T010000
END:DAYLIGHT
BEGIN:STANDARD
TZOFFSETFROM:+0100
TZOFFSETTO:+0000
TZNAME:GMT
DTSTART:20231029T010000
END:STANDARD
BEGIN:DAYLIGHT
TZOFFSETFROM:+0000
TZOFFSETTO:+0100
TZNAME:BST
DTSTART:20240331T010000
END:DAYLIGHT
BEGIN:STANDARD
TZOFFSETFROM:+0100
TZOFFSETTO:+0000
TZNAME:GMT
DTSTART:20241027T010000
END:STANDARD
END:VTIMEZONE
BEGIN:VEVENT
DTSTART;TZID=Europe/London:20230808T180000
DTEND;TZID=Europe/London:20230808T220000
DTSTAMP:20260422T131014
CREATED:20230731T160731Z
LAST-MODIFIED:20230731T160732Z
UID:2018-1691517600-1691532000@nenevalleyhog.co.uk
SUMMARY:Oxford Birthday Party
DESCRIPTION:Departing from Towcester McDonalds at 6pm on Tuesday 8th August. Simon leading.\n\n\n\nSimon will be leading a short ride to the Oxford dealership on Tuesday 8th August to join them and other Chapters to celebrate the 20th birthday of the Oxford Chapter.The ride will leave McDonalds at 6.00pm\, this is a one-way ride so you will be free to leave when you are ready. The ride is weather dependent. He will post on here if he needs to cancel.
URL:https://nenevalleyhog.co.uk/event/oxford-birthday-party/
LOCATION:McDonalds Towcester\, A43\, Towcester\, Northamptonshire\, NN12 6TQ\, United Kingdom
CATEGORIES:Bike Events,Ride Out
END:VEVENT
END:VCALENDAR