BEGIN:VCALENDAR
VERSION:2.0
PRODID:-//Nene Valley Harley Owners Group - ECPv6.15.20//NONSGML v1.0//EN
CALSCALE:GREGORIAN
METHOD:PUBLISH
X-WR-CALNAME:Nene Valley Harley Owners Group
X-ORIGINAL-URL:https://nenevalleyhog.co.uk
X-WR-CALDESC:Events for Nene Valley Harley Owners Group
REFRESH-INTERVAL;VALUE=DURATION:PT1H
X-Robots-Tag:noindex
X-PUBLISHED-TTL:PT1H
BEGIN:VTIMEZONE
TZID:Europe/London
BEGIN:DAYLIGHT
TZOFFSETFROM:+0000
TZOFFSETTO:+0100
TZNAME:BST
DTSTART:20220327T010000
END:DAYLIGHT
BEGIN:STANDARD
TZOFFSETFROM:+0100
TZOFFSETTO:+0000
TZNAME:GMT
DTSTART:20221030T010000
END:STANDARD
BEGIN:DAYLIGHT
TZOFFSETFROM:+0000
TZOFFSETTO:+0100
TZNAME:BST
DTSTART:20230326T010000
END:DAYLIGHT
BEGIN:STANDARD
TZOFFSETFROM:+0100
TZOFFSETTO:+0000
TZNAME:GMT
DTSTART:20231029T010000
END:STANDARD
BEGIN:DAYLIGHT
TZOFFSETFROM:+0000
TZOFFSETTO:+0100
TZNAME:BST
DTSTART:20240331T010000
END:DAYLIGHT
BEGIN:STANDARD
TZOFFSETFROM:+0100
TZOFFSETTO:+0000
TZNAME:GMT
DTSTART:20241027T010000
END:STANDARD
END:VTIMEZONE
BEGIN:VEVENT
DTSTART;TZID=Europe/London:20230803T000000
DTEND;TZID=Europe/London:20230806T235959
DTSTAMP:20260422T100621
CREATED:20221210T160614Z
LAST-MODIFIED:20221210T160615Z
UID:1490-1691020800-1691366399@nenevalleyhog.co.uk
SUMMARY:Heart and Soul Rally
DESCRIPTION:Heart ‘n’ Soul Rally 2023 \n\n\n\n\n\n\n\nGeordie Chapter is getting everything ready for you all! \n\n\n\nWe’ve got fabulous bikes\, great local bands\, ride-outs\, two special events and a great time guaranteed. \n\n\n\nWe’re just waiting for you to come and join us! \n\n\n\nFurther details on their website at  \n\n\n\nhttps://allevents.in/north%20shields/heart-n-soul-rally-2023/10000413659666197
URL:https://nenevalleyhog.co.uk/event/heart-and-soul-rally/
LOCATION:Bucks
CATEGORIES:Rally
ATTACH;FMTTYPE=image/png:https://nenevalleyhog.co.uk/wp-content/uploads/2022/12/6881ceb0-4657-11ed-8dc7-537f72414226-rimg-w720-h222-gmir.png
END:VEVENT
BEGIN:VEVENT
DTSTART;TZID=Europe/London:20230804T000000
DTEND;TZID=Europe/London:20230806T235959
DTSTAMP:20260422T100621
CREATED:20230220T174831Z
LAST-MODIFIED:20230220T174833Z
UID:1785-1691107200-1691366399@nenevalleyhog.co.uk
SUMMARY:Hog n Bog Rally
DESCRIPTION:Further details on the Belfast Hog website.
URL:https://nenevalleyhog.co.uk/event/hog-n-bog-rally/
LOCATION:Bucks
CATEGORIES:Rally
ATTACH;FMTTYPE=image/jpeg:https://nenevalleyhog.co.uk/wp-content/uploads/2023/02/332070311_1648500748913284_460135394504635591_n.jpg
END:VEVENT
BEGIN:VEVENT
DTSTART;TZID=Europe/London:20230805T090000
DTEND;TZID=Europe/London:20230805T160000
DTSTAMP:20260422T100621
CREATED:20230630T163748Z
LAST-MODIFIED:20230802T125413Z
UID:1988-1691226000-1691251200@nenevalleyhog.co.uk
SUMMARY:Joint 3 chapter rideout with III Rivers and Rutland chapter
DESCRIPTION:Departing from Towcester McDonalds at 09:00am on Saturday 5th August. Mikey leading.\n\n\n\nCome and join us when three chapters come together for one big rideout.
URL:https://nenevalleyhog.co.uk/event/joint-3-chapter-rideout-with-iii-rivers-and-rutland-chapter/
LOCATION:McDonalds Towcester\, A43\, Towcester\, Northamptonshire\, NN12 6TQ\, United Kingdom
CATEGORIES:Ride Out
ATTACH;FMTTYPE=image/jpeg:https://nenevalleyhog.co.uk/wp-content/uploads/2023/01/b25lY21zOjg3NjYzMjI1LWQ1Y2EtNGFiYy05ZTBjLWE0YzdlMGVkYTI4ODoxZjU3MzQyOS1mODYwLTRjMTAtYWJkNC1lMTU1Yjc3ZDlmZjc.jpg
END:VEVENT
END:VCALENDAR