BEGIN:VCALENDAR
VERSION:2.0
PRODID:-//Nene Valley Harley Owners Group - ECPv6.15.20//NONSGML v1.0//EN
CALSCALE:GREGORIAN
METHOD:PUBLISH
X-ORIGINAL-URL:https://nenevalleyhog.co.uk
X-WR-CALDESC:Events for Nene Valley Harley Owners Group
REFRESH-INTERVAL;VALUE=DURATION:PT1H
X-Robots-Tag:noindex
X-PUBLISHED-TTL:PT1H
BEGIN:VTIMEZONE
TZID:Europe/London
BEGIN:DAYLIGHT
TZOFFSETFROM:+0000
TZOFFSETTO:+0100
TZNAME:BST
DTSTART:20220327T010000
END:DAYLIGHT
BEGIN:STANDARD
TZOFFSETFROM:+0100
TZOFFSETTO:+0000
TZNAME:GMT
DTSTART:20221030T010000
END:STANDARD
BEGIN:DAYLIGHT
TZOFFSETFROM:+0000
TZOFFSETTO:+0100
TZNAME:BST
DTSTART:20230326T010000
END:DAYLIGHT
BEGIN:STANDARD
TZOFFSETFROM:+0100
TZOFFSETTO:+0000
TZNAME:GMT
DTSTART:20231029T010000
END:STANDARD
BEGIN:DAYLIGHT
TZOFFSETFROM:+0000
TZOFFSETTO:+0100
TZNAME:BST
DTSTART:20240331T010000
END:DAYLIGHT
BEGIN:STANDARD
TZOFFSETFROM:+0100
TZOFFSETTO:+0000
TZNAME:GMT
DTSTART:20241027T010000
END:STANDARD
END:VTIMEZONE
BEGIN:VEVENT
DTSTART;TZID=Europe/London:20230727T000000
DTEND;TZID=Europe/London:20230730T235959
DTSTAMP:20260422T131016
CREATED:20230630T162818Z
LAST-MODIFIED:20230630T162819Z
UID:1981-1690416000-1690761599@nenevalleyhog.co.uk
SUMMARY:Fenlanders HOG Rally
DESCRIPTION:At Diss Rugby club.Tickets available via link below.
URL:https://nenevalleyhog.co.uk/event/fenlanders-hog-rally-3/
LOCATION:Diss Rugby Club\, Bellrope Lane\, Diss\, IP22 5RG\, United Kingdom
CATEGORIES:Rally
END:VEVENT
BEGIN:VEVENT
DTSTART;TZID=Europe/London:20230728T000000
DTEND;TZID=Europe/London:20230730T235959
DTSTAMP:20260422T131016
CREATED:20230220T175507Z
LAST-MODIFIED:20230220T175509Z
UID:1788-1690502400-1690761599@nenevalleyhog.co.uk
SUMMARY:The Big Chill Rally
DESCRIPTION:
URL:https://nenevalleyhog.co.uk/event/the-big-chill-rally/
LOCATION:Supermarine Sport Club\, South Marston\, Swindon\, Wiltshire\, SN3 4BZ\, United Kingdom
CATEGORIES:Rally
ATTACH;FMTTYPE=image/jpeg:https://nenevalleyhog.co.uk/wp-content/uploads/2023/02/331516475_1197873004455129_6863162041251843589_n.jpg
END:VEVENT
BEGIN:VEVENT
DTSTART;TZID=Europe/London:20230729T130000
DTEND;TZID=Europe/London:20230729T150000
DTSTAMP:20260422T131016
CREATED:20230603T193849Z
LAST-MODIFIED:20230603T193849Z
UID:1933-1690635600-1690642800@nenevalleyhog.co.uk
SUMMARY:LOH Crazy Golf Afternoon
DESCRIPTION:Join Lisa for another LOH event\, indoor golf at Mr Mulligans indoor golf in Milton Keynes.£22.00 each for a game of golf and 2 drinks of your choice.Saturday 29th July @ 13.00hrs.If you fancy a fun afternoon then please let me know as I will need £22.00 from you as you have to pay on booking.
URL:https://nenevalleyhog.co.uk/event/loh-crazy-golf-afternoon/
LOCATION:Mr Mulligans Indoor Milton Keynes\, Unit B4\, Savoy Crescent\, Milton Keynes MK9 3PU\, Unit B4\, Savoy Crescent\, Milton Keynes\, MK9 3PU\, United Kingdom
CATEGORIES:Ladies of Harley,Social Event
END:VEVENT
END:VCALENDAR