BEGIN:VCALENDAR
VERSION:2.0
PRODID:-//Nene Valley Harley Owners Group - ECPv6.15.20//NONSGML v1.0//EN
CALSCALE:GREGORIAN
METHOD:PUBLISH
X-WR-CALNAME:Nene Valley Harley Owners Group
X-ORIGINAL-URL:https://nenevalleyhog.co.uk
X-WR-CALDESC:Events for Nene Valley Harley Owners Group
REFRESH-INTERVAL;VALUE=DURATION:PT1H
X-Robots-Tag:noindex
X-PUBLISHED-TTL:PT1H
BEGIN:VTIMEZONE
TZID:Europe/London
BEGIN:DAYLIGHT
TZOFFSETFROM:+0000
TZOFFSETTO:+0100
TZNAME:BST
DTSTART:20220327T010000
END:DAYLIGHT
BEGIN:STANDARD
TZOFFSETFROM:+0100
TZOFFSETTO:+0000
TZNAME:GMT
DTSTART:20221030T010000
END:STANDARD
BEGIN:DAYLIGHT
TZOFFSETFROM:+0000
TZOFFSETTO:+0100
TZNAME:BST
DTSTART:20230326T010000
END:DAYLIGHT
BEGIN:STANDARD
TZOFFSETFROM:+0100
TZOFFSETTO:+0000
TZNAME:GMT
DTSTART:20231029T010000
END:STANDARD
BEGIN:DAYLIGHT
TZOFFSETFROM:+0000
TZOFFSETTO:+0100
TZNAME:BST
DTSTART:20240331T010000
END:DAYLIGHT
BEGIN:STANDARD
TZOFFSETFROM:+0100
TZOFFSETTO:+0000
TZNAME:GMT
DTSTART:20241027T010000
END:STANDARD
END:VTIMEZONE
BEGIN:VEVENT
DTSTART;TZID=Europe/London:20230713T000000
DTEND;TZID=Europe/London:20230716T235959
DTSTAMP:20260422T143218
CREATED:20230107T145743Z
LAST-MODIFIED:20230107T145744Z
UID:1642-1689206400-1689551999@nenevalleyhog.co.uk
SUMMARY:Harley Davidson Homecoming
DESCRIPTION:Milwaukee Wisconsin USA\n\n\n\nH-D will celebrate its 120th anniversary in 2023 with the launch of Harley-Davidson Homecoming\, an annual four-day festival filled with music\, food and moto-culture. The inaugural event will be held in Harley’s hometown of Milwaukee\, Wisconsin on July 13–16\, 2023. Riders\, enthusiasts\, and fans from around the world will gather for this unforgettable weekend. Check out our lodging suggestions and book yours today.
URL:https://nenevalleyhog.co.uk/event/harley-davidson-homecoming/
LOCATION:Bucks
CATEGORIES:Bike Events
ATTACH;FMTTYPE=image/jpeg:https://nenevalleyhog.co.uk/wp-content/uploads/2023/01/homecoming-image-desktop-tall-hero.jpg
END:VEVENT
END:VCALENDAR