BEGIN:VCALENDAR
VERSION:2.0
PRODID:-//Nene Valley Harley Owners Group - ECPv6.15.20//NONSGML v1.0//EN
CALSCALE:GREGORIAN
METHOD:PUBLISH
X-WR-CALNAME:Nene Valley Harley Owners Group
X-ORIGINAL-URL:https://nenevalleyhog.co.uk
X-WR-CALDESC:Events for Nene Valley Harley Owners Group
REFRESH-INTERVAL;VALUE=DURATION:PT1H
X-Robots-Tag:noindex
X-PUBLISHED-TTL:PT1H
BEGIN:VTIMEZONE
TZID:Europe/London
BEGIN:DAYLIGHT
TZOFFSETFROM:+0000
TZOFFSETTO:+0100
TZNAME:BST
DTSTART:20220327T010000
END:DAYLIGHT
BEGIN:STANDARD
TZOFFSETFROM:+0100
TZOFFSETTO:+0000
TZNAME:GMT
DTSTART:20221030T010000
END:STANDARD
BEGIN:DAYLIGHT
TZOFFSETFROM:+0000
TZOFFSETTO:+0100
TZNAME:BST
DTSTART:20230326T010000
END:DAYLIGHT
BEGIN:STANDARD
TZOFFSETFROM:+0100
TZOFFSETTO:+0000
TZNAME:GMT
DTSTART:20231029T010000
END:STANDARD
BEGIN:DAYLIGHT
TZOFFSETFROM:+0000
TZOFFSETTO:+0100
TZNAME:BST
DTSTART:20240331T010000
END:DAYLIGHT
BEGIN:STANDARD
TZOFFSETFROM:+0100
TZOFFSETTO:+0000
TZNAME:GMT
DTSTART:20241027T010000
END:STANDARD
END:VTIMEZONE
BEGIN:VEVENT
DTSTART;TZID=Europe/London:20230520T093000
DTEND;TZID=Europe/London:20230520T170000
DTSTAMP:20260422T143231
CREATED:20230515T201633Z
LAST-MODIFIED:20230515T201634Z
UID:1892-1684575000-1684602000@nenevalleyhog.co.uk
SUMMARY:Oswestry Iron Works Rideout
DESCRIPTION:Departing from A5 Truck Stop\, Rugby at 09:30am. Mikey leading.\n\n\n\nThe Iron Works are famous for the Knife Angel\, Manchester Bee and the spoon gorilla amongst other things \n\n\n\nThis is a Landmark challenge ride \n\n\n\nThe ride will end on the return leg at Corley Services  \n\n\n\nWe are also going to be escorted by the owner on arrival through the outside sculptures\, on his trike to our parking area  \n\n\n\nThere is plenty to look at and great cafes with homemade food \n\n\n\nThere is no charge for this event as we have pre arranged our visit
URL:https://nenevalleyhog.co.uk/event/oswestry-iron-works-rideout/
LOCATION:Rugby Truck Stop\, A5\, Rugby\, Warks\, CV23 0AE\, United Kingdom
CATEGORIES:Ride Out
ATTACH;FMTTYPE=image/jpeg:https://nenevalleyhog.co.uk/wp-content/uploads/2023/05/345599051_251645607389247_4730151756899243970_n.jpg
END:VEVENT
BEGIN:VEVENT
DTSTART;TZID=Europe/London:20230520T100000
DTEND;TZID=Europe/London:20230520T190000
DTSTAMP:20260422T143231
CREATED:20230119T114906Z
LAST-MODIFIED:20230119T114907Z
UID:1754-1684576800-1684609200@nenevalleyhog.co.uk
SUMMARY:1950's and American Day - Weedon Bec
DESCRIPTION:Published on board outside Industrial and Supply…\n\n\n\nAdvertised as having Rock n Roll DJ\, Jive Dancing\, classic cars. Check with the venue for more details….
URL:https://nenevalleyhog.co.uk/event/1950s-and-american-day-weedon-bec/
LOCATION:Industry and Supply\, Building 14\, Ground Floor\, The Depot\, Weedon Bec\, Northamptonshire\, NN7 4PS\, United Kingdom
CATEGORIES:Bike Events
ATTACH;FMTTYPE=image/jpeg:https://nenevalleyhog.co.uk/wp-content/uploads/2023/01/IndSup.jpg
END:VEVENT
END:VCALENDAR