BEGIN:VCALENDAR
VERSION:2.0
PRODID:-//Nene Valley Harley Owners Group - ECPv6.15.20//NONSGML v1.0//EN
CALSCALE:GREGORIAN
METHOD:PUBLISH
X-ORIGINAL-URL:https://nenevalleyhog.co.uk
X-WR-CALDESC:Events for Nene Valley Harley Owners Group
REFRESH-INTERVAL;VALUE=DURATION:PT1H
X-Robots-Tag:noindex
X-PUBLISHED-TTL:PT1H
BEGIN:VTIMEZONE
TZID:Europe/London
BEGIN:DAYLIGHT
TZOFFSETFROM:+0000
TZOFFSETTO:+0100
TZNAME:BST
DTSTART:20220327T010000
END:DAYLIGHT
BEGIN:STANDARD
TZOFFSETFROM:+0100
TZOFFSETTO:+0000
TZNAME:GMT
DTSTART:20221030T010000
END:STANDARD
BEGIN:DAYLIGHT
TZOFFSETFROM:+0000
TZOFFSETTO:+0100
TZNAME:BST
DTSTART:20230326T010000
END:DAYLIGHT
BEGIN:STANDARD
TZOFFSETFROM:+0100
TZOFFSETTO:+0000
TZNAME:GMT
DTSTART:20231029T010000
END:STANDARD
BEGIN:DAYLIGHT
TZOFFSETFROM:+0000
TZOFFSETTO:+0100
TZNAME:BST
DTSTART:20240331T010000
END:DAYLIGHT
BEGIN:STANDARD
TZOFFSETFROM:+0100
TZOFFSETTO:+0000
TZNAME:GMT
DTSTART:20241027T010000
END:STANDARD
END:VTIMEZONE
BEGIN:VEVENT
DTSTART;TZID=Europe/London:20230512T000000
DTEND;TZID=Europe/London:20230515T235959
DTSTAMP:20260422T143614
CREATED:20221210T162729Z
LAST-MODIFIED:20221210T162730Z
UID:1500-1683849600-1684195199@nenevalleyhog.co.uk
SUMMARY:Yorkshire Iron Horse Rally
DESCRIPTION:Every year in mid May\, tumultuous sounds of V-twins ring out in glorious Filey in North East Yorkshire. The annual St Leger Iron Horse rally has become the early-season destination for getting in a summer party mood. Held at the Blue Dolphin Holiday Park situated on the coast in a spectacular clifftop location\, attendees can take advantage of sumptuous fully fitted self-contained mobile homes or camp on one of the many tent or caravan pitches – most with electric hook up. Food is on offer aplenty in the on-site restaurants\, chippie\, burger bar\, pizza parlour or mini market \n\n\n\nAlways a themed event where everyone is invited to join in\, a full program of rideouts\, events and outstanding entertainment is available. Yorkshire has some of the best uncluttered roads on offer in the UK\, so what better than to “rumble” over them there Yorkshire Wolds on one of our organised rideouts for glorious fish\, chip and peas with bread and butter and a mug of tea? How about joining the crowd of fiercely partisan participants and enthusiastic supporters from competing Chapters to win the title of “Chapter Games – Iron Horse Champions”? Saturday night is “Fancy Dress” party night. It is fantastic to see so many hardened Harley-Davidson riders “squeezed into” and nearly “popping out of” very elaborate party costumes. Letting it “all hang out” is certainly the name of the game here without of course getting arrested. Entertainment is provided each night by top notch bands and supporting DJ \n\n\n\nFurther details can be found on St Ledger chapter’s all site at; https://www.ironhorserally.co.uk
URL:https://nenevalleyhog.co.uk/event/yorkshire-iron-horse-rally/
LOCATION:Blue Dolphin Holiday Park\, Blue Dolphin Holiday Park\, Gristhorpe Bay\, Filey\, North Yorkshire\, YO14 9PU\, United Kingdom
CATEGORIES:Rally
ATTACH;FMTTYPE=image/jpeg:https://nenevalleyhog.co.uk/wp-content/uploads/2022/12/317537511_10226475422025037_3863797830047576123_n.jpg
END:VEVENT
END:VCALENDAR