BEGIN:VCALENDAR
VERSION:2.0
PRODID:-//Nene Valley Harley Owners Group - ECPv6.15.20//NONSGML v1.0//EN
CALSCALE:GREGORIAN
METHOD:PUBLISH
X-ORIGINAL-URL:https://nenevalleyhog.co.uk
X-WR-CALDESC:Events for Nene Valley Harley Owners Group
REFRESH-INTERVAL;VALUE=DURATION:PT1H
X-Robots-Tag:noindex
X-PUBLISHED-TTL:PT1H
BEGIN:VTIMEZONE
TZID:Europe/London
BEGIN:DAYLIGHT
TZOFFSETFROM:+0000
TZOFFSETTO:+0100
TZNAME:BST
DTSTART:20220327T010000
END:DAYLIGHT
BEGIN:STANDARD
TZOFFSETFROM:+0100
TZOFFSETTO:+0000
TZNAME:GMT
DTSTART:20221030T010000
END:STANDARD
BEGIN:DAYLIGHT
TZOFFSETFROM:+0000
TZOFFSETTO:+0100
TZNAME:BST
DTSTART:20230326T010000
END:DAYLIGHT
BEGIN:STANDARD
TZOFFSETFROM:+0100
TZOFFSETTO:+0000
TZNAME:GMT
DTSTART:20231029T010000
END:STANDARD
BEGIN:DAYLIGHT
TZOFFSETFROM:+0000
TZOFFSETTO:+0100
TZNAME:BST
DTSTART:20240331T010000
END:DAYLIGHT
BEGIN:STANDARD
TZOFFSETFROM:+0100
TZOFFSETTO:+0000
TZNAME:GMT
DTSTART:20241027T010000
END:STANDARD
END:VTIMEZONE
BEGIN:VEVENT
DTSTART;TZID=Europe/London:20230507T093000
DTEND;TZID=Europe/London:20230507T170000
DTSTAMP:20260422T143516
CREATED:20230429T115350Z
LAST-MODIFIED:20230429T115351Z
UID:1849-1683451800-1683478800@nenevalleyhog.co.uk
SUMMARY:Coronation Sunday Lunch ride
DESCRIPTION:Mikey leading\n\n\n\nJoin us for a 2 part ride. We will be riding across country to St Neots for a stop for petrol /leg stretch and then heading to Littleport to the Harley Davidson Monument \n\n\n\nFrom there we will head 6 miles back to Ely to the High Flyer\, which is one of Jays pubs for Sunday lunch\, ( carvery) there will be tea and coffee provided free of charge on arrivalSunday lunch is booked for 1:30 pm \n\n\n\nAfter lunch we will take a direct route home\, with the ride finishing at the Black Cat Roundabout\, on the A421/A1 junction from where people can find their own way home. \n\n\n\nThis is the Coronation weekend so we would love it if the bikes and/or you were decorated. \n\n\n\nThe route is approx. 100 miles there and 40 return. Post codes: Shell Petrol Station PE19 1JZLittleport Monument CB6 1PSHigh Flyer CB7 4PQ https://www.greatbritishinn.co.uk/ \n\n\n\nCan you please let Becky know if you are coming for Sunday lunch
URL:https://nenevalleyhog.co.uk/event/coronation-sunday-lunch-ride/
LOCATION:McDonalds Towcester\, A43\, Towcester\, Northamptonshire\, NN12 6TQ\, United Kingdom
CATEGORIES:Ride Out
END:VEVENT
END:VCALENDAR