BEGIN:VCALENDAR
VERSION:2.0
PRODID:-//Nene Valley Harley Owners Group - ECPv6.15.20//NONSGML v1.0//EN
CALSCALE:GREGORIAN
METHOD:PUBLISH
X-WR-CALNAME:Nene Valley Harley Owners Group
X-ORIGINAL-URL:https://nenevalleyhog.co.uk
X-WR-CALDESC:Events for Nene Valley Harley Owners Group
REFRESH-INTERVAL;VALUE=DURATION:PT1H
X-Robots-Tag:noindex
X-PUBLISHED-TTL:PT1H
BEGIN:VTIMEZONE
TZID:Europe/London
BEGIN:DAYLIGHT
TZOFFSETFROM:+0000
TZOFFSETTO:+0100
TZNAME:BST
DTSTART:20220327T010000
END:DAYLIGHT
BEGIN:STANDARD
TZOFFSETFROM:+0100
TZOFFSETTO:+0000
TZNAME:GMT
DTSTART:20221030T010000
END:STANDARD
BEGIN:DAYLIGHT
TZOFFSETFROM:+0000
TZOFFSETTO:+0100
TZNAME:BST
DTSTART:20230326T010000
END:DAYLIGHT
BEGIN:STANDARD
TZOFFSETFROM:+0100
TZOFFSETTO:+0000
TZNAME:GMT
DTSTART:20231029T010000
END:STANDARD
BEGIN:DAYLIGHT
TZOFFSETFROM:+0000
TZOFFSETTO:+0100
TZNAME:BST
DTSTART:20240331T010000
END:DAYLIGHT
BEGIN:STANDARD
TZOFFSETFROM:+0100
TZOFFSETTO:+0000
TZNAME:GMT
DTSTART:20241027T010000
END:STANDARD
END:VTIMEZONE
BEGIN:VEVENT
DTSTART;TZID=Europe/London:20230428T100000
DTEND;TZID=Europe/London:20230501T120000
DTSTAMP:20260422T174227
CREATED:20230221T145922Z
LAST-MODIFIED:20230221T145923Z
UID:1831-1682676000-1682942400@nenevalleyhog.co.uk
SUMMARY:Cider Rally
DESCRIPTION:Cider Rally ….. Tickets are selling fast which is Great. But please don’t call Sand Bay without a booking Ref from Gina. She is processing your orders on an evening after work\, and it’ll take  some time to catch up\, you will all be processed in order of booking so don’t panic no-one will be processed out of order xxxx please be patient and Thursday is the best day to call Sand Bay when you’ve got your booking ref.
URL:https://nenevalleyhog.co.uk/event/cider-rally-2/
LOCATION:Bucks
CATEGORIES:Rally
ATTACH;FMTTYPE=image/jpeg:https://nenevalleyhog.co.uk/wp-content/uploads/2023/02/Main-Poster-1024x724-2.jpg
END:VEVENT
BEGIN:VEVENT
DTSTART;TZID=Europe/London:20230430T103000
DTEND;TZID=Europe/London:20230430T150000
DTSTAMP:20260422T174227
CREATED:20230429T114846Z
LAST-MODIFIED:20230429T114847Z
UID:1846-1682850600-1682866800@nenevalleyhog.co.uk
SUMMARY:Bard Ride
DESCRIPTION:THIS RIDE IS WEATHER DEPENDENT – Please check the NVC Facebook page as the week progresses to confirm if it’s on. \n\n\n\nMeet at McDonald’s Towcester at 10.30am (we leave at 11am). We will be riding the country lanes into the Warwickshire countryside\, passing through areas William Shakespeare used to frequent. After approximately 1 hour we will stop for refreshments etc at Gilkes Garage (Kineton)\, the ride will then continue and end at the BP station just before McDonalds at Towcester. \n\n\n\ncfawcett57@virginmedia.com 07964 775677
URL:https://nenevalleyhog.co.uk/event/bard-ride/
LOCATION:McDonalds Towcester\, A43\, Towcester\, Northamptonshire\, NN12 6TQ\, United Kingdom
CATEGORIES:Ride Out
END:VEVENT
END:VCALENDAR