BEGIN:VCALENDAR
VERSION:2.0
PRODID:-//Nene Valley Harley Owners Group - ECPv6.15.20//NONSGML v1.0//EN
CALSCALE:GREGORIAN
METHOD:PUBLISH
X-WR-CALNAME:Nene Valley Harley Owners Group
X-ORIGINAL-URL:https://nenevalleyhog.co.uk
X-WR-CALDESC:Events for Nene Valley Harley Owners Group
REFRESH-INTERVAL;VALUE=DURATION:PT1H
X-Robots-Tag:noindex
X-PUBLISHED-TTL:PT1H
BEGIN:VTIMEZONE
TZID:Europe/London
BEGIN:DAYLIGHT
TZOFFSETFROM:+0000
TZOFFSETTO:+0100
TZNAME:BST
DTSTART:20220327T010000
END:DAYLIGHT
BEGIN:STANDARD
TZOFFSETFROM:+0100
TZOFFSETTO:+0000
TZNAME:GMT
DTSTART:20221030T010000
END:STANDARD
BEGIN:DAYLIGHT
TZOFFSETFROM:+0000
TZOFFSETTO:+0100
TZNAME:BST
DTSTART:20230326T010000
END:DAYLIGHT
BEGIN:STANDARD
TZOFFSETFROM:+0100
TZOFFSETTO:+0000
TZNAME:GMT
DTSTART:20231029T010000
END:STANDARD
BEGIN:DAYLIGHT
TZOFFSETFROM:+0000
TZOFFSETTO:+0100
TZNAME:BST
DTSTART:20240331T010000
END:DAYLIGHT
BEGIN:STANDARD
TZOFFSETFROM:+0100
TZOFFSETTO:+0000
TZNAME:GMT
DTSTART:20241027T010000
END:STANDARD
END:VTIMEZONE
BEGIN:VEVENT
DTSTART;TZID=Europe/London:20230422T000000
DTEND;TZID=Europe/London:20230423T235959
DTSTAMP:20260422T174225
CREATED:20230107T154026Z
LAST-MODIFIED:20230107T154027Z
UID:1667-1682121600-1682294399@nenevalleyhog.co.uk
SUMMARY:International Classic Motorcycle Show
DESCRIPTION:Since its early days\, the core of the event has always been about providing the best experience for the classic motorcyclist\, which is still the ethos for the show today. The show has seen many a change over the years\, and we’re always looking for new and exciting things to offer our visitors the very best\, all in one place. \n\n\n\nThe Stafford Classic Bike Show is set to celebrate the life of arguably the world’s greatest ever motorcycle racer. In a world exclusive curated exhibition\, Mike Hailwood’s son David is bringing together and showing some of the incredible\, personal artefacts held in the Hailwood family archive\, most of which have never been seen before outside of the family home in decades.
URL:https://nenevalleyhog.co.uk/event/international-classic-motorcycle-show/
LOCATION:ST18 0BD\, ST18 0BD\, United Kingdom
CATEGORIES:Bike Events
ATTACH;FMTTYPE=image/jpeg:https://nenevalleyhog.co.uk/wp-content/uploads/2023/01/TCM-Show-Stafford-April-black_Logo.jpg
END:VEVENT
BEGIN:VEVENT
DTSTART;TZID=Europe/London:20230423T110000
DTEND;TZID=Europe/London:20230423T150000
DTSTAMP:20260422T174225
CREATED:20230107T144307Z
LAST-MODIFIED:20230107T144308Z
UID:1639-1682247600-1682262000@nenevalleyhog.co.uk
SUMMARY:Dunstable Downs Ride
DESCRIPTION:Departing from Towcester McDonalds. Becky leading\n\n\n\nMore details to come…
URL:https://nenevalleyhog.co.uk/event/dunstable-downs-ride/
LOCATION:McDonalds Towcester\, A43\, Towcester\, Northamptonshire\, NN12 6TQ\, United Kingdom
CATEGORIES:Ride Out
ATTACH;FMTTYPE=image/jpeg:https://nenevalleyhog.co.uk/wp-content/uploads/2023/01/49439179466_77486e5f55.jpg
END:VEVENT
END:VCALENDAR