BEGIN:VCALENDAR
VERSION:2.0
PRODID:-//Nene Valley Harley Owners Group - ECPv6.15.20//NONSGML v1.0//EN
CALSCALE:GREGORIAN
METHOD:PUBLISH
X-ORIGINAL-URL:https://nenevalleyhog.co.uk
X-WR-CALDESC:Events for Nene Valley Harley Owners Group
REFRESH-INTERVAL;VALUE=DURATION:PT1H
X-Robots-Tag:noindex
X-PUBLISHED-TTL:PT1H
BEGIN:VTIMEZONE
TZID:Europe/London
BEGIN:DAYLIGHT
TZOFFSETFROM:+0000
TZOFFSETTO:+0100
TZNAME:BST
DTSTART:20220327T010000
END:DAYLIGHT
BEGIN:STANDARD
TZOFFSETFROM:+0100
TZOFFSETTO:+0000
TZNAME:GMT
DTSTART:20221030T010000
END:STANDARD
BEGIN:DAYLIGHT
TZOFFSETFROM:+0000
TZOFFSETTO:+0100
TZNAME:BST
DTSTART:20230326T010000
END:DAYLIGHT
BEGIN:STANDARD
TZOFFSETFROM:+0100
TZOFFSETTO:+0000
TZNAME:GMT
DTSTART:20231029T010000
END:STANDARD
BEGIN:DAYLIGHT
TZOFFSETFROM:+0000
TZOFFSETTO:+0100
TZNAME:BST
DTSTART:20240331T010000
END:DAYLIGHT
BEGIN:STANDARD
TZOFFSETFROM:+0100
TZOFFSETTO:+0000
TZNAME:GMT
DTSTART:20241027T010000
END:STANDARD
END:VTIMEZONE
BEGIN:VEVENT
DTSTART;TZID=Europe/London:20230225T090000
DTEND;TZID=Europe/London:20230225T160000
DTSTAMP:20260424T120341
CREATED:20230220T181416Z
LAST-MODIFIED:20230220T181417Z
UID:1800-1677315600-1677340800@nenevalleyhog.co.uk
SUMMARY:Used Bike Showcase - Sykes HD
DESCRIPTION:With the UK’s largest selection of Harley-Davidson certified approved used bikes all under one roof\, it’s time for us to showcase our incredible inventory! \n\n\n\nFrom Sportsters to Softails\, Fat Bobs to Fat Boys\, or Street Rods and Street Glides\, we’ve almost certainly got a bike for every taste and every style of rider. Not only do we have a massive selection of bikes in stock\, but we also offer incredible benefits when you buy a used bike from us. \n\n\n\nIf you need any more convincing\, here are some epic reasons to come and buy a bike from our huge used bike showcase: \n\n\n\n– 12 Months Certified Warranty \n\n\n\n– 12 Months Harley Assist Rescue & Recovery \n\n\n\n– 12 Months MOT- 110 Point Saftey Check \n\n\n\n– Fresh Oil & Filter replacement \n\n\n\n– Full detailed valet & matching polish \n\n\n\n– Full tank of fuel \n\n\n\n– Free cleaning essentials kit \n\n\n\n– Free dealership tee \n\n\n\nWe’ll also have plenty of exclusive offers in store with money off selected bikes\, so this is definitely one event you don’t want to miss!
URL:https://nenevalleyhog.co.uk/event/used-bike-showcase-sykes-hd/
LOCATION:Sykes Harley Davidson\, Holmes Hill\, Nr Lewes\, East Sussex\, BN8 6JA\, United Kingdom
CATEGORIES:Bike Events
ATTACH;FMTTYPE=image/jpeg:https://nenevalleyhog.co.uk/wp-content/uploads/2023/02/8ca479b6ad724375784496d389ffcb10_fb8551506825b985.jpg
END:VEVENT
BEGIN:VEVENT
DTSTART;TZID=Europe/London:20230225T093000
DTEND;TZID=Europe/London:20230226T160000
DTSTAMP:20260424T120341
CREATED:20230107T152835Z
LAST-MODIFIED:20230107T152836Z
UID:1657-1677317400-1677427200@nenevalleyhog.co.uk
SUMMARY:Bristol Classic Motorcycle Show
DESCRIPTION:From humble beginnings in 1980\, the show has grown and evolved into Britain’s greatest annual celebration of all that is best about the motorcycles of yesteryear. \n\n\n\nThe event is a magnet for enthusiasts\, club members and traders alike – attracting thousands from all over the country and beyond. \n\n\n\n\n\n\n\n\n\n\nhttps://www.bristolclassicbikeshow.com
URL:https://nenevalleyhog.co.uk/event/bristol-classic-motorcycle-show/
LOCATION:The Royal Bath & West Showground\, Shepton Mallet\, Somerset\, BA4 6QN\, United Kingdom
CATEGORIES:Bike Events
ATTACH;FMTTYPE=image/jpeg:https://nenevalleyhog.co.uk/wp-content/uploads/2023/01/bristol-bike-show-250.jpg
END:VEVENT
BEGIN:VEVENT
DTSTART;TZID=Europe/London:20230225T210000
DTEND;TZID=Europe/London:20230225T233000
DTSTAMP:20260424T120341
CREATED:20230102T133836Z
LAST-MODIFIED:20230102T133836Z
UID:1611-1677358800-1677367800@nenevalleyhog.co.uk
SUMMARY:Mid Sensation Soul Band - Live Music
DESCRIPTION:Live music at the Walnut Tree Inn\n\n\n\nAn exciting 6 piece soul and Tamla Motown band that get everyone on their feet! Covering material by James Brown\, Sam & Dave\, Otis Redding\, Wilson Pickett\, Elvis\, Bob Marley and others.
URL:https://nenevalleyhog.co.uk/event/mid-sensation-soul-band-live-music/
LOCATION:The Walnut Tree\, 21 Station Road\, Blisworth\, Northamptonshire\, NN7 3DS\, United Kingdom
CATEGORIES:Walnut Tree Event
ATTACH;FMTTYPE=image/jpeg:https://nenevalleyhog.co.uk/wp-content/uploads/2023/01/mid-sensation-768x406-1.jpg
END:VEVENT
END:VCALENDAR