BEGIN:VCALENDAR
VERSION:2.0
PRODID:-//Nene Valley Harley Owners Group - ECPv6.15.20//NONSGML v1.0//EN
CALSCALE:GREGORIAN
METHOD:PUBLISH
X-WR-CALNAME:Nene Valley Harley Owners Group
X-ORIGINAL-URL:https://nenevalleyhog.co.uk
X-WR-CALDESC:Events for Nene Valley Harley Owners Group
REFRESH-INTERVAL;VALUE=DURATION:PT1H
X-Robots-Tag:noindex
X-PUBLISHED-TTL:PT1H
BEGIN:VTIMEZONE
TZID:Europe/London
BEGIN:DAYLIGHT
TZOFFSETFROM:+0000
TZOFFSETTO:+0100
TZNAME:BST
DTSTART:20220327T010000
END:DAYLIGHT
BEGIN:STANDARD
TZOFFSETFROM:+0100
TZOFFSETTO:+0000
TZNAME:GMT
DTSTART:20221030T010000
END:STANDARD
BEGIN:DAYLIGHT
TZOFFSETFROM:+0000
TZOFFSETTO:+0100
TZNAME:BST
DTSTART:20230326T010000
END:DAYLIGHT
BEGIN:STANDARD
TZOFFSETFROM:+0100
TZOFFSETTO:+0000
TZNAME:GMT
DTSTART:20231029T010000
END:STANDARD
BEGIN:DAYLIGHT
TZOFFSETFROM:+0000
TZOFFSETTO:+0100
TZNAME:BST
DTSTART:20240331T010000
END:DAYLIGHT
BEGIN:STANDARD
TZOFFSETFROM:+0100
TZOFFSETTO:+0000
TZNAME:GMT
DTSTART:20241027T010000
END:STANDARD
END:VTIMEZONE
BEGIN:VEVENT
DTSTART;TZID=Europe/London:20230223T180000
DTEND;TZID=Europe/London:20230223T220000
DTSTAMP:20260424T103904
CREATED:20221210T181410Z
LAST-MODIFIED:20221210T181411Z
UID:1554-1677175200-1677189600@nenevalleyhog.co.uk
SUMMARY:Ace Cafe Harley Night
DESCRIPTION:Monthly Harley night at the Ace. The home of british motorcycling. \n\n\n\n\n\n\n\n\n\n\nWhat’s on
URL:https://nenevalleyhog.co.uk/event/ace-cafe-harley-night-5/
LOCATION:Ace Cafe\, North Circular Road\, Stonebridge\, London\, NW10 7UD\, United Kingdom
CATEGORIES:Bike Events
END:VEVENT
BEGIN:VEVENT
DTSTART;TZID=Europe/London:20230223T200000
DTEND;TZID=Europe/London:20230223T230000
DTSTAMP:20260424T103904
CREATED:20230102T133227Z
LAST-MODIFIED:20230102T133228Z
UID:1607-1677182400-1677193200@nenevalleyhog.co.uk
SUMMARY:Steve Hall + Steve Royle
DESCRIPTION:Comedy at the Walnut Tree Inn.\n\n\n\nTicketed event. Tickets are £12.50 and available direct from Walnut Tree Inn. \n\n\n\nSUPPORT: DIMITRIS DEECHCOMPÈRE: JAMES COOK \n\n\n\nSTEVE HALL has been a stand up support act for Russell Howard on his sell-out national tours Adventures\, Dingledodies and the 2009 arena tour Big Rooms and Belly Laughs. \n\n\n\nSteve’s recent work has also included a second series of writing for BBC Radio 4’s The Now Show\, as well as taking his solo show Steve Hall’s Very Still Life to the 2011 Edinburgh Festival. \n\n\n\nA finalist in the BBC New Comedy Award and Daily Telegraph Open Mic Award\, Steve Hall made his fringe debut in 2003 in the sell out Edinburgh show\, Three Men and a Giant. Steve returned to Edinburgh in 2008 with his first solo stand up show solo show Vice Captain Loser. \n\n\n\nSteve Hall also makes up one third of the if.comedy Award nominated sketch show ‘We Are Klang’. In 2007 We Are Klang showcased at the Melbourne Comedy Festival\, where the group was nominated for a Barry Award\, before they returned to Edinburgh for a four night sell-out run. The group has appeared on the Paramount Comedy Channel’s Edinburgh & Beyond for two years running and was nominated in 2006 for the Chortle Best Sketch Show\, which they won in 2007. \n\n\n\nAs part of We Are Klang\, Steve wrote and starred in the group’s own sitcom series for BBC3. \n\n\n\n“This is stand-up as it should be: snappy and smart\, occasionally nasty\, and always funny” \n\n\n\nThe List \n\n\n\n“His debut solo show was a masterpiece of emotive storytelling” GQ \n\n\n\n“Wonderfully misanthropic” Sunday Times \n\n\n\n\n\n\n\nSTEVE ROYLE is an actor\, writer\, comedian\, juggler\, a “Gillard award” winning presenter on BBC Radio Lancashire and now a finalist on ITV’s Britain’s Got Talent 2020. \n\n\n\nSteve most recently completed his 17th consecutive pantomime at The Grand Theatre\, Blackpool (and his 22nd Pantomime in total) and was also made an honourary member of The Friends Of The Grand in 2016 for his services to the theatre. Last year he starred\, to critical acclaim\, in the World premier tour of “Naturally Insane: The Life of Dan Leno” and is taking the show to the West End (Criterion Theatre). \n\n\n\nIn 2015 he performed 16 nights at The Manchester Arena as part of the “Phoenix Nights Live” show\, helping raise well over £ 5 million in the process. He also appeared at the London Palladium twice within a month later that year when he performed as part of the TV show “Sunday Night At The Palladium” and as warm-up for “One Night With Neil Diamond”. \n\n\n\nHe spent many years as “Special Guest” on Dave Spikey’s Tours and has supported several other top comedic names including Peter Kay\, Mick Miller\, Roy Walker and The Lancashire Hotpots! He was also the first comic\, ever\, to act as “Warm-up” for The Royal Variety Show featuring Take That\, Rod Stewart\, Barry Manilow and Meatloaf. \n\n\n\n“A Brilliant Comedian”Peter Kay (in his autobiography “Saturday Night Peter”) \n\n\n\n“Fantastic…Should be a Star!”Dave Spikey (in his autobiography “Under the Microscope”) \n\n\n\n“A comedy masterclass! “The Stage
URL:https://nenevalleyhog.co.uk/event/steve-hall-steve-royle/
CATEGORIES:Walnut Tree Event
ATTACH;FMTTYPE=image/jpeg:https://nenevalleyhog.co.uk/wp-content/uploads/2023/01/steve-hall-768x499-1.jpg
END:VEVENT
END:VCALENDAR