BEGIN:VCALENDAR
VERSION:2.0
PRODID:-//Nene Valley Harley Owners Group - ECPv6.15.20//NONSGML v1.0//EN
CALSCALE:GREGORIAN
METHOD:PUBLISH
X-ORIGINAL-URL:https://nenevalleyhog.co.uk
X-WR-CALDESC:Events for Nene Valley Harley Owners Group
REFRESH-INTERVAL;VALUE=DURATION:PT1H
X-Robots-Tag:noindex
X-PUBLISHED-TTL:PT1H
BEGIN:VTIMEZONE
TZID:Europe/London
BEGIN:DAYLIGHT
TZOFFSETFROM:+0000
TZOFFSETTO:+0100
TZNAME:BST
DTSTART:20220327T010000
END:DAYLIGHT
BEGIN:STANDARD
TZOFFSETFROM:+0100
TZOFFSETTO:+0000
TZNAME:GMT
DTSTART:20221030T010000
END:STANDARD
BEGIN:DAYLIGHT
TZOFFSETFROM:+0000
TZOFFSETTO:+0100
TZNAME:BST
DTSTART:20230326T010000
END:DAYLIGHT
BEGIN:STANDARD
TZOFFSETFROM:+0100
TZOFFSETTO:+0000
TZNAME:GMT
DTSTART:20231029T010000
END:STANDARD
BEGIN:DAYLIGHT
TZOFFSETFROM:+0000
TZOFFSETTO:+0100
TZNAME:BST
DTSTART:20240331T010000
END:DAYLIGHT
BEGIN:STANDARD
TZOFFSETFROM:+0100
TZOFFSETTO:+0000
TZNAME:GMT
DTSTART:20241027T010000
END:STANDARD
END:VTIMEZONE
BEGIN:VEVENT
DTSTART;TZID=Europe/London:20230217T000000
DTEND;TZID=Europe/London:20230219T235959
DTSTAMP:20260422T235005
CREATED:20221210T171810Z
LAST-MODIFIED:20221210T171811Z
UID:1522-1676592000-1676851199@nenevalleyhog.co.uk
SUMMARY:Carole Nash MCN London Motorcycle Show 
DESCRIPTION:“International Automobiles\, Spare Parts and Accessories Industry trade fair.” \n\n\n\nCarole Nash MCN London Motorcycle Show will feature world’s leading motorcycle manufacturers as Aprilia\, BMW\, Brough\, CCM\, Ducati\, Harley-Davidson\, Herald\, Honda\, Husqvarna\, Indian\, Kawasaki\, KTM\, Llexeter\, Moto Corsa\, Moto Morini\, MP3\, Mutt Motorcycles\, Norton\, Piaggio\, Suzuki\, Triumph\, Vespa\, Yamaha and Zero Motorcycles. \n\n\n\nDetails at; https://www.mcnmotorcycleshow.com
URL:https://nenevalleyhog.co.uk/event/carole-nash-mcn-london-motorcycle-show/
LOCATION:Excel London\, Royal Victoria Dock 1 Western Gateway\, London\, E16 1XL\, United Kingdom
CATEGORIES:Bike Events
END:VEVENT
BEGIN:VEVENT
DTSTART;TZID=Europe/London:20230218T120000
DTEND;TZID=Europe/London:20230218T153000
DTSTAMP:20260422T235005
CREATED:20230115T180755Z
LAST-MODIFIED:20230115T180756Z
UID:1740-1676721600-1676734200@nenevalleyhog.co.uk
SUMMARY:Food and Skittles Afternoon
DESCRIPTION:At the Lamb\, Stoke Goldington\n\n\n\nI am organising a game of skittles at the Lamb pub on 18th February. We will have use of the restaurant from 12:00 for food prior to vacating to the bar for skittles. \n\n\n\nI will need to know asap if you want to eat before the game so I can arrange tables and seating with the pub. If you wish to eat first\, please let me know before Friday 10th. Menu to follow \n\n\n\nSimon \n\n\n\n07961 027921
URL:https://nenevalleyhog.co.uk/event/food-and-skittles-afternoon-2/
LOCATION:The Lamb Stoke Goldington\, Main Street\, Stoke Goldington\, Bucks\, MK16 8NR\, United Kingdom
CATEGORIES:Social Event
END:VEVENT
BEGIN:VEVENT
DTSTART;TZID=Europe/London:20230218T210000
DTEND;TZID=Europe/London:20230218T233000
DTSTAMP:20260422T235005
CREATED:20230102T132359Z
LAST-MODIFIED:20230102T132400Z
UID:1601-1676754000-1676763000@nenevalleyhog.co.uk
SUMMARY:Box Eddy - Live Band
DESCRIPTION:Live music at the Walnut Tree\n\n\n\nSuperb four-piece band from Northampton formed in 1999\, playing indie\, rock and pop classics such as The Jam\, Rolling Stones\, Joe Jackson\, Oasis\, Libertines\, Killers\, Blur and even a bit of Abba!
URL:https://nenevalleyhog.co.uk/event/box-eddy-live-band/
LOCATION:The Walnut Tree\, 21 Station Road\, Blisworth\, Northamptonshire\, NN7 3DS\, United Kingdom
CATEGORIES:Walnut Tree Event
ATTACH;FMTTYPE=image/jpeg:https://nenevalleyhog.co.uk/wp-content/uploads/2023/01/boxeddy-768x541-1.jpg
END:VEVENT
END:VCALENDAR