BEGIN:VCALENDAR
VERSION:2.0
PRODID:-//Nene Valley Harley Owners Group - ECPv6.15.20//NONSGML v1.0//EN
CALSCALE:GREGORIAN
METHOD:PUBLISH
X-WR-CALNAME:Nene Valley Harley Owners Group
X-ORIGINAL-URL:https://nenevalleyhog.co.uk
X-WR-CALDESC:Events for Nene Valley Harley Owners Group
REFRESH-INTERVAL;VALUE=DURATION:PT1H
X-Robots-Tag:noindex
X-PUBLISHED-TTL:PT1H
BEGIN:VTIMEZONE
TZID:Europe/London
BEGIN:DAYLIGHT
TZOFFSETFROM:+0000
TZOFFSETTO:+0100
TZNAME:BST
DTSTART:20220327T010000
END:DAYLIGHT
BEGIN:STANDARD
TZOFFSETFROM:+0100
TZOFFSETTO:+0000
TZNAME:GMT
DTSTART:20221030T010000
END:STANDARD
BEGIN:DAYLIGHT
TZOFFSETFROM:+0000
TZOFFSETTO:+0100
TZNAME:BST
DTSTART:20230326T010000
END:DAYLIGHT
BEGIN:STANDARD
TZOFFSETFROM:+0100
TZOFFSETTO:+0000
TZNAME:GMT
DTSTART:20231029T010000
END:STANDARD
BEGIN:DAYLIGHT
TZOFFSETFROM:+0000
TZOFFSETTO:+0100
TZNAME:BST
DTSTART:20240331T010000
END:DAYLIGHT
BEGIN:STANDARD
TZOFFSETFROM:+0100
TZOFFSETTO:+0000
TZNAME:GMT
DTSTART:20241027T010000
END:STANDARD
END:VTIMEZONE
BEGIN:VEVENT
DTSTART;TZID=Europe/London:20230211T210000
DTEND;TZID=Europe/London:20230211T233000
DTSTAMP:20260422T203716
CREATED:20230102T132113Z
LAST-MODIFIED:20230102T132114Z
UID:1598-1676149200-1676158200@nenevalleyhog.co.uk
SUMMARY:Groove Connection - Live Band
DESCRIPTION:Live band at the Walnut Tree\n\n\n\nGroove Connection are a highly entertaining six piece function band fronted by two powerful female vocalists.  \n\n\n\nBacked by four talented musicians\, they perform compositions ranging from motown and soul songs of the funky 70’s & 80’s\, right through to the rip roaring groovy sounds of today’s chart toppers.
URL:https://nenevalleyhog.co.uk/event/groove-connection-live-band/
LOCATION:The Walnut Tree\, 21 Station Road\, Blisworth\, Northamptonshire\, NN7 3DS\, United Kingdom
CATEGORIES:Walnut Tree Event
ATTACH;FMTTYPE=image/jpeg:https://nenevalleyhog.co.uk/wp-content/uploads/2023/01/groove-connection-2-768x484-1.jpg
END:VEVENT
END:VCALENDAR