BEGIN:VCALENDAR
VERSION:2.0
PRODID:-//Nene Valley Harley Owners Group - ECPv6.15.20//NONSGML v1.0//EN
CALSCALE:GREGORIAN
METHOD:PUBLISH
X-ORIGINAL-URL:https://nenevalleyhog.co.uk
X-WR-CALDESC:Events for Nene Valley Harley Owners Group
REFRESH-INTERVAL;VALUE=DURATION:PT1H
X-Robots-Tag:noindex
X-PUBLISHED-TTL:PT1H
BEGIN:VTIMEZONE
TZID:Europe/London
BEGIN:DAYLIGHT
TZOFFSETFROM:+0000
TZOFFSETTO:+0100
TZNAME:BST
DTSTART:20220327T010000
END:DAYLIGHT
BEGIN:STANDARD
TZOFFSETFROM:+0100
TZOFFSETTO:+0000
TZNAME:GMT
DTSTART:20221030T010000
END:STANDARD
BEGIN:DAYLIGHT
TZOFFSETFROM:+0000
TZOFFSETTO:+0100
TZNAME:BST
DTSTART:20230326T010000
END:DAYLIGHT
BEGIN:STANDARD
TZOFFSETFROM:+0100
TZOFFSETTO:+0000
TZNAME:GMT
DTSTART:20231029T010000
END:STANDARD
BEGIN:DAYLIGHT
TZOFFSETFROM:+0000
TZOFFSETTO:+0100
TZNAME:BST
DTSTART:20240331T010000
END:DAYLIGHT
BEGIN:STANDARD
TZOFFSETFROM:+0100
TZOFFSETTO:+0000
TZNAME:GMT
DTSTART:20241027T010000
END:STANDARD
END:VTIMEZONE
BEGIN:VEVENT
DTSTART;TZID=Europe/London:20230204T210000
DTEND;TZID=Europe/London:20230204T233000
DTSTAMP:20260422T190857
CREATED:20230102T131517Z
LAST-MODIFIED:20230102T131518Z
UID:1592-1675544400-1675553400@nenevalleyhog.co.uk
SUMMARY:Soul Fever - Live Band
DESCRIPTION:Live music at the Walnut Tree\n\n\n\nEstablished over 20 years ago\, Soul Fever are a seven-piece classic 60’s and 70’s soul covers band fronted by two female lead vocalists and supported by a brass section and backing vocalists. \n\n\n\nTheir repertoire includes James Brown\, Curtis Mayfield\, Sam & Dave\, Aretha Franklin\, Jean Knight\, Martha & The Vandellas\, Staple Sisters\, Wild Cherry\, Stevie Wonder\, Otis Redding\, Al Greene\, Heatwave\, Solomon Burke\, Bob & Earl\, Blues Brothers and Bill Withers.
URL:https://nenevalleyhog.co.uk/event/soul-fever-live-band/
LOCATION:The Walnut Tree\, 21 Station Road\, Blisworth\, Northamptonshire\, NN7 3DS\, United Kingdom
CATEGORIES:Walnut Tree Event
ATTACH;FMTTYPE=image/jpeg:https://nenevalleyhog.co.uk/wp-content/uploads/2023/01/soul-fever-768x589-1.jpg
END:VEVENT
END:VCALENDAR