BEGIN:VCALENDAR
VERSION:2.0
PRODID:-//Nene Valley Harley Owners Group - ECPv6.15.20//NONSGML v1.0//EN
CALSCALE:GREGORIAN
METHOD:PUBLISH
X-ORIGINAL-URL:https://nenevalleyhog.co.uk
X-WR-CALDESC:Events for Nene Valley Harley Owners Group
REFRESH-INTERVAL;VALUE=DURATION:PT1H
X-Robots-Tag:noindex
X-PUBLISHED-TTL:PT1H
BEGIN:VTIMEZONE
TZID:Europe/London
BEGIN:DAYLIGHT
TZOFFSETFROM:+0000
TZOFFSETTO:+0100
TZNAME:BST
DTSTART:20220327T010000
END:DAYLIGHT
BEGIN:STANDARD
TZOFFSETFROM:+0100
TZOFFSETTO:+0000
TZNAME:GMT
DTSTART:20221030T010000
END:STANDARD
BEGIN:DAYLIGHT
TZOFFSETFROM:+0000
TZOFFSETTO:+0100
TZNAME:BST
DTSTART:20230326T010000
END:DAYLIGHT
BEGIN:STANDARD
TZOFFSETFROM:+0100
TZOFFSETTO:+0000
TZNAME:GMT
DTSTART:20231029T010000
END:STANDARD
BEGIN:DAYLIGHT
TZOFFSETFROM:+0000
TZOFFSETTO:+0100
TZNAME:BST
DTSTART:20240331T010000
END:DAYLIGHT
BEGIN:STANDARD
TZOFFSETFROM:+0100
TZOFFSETTO:+0000
TZNAME:GMT
DTSTART:20241027T010000
END:STANDARD
END:VTIMEZONE
BEGIN:VEVENT
DTSTART;TZID=Europe/London:20230126T180000
DTEND;TZID=Europe/London:20230126T220000
DTSTAMP:20260424T103912
CREATED:20221210T181010Z
LAST-MODIFIED:20221210T181011Z
UID:1551-1674756000-1674770400@nenevalleyhog.co.uk
SUMMARY:Ace Cafe Harley Night
DESCRIPTION:Monthly Harley Night at the Ace. The true home of british bike clubs.
URL:https://nenevalleyhog.co.uk/event/ace-cafe-harley-night-4/
LOCATION:Ace Cafe\, North Circular Road\, Stonebridge\, London\, NW10 7UD\, United Kingdom
CATEGORIES:Bike Events
END:VEVENT
BEGIN:VEVENT
DTSTART;TZID=Europe/London:20230126T200000
DTEND;TZID=Europe/London:20230126T230000
DTSTAMP:20260424T103912
CREATED:20230102T130350Z
LAST-MODIFIED:20230102T130506Z
UID:1582-1674763200-1674774000@nenevalleyhog.co.uk
SUMMARY:Danny Posthill + Rob Rouse
DESCRIPTION:Comedy at the Walnut Tree Inn\n\n\n\nSUPPORT: TOM CHRISTIANCOMPÈRE: ADAM BEARDSMORE \n\n\n\nTicketed event. Tickets are £12.50 each and available via link at the bottom of this page. \n\n\n\nDANNY POSTHILL is a comedy Impressionist\, and his versatile act caters for all walks of life with unbeatable stand up and a string of impressions\, such as Alan Carr\, Michael McIntyre\, Sarah Millican and President Donald Trump\, alongside all the other topical political characters of today. \n\n\n\nDanny has performed all over the world\, working around the Mediterranean and South America\, plus taking his ‘Donald Trump act’ far and wide\, performing at events from London to Singapore. His Tv Credentials include ‘Pointless Celebrities’\, where he appeared alongside fellow impressionists Alistair McGowan\, Rory Bremner and Jon Culshaw. He also starred as “Donald Trump” in a spoof rap battle against “Hilary Clinton” for Sky News. \n\n\n\nFinally\, not forgetting Danny’s outstanding performance on Britain’s got Talent\, during 2015\, where he reached the Grand Final. Danny is regular headline act at Comedy clubs across the UK\, and has most recently taken his own one man show “That Bloke Who Does Voices” to The Edinburgh Fringe. \n\n\n\n“Brilliantly Funny”David Walliams BGT \n\n\n\n“Best impressionist doing stand –up I’ve seen\, apart from me of course.”Alistair McGowan \n\n\n\n“The act was great\, you’re funny\, you’re good… I like you.”Simon Cowell BGT \n\n\n\nROB ROUSE is one of comedy’s most lively\, loveable and dynamic performers\, Rob won Channel 4’s Prestigious So You Think You’re Funny competition at the Edinburgh Festival in way back in 1998. He’s one of our best comic storytellers\, has performed all over the world and works long form narratives into hard-hitting\, uncompromising hilarious tales filled with warmth and a sense of compassion for our collective human frailties. \n\n\n\nAs seen on Ben Elton’s hit BBC2 Shakespeare sitcom ‘Upstart Crow’ \, you may also recognise him from 8 out of 10 cats\, Spoons\, The Friday Night Project\, Celebrity Juice\, Dave’s One night stand\, John Bishop’s Only Joking\, Live at the Comedy store\, maybe collecting one of his wife’s eBay purchases from your garage or perhaps seen him at one of his 8 Edinburgh fringe shows or 3 UK tours. So\, come and see him do what he does best; honest\, frank\, seriously funny stand-up. \n\n\n\n“He’s a man with genuinely funny bones” The Sunday Times \n\n\n\n“Rob Rouse is a born clown\, a latter-day Stan Laurel” Time Out \n\n\n\n“The tears of laughter came in floods… a sustained piece of observational storytelling which just peaked and peaked” The Scotsman
URL:https://nenevalleyhog.co.uk/event/danny-posthill-rob-rouse/
CATEGORIES:Walnut Tree Event
ATTACH;FMTTYPE=image/jpeg:https://nenevalleyhog.co.uk/wp-content/uploads/2023/01/DANNY-POSTHILL-768x546-1.jpg
END:VEVENT
END:VCALENDAR