BEGIN:VCALENDAR
VERSION:2.0
PRODID:-//Nene Valley Harley Owners Group - ECPv6.15.20//NONSGML v1.0//EN
CALSCALE:GREGORIAN
METHOD:PUBLISH
X-WR-CALNAME:Nene Valley Harley Owners Group
X-ORIGINAL-URL:https://nenevalleyhog.co.uk
X-WR-CALDESC:Events for Nene Valley Harley Owners Group
REFRESH-INTERVAL;VALUE=DURATION:PT1H
X-Robots-Tag:noindex
X-PUBLISHED-TTL:PT1H
BEGIN:VTIMEZONE
TZID:Europe/London
BEGIN:DAYLIGHT
TZOFFSETFROM:+0000
TZOFFSETTO:+0100
TZNAME:BST
DTSTART:20220327T010000
END:DAYLIGHT
BEGIN:STANDARD
TZOFFSETFROM:+0100
TZOFFSETTO:+0000
TZNAME:GMT
DTSTART:20221030T010000
END:STANDARD
BEGIN:DAYLIGHT
TZOFFSETFROM:+0000
TZOFFSETTO:+0100
TZNAME:BST
DTSTART:20230326T010000
END:DAYLIGHT
BEGIN:STANDARD
TZOFFSETFROM:+0100
TZOFFSETTO:+0000
TZNAME:GMT
DTSTART:20231029T010000
END:STANDARD
BEGIN:DAYLIGHT
TZOFFSETFROM:+0000
TZOFFSETTO:+0100
TZNAME:BST
DTSTART:20240331T010000
END:DAYLIGHT
BEGIN:STANDARD
TZOFFSETFROM:+0100
TZOFFSETTO:+0000
TZNAME:GMT
DTSTART:20241027T010000
END:STANDARD
END:VTIMEZONE
BEGIN:VEVENT
DTSTART;TZID=Europe/London:20230121T210000
DTEND;TZID=Europe/London:20230121T233000
DTSTAMP:20260423T011922
CREATED:20230102T125238Z
LAST-MODIFIED:20230102T125239Z
UID:1576-1674334800-1674343800@nenevalleyhog.co.uk
SUMMARY:Whiteroom - Live Band
DESCRIPTION:Live music at the Walnut Tree Inn\n\n\n\nWith over 15 years’ experience as a band\, Whiteroom are the perfect choice for a special night to remember! \n\n\n\nThe Northampton-based four-piece\, specialising in contemporary Rock and Pop\, have created a blend of chart-toppers over the last 30 years for their shows\, including such artists as: Kings of Leon\, Blink 182\, The Killers\, U2\, Stereophonics\, George Michael\, Greenday\, Oasis\, Bastille\, Franz Ferdinand and many more!
URL:https://nenevalleyhog.co.uk/event/whiteroom-live-band/
LOCATION:The Walnut Tree\, 21 Station Road\, Blisworth\, Northamptonshire\, NN7 3DS\, United Kingdom
CATEGORIES:Walnut Tree Event
END:VEVENT
END:VCALENDAR