BEGIN:VCALENDAR
VERSION:2.0
PRODID:-//Nene Valley Harley Owners Group - ECPv6.15.20//NONSGML v1.0//EN
CALSCALE:GREGORIAN
METHOD:PUBLISH
X-ORIGINAL-URL:https://nenevalleyhog.co.uk
X-WR-CALDESC:Events for Nene Valley Harley Owners Group
REFRESH-INTERVAL;VALUE=DURATION:PT1H
X-Robots-Tag:noindex
X-PUBLISHED-TTL:PT1H
BEGIN:VTIMEZONE
TZID:Europe/London
BEGIN:DAYLIGHT
TZOFFSETFROM:+0000
TZOFFSETTO:+0100
TZNAME:BST
DTSTART:20220327T010000
END:DAYLIGHT
BEGIN:STANDARD
TZOFFSETFROM:+0100
TZOFFSETTO:+0000
TZNAME:GMT
DTSTART:20221030T010000
END:STANDARD
BEGIN:DAYLIGHT
TZOFFSETFROM:+0000
TZOFFSETTO:+0100
TZNAME:BST
DTSTART:20230326T010000
END:DAYLIGHT
BEGIN:STANDARD
TZOFFSETFROM:+0100
TZOFFSETTO:+0000
TZNAME:GMT
DTSTART:20231029T010000
END:STANDARD
BEGIN:DAYLIGHT
TZOFFSETFROM:+0000
TZOFFSETTO:+0100
TZNAME:BST
DTSTART:20240331T010000
END:DAYLIGHT
BEGIN:STANDARD
TZOFFSETFROM:+0100
TZOFFSETTO:+0000
TZNAME:GMT
DTSTART:20241027T010000
END:STANDARD
END:VTIMEZONE
BEGIN:VEVENT
DTSTART;TZID=Europe/London:20230108T100000
DTEND;TZID=Europe/London:20230108T140000
DTSTAMP:20260423T011957
CREATED:20221210T170009Z
LAST-MODIFIED:20230102T122023Z
UID:1517-1673172000-1673186400@nenevalleyhog.co.uk
SUMMARY:Chilly 2023 Rideout
DESCRIPTION:The first ride of 2023 will be leaving McDonalds Towcester on 8th January 2023 at 10:00. This is just a short ride to Sycamore café Billing Northampton where we will join other riders to raise money for Air Ambulance.
URL:https://nenevalleyhog.co.uk/event/chilly-2023-ride/
LOCATION:McDonalds Towcester\, A43\, Towcester\, Northamptonshire\, NN12 6TQ\, United Kingdom
CATEGORIES:Bike Events
ATTACH;FMTTYPE=image/jpeg:https://nenevalleyhog.co.uk/wp-content/uploads/2022/12/316663804_2538978849577776_8889692750682391952_n.jpg
END:VEVENT
BEGIN:VEVENT
DTSTART;TZID=Europe/London:20230108T123000
DTEND;TZID=Europe/London:20230108T150000
DTSTAMP:20260423T011957
CREATED:20230102T124704Z
LAST-MODIFIED:20230102T124704Z
UID:1570-1673181000-1673190000@nenevalleyhog.co.uk
SUMMARY:Paula Jackman's Jazz Masters
DESCRIPTION:Live Jazz at the Walnut Tree In 12:30pm – 3pm\n\n\n\nPaula Jackman’s Jazz Masters..a new and exciting new New Orleans style band featuring Paula Jackman (reeds)\, Mike Henry (trumpet)\, Bob Alcoe (trombone)\, Hugh Crozier (piano)\, Graham Collicot (drums) and Marc Easener (sousaphone). \n\n\n\nTickets £15.00 in advance.For reservations and enquiries call Tad Newton on 01604 858549.
URL:https://nenevalleyhog.co.uk/event/paula-jackmans-jazz-masters/
LOCATION:The Walnut Tree\, 21 Station Road\, Blisworth\, Northamptonshire\, NN7 3DS\, United Kingdom
CATEGORIES:Walnut Tree Event
END:VEVENT
END:VCALENDAR