BEGIN:VCALENDAR
VERSION:2.0
PRODID:-//Nene Valley Harley Owners Group - ECPv6.15.20//NONSGML v1.0//EN
CALSCALE:GREGORIAN
METHOD:PUBLISH
X-ORIGINAL-URL:https://nenevalleyhog.co.uk
X-WR-CALDESC:Events for Nene Valley Harley Owners Group
REFRESH-INTERVAL;VALUE=DURATION:PT1H
X-Robots-Tag:noindex
X-PUBLISHED-TTL:PT1H
BEGIN:VTIMEZONE
TZID:Europe/London
BEGIN:DAYLIGHT
TZOFFSETFROM:+0000
TZOFFSETTO:+0100
TZNAME:BST
DTSTART:20210328T010000
END:DAYLIGHT
BEGIN:STANDARD
TZOFFSETFROM:+0100
TZOFFSETTO:+0000
TZNAME:GMT
DTSTART:20211031T010000
END:STANDARD
BEGIN:DAYLIGHT
TZOFFSETFROM:+0000
TZOFFSETTO:+0100
TZNAME:BST
DTSTART:20220327T010000
END:DAYLIGHT
BEGIN:STANDARD
TZOFFSETFROM:+0100
TZOFFSETTO:+0000
TZNAME:GMT
DTSTART:20221030T010000
END:STANDARD
BEGIN:DAYLIGHT
TZOFFSETFROM:+0000
TZOFFSETTO:+0100
TZNAME:BST
DTSTART:20230326T010000
END:DAYLIGHT
BEGIN:STANDARD
TZOFFSETFROM:+0100
TZOFFSETTO:+0000
TZNAME:GMT
DTSTART:20231029T010000
END:STANDARD
END:VTIMEZONE
BEGIN:VEVENT
DTSTART;TZID=Europe/London:20221125T190000
DTEND;TZID=Europe/London:20221125T230000
DTSTAMP:20260423T052830
CREATED:20221010T205658Z
LAST-MODIFIED:20221010T205659Z
UID:1473-1669402800-1669417200@nenevalleyhog.co.uk
SUMMARY:Awards Night and Christmas Party
DESCRIPTION:Nene Valley awards and Christmas party is on Friday 25th November 2022 at The Walnut Tree 21 Station Road\, Blisworth\, NN7 3DS. A great chance to get together and celebrate the start of the festive season with a buffet\, award presentations\, and a disco. \n\n\n\nWill you be one of the lucky award winners?  \n\n\n\nTickets are available to buy from Trybooking\, just click on the link below \n\n\n\nhttps://www.trybooking.co.uk/BHQC \n\n\n\nTicket sales are limited to 80 and are just £10 each plus 15p per ticket booking fee
URL:https://nenevalleyhog.co.uk/event/awards-night-and-christmas-party/
LOCATION:The Walnut Tree\, 21 Station Road\, Blisworth\, Northamptonshire\, NN7 3DS\, United Kingdom
CATEGORIES:Social Event
ATTACH;FMTTYPE=image/jpeg:https://nenevalleyhog.co.uk/wp-content/uploads/2022/10/Awards2022.jpg
END:VEVENT
END:VCALENDAR