BEGIN:VCALENDAR
VERSION:2.0
PRODID:-//Nene Valley Harley Owners Group - ECPv6.15.20//NONSGML v1.0//EN
CALSCALE:GREGORIAN
METHOD:PUBLISH
X-ORIGINAL-URL:https://nenevalleyhog.co.uk
X-WR-CALDESC:Events for Nene Valley Harley Owners Group
REFRESH-INTERVAL;VALUE=DURATION:PT1H
X-Robots-Tag:noindex
X-PUBLISHED-TTL:PT1H
BEGIN:VTIMEZONE
TZID:Europe/London
BEGIN:DAYLIGHT
TZOFFSETFROM:+0000
TZOFFSETTO:+0100
TZNAME:BST
DTSTART:20210328T010000
END:DAYLIGHT
BEGIN:STANDARD
TZOFFSETFROM:+0100
TZOFFSETTO:+0000
TZNAME:GMT
DTSTART:20211031T010000
END:STANDARD
BEGIN:DAYLIGHT
TZOFFSETFROM:+0000
TZOFFSETTO:+0100
TZNAME:BST
DTSTART:20220327T010000
END:DAYLIGHT
BEGIN:STANDARD
TZOFFSETFROM:+0100
TZOFFSETTO:+0000
TZNAME:GMT
DTSTART:20221030T010000
END:STANDARD
BEGIN:DAYLIGHT
TZOFFSETFROM:+0000
TZOFFSETTO:+0100
TZNAME:BST
DTSTART:20230326T010000
END:DAYLIGHT
BEGIN:STANDARD
TZOFFSETFROM:+0100
TZOFFSETTO:+0000
TZNAME:GMT
DTSTART:20231029T010000
END:STANDARD
END:VTIMEZONE
BEGIN:VEVENT
DTSTART;TZID=Europe/London:20221015T193000
DTEND;TZID=Europe/London:20221015T233000
DTSTAMP:20260423T065503
CREATED:20221010T203716Z
LAST-MODIFIED:20221010T203718Z
UID:1463-1665862200-1665876600@nenevalleyhog.co.uk
SUMMARY:Chapter Social With Live Music
DESCRIPTION:Come join us on October 15th from 7.30pm for a social meet up with live music at The Walnut Tree.This event is organised by the Landlord and is open to the public. \n\n\n\nBand – The Tom Betts Band \n\n\n\nFour-piece Northampton(ish) based rock band covering popular rock classics with energy and enthusiasm. From Free to Floyd\, Killers to Skynard;  \n\n\n\nDate:July 30Time:9:00 pm – 11:50 pmEvent Category:Live Music \n\n\n\nAdmission:FREE \n\n\n\nFor more details visit https://www.walnut-tree.co.uk/ \n\n\n\nNote – line ups may be subject to change
URL:https://nenevalleyhog.co.uk/event/chapter-social-with-live-music-2/
LOCATION:The Walnut Tree\, 21 Station Road\, Blisworth\, Northamptonshire\, NN7 3DS\, United Kingdom
CATEGORIES:Social Event
ATTACH;FMTTYPE=image/jpeg:https://nenevalleyhog.co.uk/wp-content/uploads/2022/10/TomBetts.jpg
END:VEVENT
END:VCALENDAR