BEGIN:VCALENDAR
VERSION:2.0
PRODID:-//Nene Valley Harley Owners Group - ECPv6.15.20//NONSGML v1.0//EN
CALSCALE:GREGORIAN
METHOD:PUBLISH
X-ORIGINAL-URL:https://nenevalleyhog.co.uk
X-WR-CALDESC:Events for Nene Valley Harley Owners Group
REFRESH-INTERVAL;VALUE=DURATION:PT1H
X-Robots-Tag:noindex
X-PUBLISHED-TTL:PT1H
BEGIN:VTIMEZONE
TZID:Europe/London
BEGIN:DAYLIGHT
TZOFFSETFROM:+0000
TZOFFSETTO:+0100
TZNAME:BST
DTSTART:20210328T010000
END:DAYLIGHT
BEGIN:STANDARD
TZOFFSETFROM:+0100
TZOFFSETTO:+0000
TZNAME:GMT
DTSTART:20211031T010000
END:STANDARD
BEGIN:DAYLIGHT
TZOFFSETFROM:+0000
TZOFFSETTO:+0100
TZNAME:BST
DTSTART:20220327T010000
END:DAYLIGHT
BEGIN:STANDARD
TZOFFSETFROM:+0100
TZOFFSETTO:+0000
TZNAME:GMT
DTSTART:20221030T010000
END:STANDARD
BEGIN:DAYLIGHT
TZOFFSETFROM:+0000
TZOFFSETTO:+0100
TZNAME:BST
DTSTART:20230326T010000
END:DAYLIGHT
BEGIN:STANDARD
TZOFFSETFROM:+0100
TZOFFSETTO:+0000
TZNAME:GMT
DTSTART:20231029T010000
END:STANDARD
END:VTIMEZONE
BEGIN:VEVENT
DTSTART;TZID=Europe/London:20220923T000000
DTEND;TZID=Europe/London:20220926T235959
DTSTAMP:20260423T081935
CREATED:20220829T162554Z
LAST-MODIFIED:20220829T162555Z
UID:1447-1663891200-1664236799@nenevalleyhog.co.uk
SUMMARY:Blazin Steampunk Rally
DESCRIPTION:At Lakeside on Hayling Island\n\n\n\nThe team at Lakeside have been inundated with calls and bookings and they are now unable to take any further bookings. \n\n\n\nIf you would like to be added to the reserve list then please email me (Mark@newforesthog.co.uk) copying in Debbie (Debbie@newforesthog.co.uk) and we will ensure that we add you to the list. Should any rooms be cancelled\, we will contact you with details. \n\n\n\nThank you once again \n\n\n\nMark SmithRally Manager/Assistant Director
URL:https://nenevalleyhog.co.uk/event/blazin-steampunk-rally/
LOCATION:Bucks
CATEGORIES:Rally
ATTACH;FMTTYPE=image/jpeg:https://nenevalleyhog.co.uk/wp-content/uploads/2022/08/Steampunk2022.jpg
END:VEVENT
BEGIN:VEVENT
DTSTART;TZID=Europe/London:20220925T090000
DTEND;TZID=Europe/London:20220925T170000
DTSTAMP:20260423T081935
CREATED:20220829T162059Z
LAST-MODIFIED:20220829T162100Z
UID:1444-1664096400-1664125200@nenevalleyhog.co.uk
SUMMARY:Oswestry Iron Work Centre Ride
DESCRIPTION:Departing from Towcester McDonalds at 9am. Becky leading.\n\n\n\nMore info to come……
URL:https://nenevalleyhog.co.uk/event/oswestry-iron-work-centre-ride/
LOCATION:McDonalds Towcester\, A43\, Towcester\, Northamptonshire\, NN12 6TQ\, United Kingdom
CATEGORIES:Ride Out
ATTACH;FMTTYPE=image/jpeg:https://nenevalleyhog.co.uk/wp-content/uploads/2022/08/British-Ironwork-Centre-Oswestry-Shropshire-Safari-02-NCN-e1539257168138-525x350-1.jpg
END:VEVENT
END:VCALENDAR