BEGIN:VCALENDAR
VERSION:2.0
PRODID:-//Nene Valley Harley Owners Group - ECPv6.15.20//NONSGML v1.0//EN
CALSCALE:GREGORIAN
METHOD:PUBLISH
X-ORIGINAL-URL:https://nenevalleyhog.co.uk
X-WR-CALDESC:Events for Nene Valley Harley Owners Group
REFRESH-INTERVAL;VALUE=DURATION:PT1H
X-Robots-Tag:noindex
X-PUBLISHED-TTL:PT1H
BEGIN:VTIMEZONE
TZID:Europe/London
BEGIN:DAYLIGHT
TZOFFSETFROM:+0000
TZOFFSETTO:+0100
TZNAME:BST
DTSTART:20210328T010000
END:DAYLIGHT
BEGIN:STANDARD
TZOFFSETFROM:+0100
TZOFFSETTO:+0000
TZNAME:GMT
DTSTART:20211031T010000
END:STANDARD
BEGIN:DAYLIGHT
TZOFFSETFROM:+0000
TZOFFSETTO:+0100
TZNAME:BST
DTSTART:20220327T010000
END:DAYLIGHT
BEGIN:STANDARD
TZOFFSETFROM:+0100
TZOFFSETTO:+0000
TZNAME:GMT
DTSTART:20221030T010000
END:STANDARD
BEGIN:DAYLIGHT
TZOFFSETFROM:+0000
TZOFFSETTO:+0100
TZNAME:BST
DTSTART:20230326T010000
END:DAYLIGHT
BEGIN:STANDARD
TZOFFSETFROM:+0100
TZOFFSETTO:+0000
TZNAME:GMT
DTSTART:20231029T010000
END:STANDARD
END:VTIMEZONE
BEGIN:VEVENT
DTSTART;TZID=Europe/London:20220916T000000
DTEND;TZID=Europe/London:20220918T235959
DTSTAMP:20260423T081945
CREATED:20220226T175124Z
LAST-MODIFIED:20220829T160446Z
UID:1203-1663286400-1663545599@nenevalleyhog.co.uk
SUMMARY:Lindum Concursum Yellow Belly Melee
DESCRIPTION:
URL:https://nenevalleyhog.co.uk/event/lindum-concursum/
LOCATION:Ye Olde Barn Hotel\, Ye Olde Barn Hotel\, Marston\, Grantham\, NG32 2HT\, United Kingdom
CATEGORIES:Rally
END:VEVENT
BEGIN:VEVENT
DTSTART;TZID=Europe/London:20220916T000000
DTEND;TZID=Europe/London:20220918T235959
DTSTAMP:20260423T081945
CREATED:20220829T160945Z
LAST-MODIFIED:20220829T160946Z
UID:1438-1663286400-1663545599@nenevalleyhog.co.uk
SUMMARY:Dragon Fever Rally
DESCRIPTION:
URL:https://nenevalleyhog.co.uk/event/dragon-fever-rally/
LOCATION:Bucks
CATEGORIES:Rally
ATTACH;FMTTYPE=image/png:https://nenevalleyhog.co.uk/wp-content/uploads/2022/08/image-2-e1646055699139.png
END:VEVENT
END:VCALENDAR