BEGIN:VCALENDAR
VERSION:2.0
PRODID:-//Nene Valley Harley Owners Group - ECPv6.15.20//NONSGML v1.0//EN
CALSCALE:GREGORIAN
METHOD:PUBLISH
X-WR-CALNAME:Nene Valley Harley Owners Group
X-ORIGINAL-URL:https://nenevalleyhog.co.uk
X-WR-CALDESC:Events for Nene Valley Harley Owners Group
REFRESH-INTERVAL;VALUE=DURATION:PT1H
X-Robots-Tag:noindex
X-PUBLISHED-TTL:PT1H
BEGIN:VTIMEZONE
TZID:Europe/London
BEGIN:DAYLIGHT
TZOFFSETFROM:+0000
TZOFFSETTO:+0100
TZNAME:BST
DTSTART:20210328T010000
END:DAYLIGHT
BEGIN:STANDARD
TZOFFSETFROM:+0100
TZOFFSETTO:+0000
TZNAME:GMT
DTSTART:20211031T010000
END:STANDARD
BEGIN:DAYLIGHT
TZOFFSETFROM:+0000
TZOFFSETTO:+0100
TZNAME:BST
DTSTART:20220327T010000
END:DAYLIGHT
BEGIN:STANDARD
TZOFFSETFROM:+0100
TZOFFSETTO:+0000
TZNAME:GMT
DTSTART:20221030T010000
END:STANDARD
BEGIN:DAYLIGHT
TZOFFSETFROM:+0000
TZOFFSETTO:+0100
TZNAME:BST
DTSTART:20230326T010000
END:DAYLIGHT
BEGIN:STANDARD
TZOFFSETFROM:+0100
TZOFFSETTO:+0000
TZNAME:GMT
DTSTART:20231029T010000
END:STANDARD
END:VTIMEZONE
BEGIN:VEVENT
DTSTART;TZID=Europe/London:20220915T180000
DTEND;TZID=Europe/London:20220915T223000
DTSTAMP:20260423T123937
CREATED:20220829T160039Z
LAST-MODIFIED:20220915T095729Z
UID:1433-1663264800-1663281000@nenevalleyhog.co.uk
SUMMARY:Newmarket Bike Night Rideout
DESCRIPTION:Departing from Towcester McDonalds at 6pm. Martin (So Bad) leading.\n\n\n\nMore details to come…
URL:https://nenevalleyhog.co.uk/event/newmarket-bike-night-rideout-2/
LOCATION:McDonalds Towcester\, A43\, Towcester\, Northamptonshire\, NN12 6TQ\, United Kingdom
CATEGORIES:Bike Events,Ride Out
ATTACH;FMTTYPE=image/jpeg:https://nenevalleyhog.co.uk/wp-content/uploads/2022/08/i-4.jpeg
END:VEVENT
END:VCALENDAR