BEGIN:VCALENDAR
VERSION:2.0
PRODID:-//Nene Valley Harley Owners Group - ECPv6.15.20//NONSGML v1.0//EN
CALSCALE:GREGORIAN
METHOD:PUBLISH
X-ORIGINAL-URL:https://nenevalleyhog.co.uk
X-WR-CALDESC:Events for Nene Valley Harley Owners Group
REFRESH-INTERVAL;VALUE=DURATION:PT1H
X-Robots-Tag:noindex
X-PUBLISHED-TTL:PT1H
BEGIN:VTIMEZONE
TZID:Europe/London
BEGIN:DAYLIGHT
TZOFFSETFROM:+0000
TZOFFSETTO:+0100
TZNAME:BST
DTSTART:20210328T010000
END:DAYLIGHT
BEGIN:STANDARD
TZOFFSETFROM:+0100
TZOFFSETTO:+0000
TZNAME:GMT
DTSTART:20211031T010000
END:STANDARD
BEGIN:DAYLIGHT
TZOFFSETFROM:+0000
TZOFFSETTO:+0100
TZNAME:BST
DTSTART:20220327T010000
END:DAYLIGHT
BEGIN:STANDARD
TZOFFSETFROM:+0100
TZOFFSETTO:+0000
TZNAME:GMT
DTSTART:20221030T010000
END:STANDARD
BEGIN:DAYLIGHT
TZOFFSETFROM:+0000
TZOFFSETTO:+0100
TZNAME:BST
DTSTART:20230326T010000
END:DAYLIGHT
BEGIN:STANDARD
TZOFFSETFROM:+0100
TZOFFSETTO:+0000
TZNAME:GMT
DTSTART:20231029T010000
END:STANDARD
END:VTIMEZONE
BEGIN:VEVENT
DTSTART;TZID=Europe/London:20220910T090000
DTEND;TZID=Europe/London:20220910T170000
DTSTAMP:20260423T081941
CREATED:20220812T131212Z
LAST-MODIFIED:20220812T131214Z
UID:1424-1662800400-1662829200@nenevalleyhog.co.uk
SUMMARY:Ride to the Tide - Hunstanton
DESCRIPTION:Simon will be leading a ride to Hunstanton on Saturday 10th September 2022. The ride will be leaving McDonalds Towcester at 09:00 so please be ready with a full tank and empty bladder as this is quite a long ride. \n\n\n\nThe route will take us along the A45\, A605\, A1139 then A47 to Kings Lynn\, from there we will take the A149 to Hunstanton.  Once there you can take in the sea air\, eat fish n chips\, and enjoy ice-cream. \n\n\n\nThe route back will be a reverse of the journey there and will finish at BP service station NN8 2DU. This ride is weather dependant so if the sun gods are not smiling on us\, the ride will need to be postponed.
URL:https://nenevalleyhog.co.uk/event/ride-to-the-tide-hunstanton/
LOCATION:McDonalds Towcester\, A43\, Towcester\, Northamptonshire\, NN12 6TQ\, United Kingdom
CATEGORIES:Ride Out
ATTACH;FMTTYPE=image/jpeg:https://nenevalleyhog.co.uk/wp-content/uploads/2022/08/298906350_10228421662477485_8938921667460316706_n.jpg
END:VEVENT
END:VCALENDAR