BEGIN:VCALENDAR
VERSION:2.0
PRODID:-//Nene Valley Harley Owners Group - ECPv6.15.20//NONSGML v1.0//EN
CALSCALE:GREGORIAN
METHOD:PUBLISH
X-ORIGINAL-URL:https://nenevalleyhog.co.uk
X-WR-CALDESC:Events for Nene Valley Harley Owners Group
REFRESH-INTERVAL;VALUE=DURATION:PT1H
X-Robots-Tag:noindex
X-PUBLISHED-TTL:PT1H
BEGIN:VTIMEZONE
TZID:Europe/London
BEGIN:DAYLIGHT
TZOFFSETFROM:+0000
TZOFFSETTO:+0100
TZNAME:BST
DTSTART:20210328T010000
END:DAYLIGHT
BEGIN:STANDARD
TZOFFSETFROM:+0100
TZOFFSETTO:+0000
TZNAME:GMT
DTSTART:20211031T010000
END:STANDARD
BEGIN:DAYLIGHT
TZOFFSETFROM:+0000
TZOFFSETTO:+0100
TZNAME:BST
DTSTART:20220327T010000
END:DAYLIGHT
BEGIN:STANDARD
TZOFFSETFROM:+0100
TZOFFSETTO:+0000
TZNAME:GMT
DTSTART:20221030T010000
END:STANDARD
BEGIN:DAYLIGHT
TZOFFSETFROM:+0000
TZOFFSETTO:+0100
TZNAME:BST
DTSTART:20230326T010000
END:DAYLIGHT
BEGIN:STANDARD
TZOFFSETFROM:+0100
TZOFFSETTO:+0000
TZNAME:GMT
DTSTART:20231029T010000
END:STANDARD
END:VTIMEZONE
BEGIN:VEVENT
DTSTART;TZID=Europe/London:20220728T000000
DTEND;TZID=Europe/London:20220731T235959
DTSTAMP:20260423T195718
CREATED:20220609T203855Z
LAST-MODIFIED:20220609T203857Z
UID:1359-1658966400-1659311999@nenevalleyhog.co.uk
SUMMARY:Fenlanders HOG Rally
DESCRIPTION:Further details at: \n\n\n\n\nHome
URL:https://nenevalleyhog.co.uk/event/fenlanders-hog-rally-2/
CATEGORIES:Rally
ATTACH;FMTTYPE=image/jpeg:https://nenevalleyhog.co.uk/wp-content/uploads/2022/06/RallyPost.jpg
END:VEVENT
BEGIN:VEVENT
DTSTART;TZID=Europe/London:20220730T193000
DTEND;TZID=Europe/London:20220730T233000
DTSTAMP:20260423T195718
CREATED:20220710T102530Z
LAST-MODIFIED:20220710T102531Z
UID:1407-1659209400-1659223800@nenevalleyhog.co.uk
SUMMARY:Chapter Social with live music
DESCRIPTION:Come join us for a social meet up with live music at the Walnut Tree. This event is organised by the Landlord and is open to the public. \n\n\n\nBand – Cheap Thrills \n\n\n\nJuly 30 @ 9:00 pm – 11:50 pm \n\n\n\nA female-fronted\, 4 piece classic rock\, rhythm & blues band from Bedford\, UK. Featuring tracks from Fleetwood Mac\, Stones\, Police\, Blondie\, ZZ Top\, Bad Company\, Queen\, Tina Turner\, Joan Jett\, Whitesnake\, AC/DC. Post Malone\, Robert Palmer\, Tom Petty\, Black Crowes\, Santana. \n\n\n\nDETAILS \n\n\n\nDate:July 30Time:9:00 pm – 11:50 pmEvent Category:Live Music \n\n\n\nAdmission:FREE
URL:https://nenevalleyhog.co.uk/event/chapter-social-with-live-music/
LOCATION:The Walnut Tree\, 21 Station Road\, Blisworth\, Northamptonshire\, NN7 3DS\, United Kingdom
CATEGORIES:Social Event
ATTACH;FMTTYPE=image/jpeg:https://nenevalleyhog.co.uk/wp-content/uploads/2022/07/290619120_10228185322129124_8855922609865552431_n.jpg
END:VEVENT
END:VCALENDAR