BEGIN:VCALENDAR
VERSION:2.0
PRODID:-//Nene Valley Harley Owners Group - ECPv6.15.20//NONSGML v1.0//EN
CALSCALE:GREGORIAN
METHOD:PUBLISH
X-WR-CALNAME:Nene Valley Harley Owners Group
X-ORIGINAL-URL:https://nenevalleyhog.co.uk
X-WR-CALDESC:Events for Nene Valley Harley Owners Group
REFRESH-INTERVAL;VALUE=DURATION:PT1H
X-Robots-Tag:noindex
X-PUBLISHED-TTL:PT1H
BEGIN:VTIMEZONE
TZID:Europe/London
BEGIN:DAYLIGHT
TZOFFSETFROM:+0000
TZOFFSETTO:+0100
TZNAME:BST
DTSTART:20210328T010000
END:DAYLIGHT
BEGIN:STANDARD
TZOFFSETFROM:+0100
TZOFFSETTO:+0000
TZNAME:GMT
DTSTART:20211031T010000
END:STANDARD
BEGIN:DAYLIGHT
TZOFFSETFROM:+0000
TZOFFSETTO:+0100
TZNAME:BST
DTSTART:20220327T010000
END:DAYLIGHT
BEGIN:STANDARD
TZOFFSETFROM:+0100
TZOFFSETTO:+0000
TZNAME:GMT
DTSTART:20221030T010000
END:STANDARD
BEGIN:DAYLIGHT
TZOFFSETFROM:+0000
TZOFFSETTO:+0100
TZNAME:BST
DTSTART:20230326T010000
END:DAYLIGHT
BEGIN:STANDARD
TZOFFSETFROM:+0100
TZOFFSETTO:+0000
TZNAME:GMT
DTSTART:20231029T010000
END:STANDARD
END:VTIMEZONE
BEGIN:VEVENT
DTSTART;TZID=Europe/London:20220717T093000
DTEND;TZID=Europe/London:20220717T170000
DTSTAMP:20260423T153636
CREATED:20220609T201612Z
LAST-MODIFIED:20220609T201614Z
UID:1349-1658050200-1658077200@nenevalleyhog.co.uk
SUMMARY:Dom's Bike Stop Ride
DESCRIPTION:Departing from Towcester McDonalds at 09:30hrs on Sunday 17th July. Colin leading\, Simon and Rickie tailing.\n\n\n\nA Sunday ride down to Dom’s bike stop cafe near Leomister in Herefordshire. More info to come…
URL:https://nenevalleyhog.co.uk/event/doms-bike-stop-ride/
LOCATION:Dom’s Bike Stop\, A44\, Leominster\, Herefordshire\, HR6 0NA\, United Kingdom
CATEGORIES:Ride Out
END:VEVENT
END:VCALENDAR