BEGIN:VCALENDAR
VERSION:2.0
PRODID:-//Nene Valley Harley Owners Group - ECPv6.15.20//NONSGML v1.0//EN
CALSCALE:GREGORIAN
METHOD:PUBLISH
X-ORIGINAL-URL:https://nenevalleyhog.co.uk
X-WR-CALDESC:Events for Nene Valley Harley Owners Group
REFRESH-INTERVAL;VALUE=DURATION:PT1H
X-Robots-Tag:noindex
X-PUBLISHED-TTL:PT1H
BEGIN:VTIMEZONE
TZID:Europe/London
BEGIN:DAYLIGHT
TZOFFSETFROM:+0000
TZOFFSETTO:+0100
TZNAME:BST
DTSTART:20210328T010000
END:DAYLIGHT
BEGIN:STANDARD
TZOFFSETFROM:+0100
TZOFFSETTO:+0000
TZNAME:GMT
DTSTART:20211031T010000
END:STANDARD
BEGIN:DAYLIGHT
TZOFFSETFROM:+0000
TZOFFSETTO:+0100
TZNAME:BST
DTSTART:20220327T010000
END:DAYLIGHT
BEGIN:STANDARD
TZOFFSETFROM:+0100
TZOFFSETTO:+0000
TZNAME:GMT
DTSTART:20221030T010000
END:STANDARD
BEGIN:DAYLIGHT
TZOFFSETFROM:+0000
TZOFFSETTO:+0100
TZNAME:BST
DTSTART:20230326T010000
END:DAYLIGHT
BEGIN:STANDARD
TZOFFSETFROM:+0100
TZOFFSETTO:+0000
TZNAME:GMT
DTSTART:20231029T010000
END:STANDARD
END:VTIMEZONE
BEGIN:VEVENT
DTSTART;TZID=Europe/London:20220624T000000
DTEND;TZID=Europe/London:20220626T235959
DTSTAMP:20260423T195932
CREATED:20220226T180846Z
LAST-MODIFIED:20220226T180849Z
UID:1214-1656028800-1656287999@nenevalleyhog.co.uk
SUMMARY:Roar on the Moor
DESCRIPTION:
URL:https://nenevalleyhog.co.uk/event/roar-on-the-moor/
LOCATION:Ilkley Rugby Club\, Stacks Field\, Denton Road\, Ilkley\, LS29 0AF\, United Kingdom
CATEGORIES:Rally
END:VEVENT
BEGIN:VEVENT
DTSTART;TZID=Europe/London:20220624T000000
DTEND;TZID=Europe/London:20220626T235959
DTSTAMP:20260423T195932
CREATED:20220609T200145Z
LAST-MODIFIED:20220609T200146Z
UID:1344-1656028800-1656287999@nenevalleyhog.co.uk
SUMMARY:Valley Rally (Thames Valley)
DESCRIPTION:Further details at \n\n\n\n\nhttps://thamesvalleyhog.org.uk/valley-rally/
URL:https://nenevalleyhog.co.uk/event/valley-rally-thames-valley/
CATEGORIES:Rally
END:VEVENT
BEGIN:VEVENT
DTSTART;TZID=Europe/London:20220625T103000
DTEND;TZID=Europe/London:20220625T150000
DTSTAMP:20260423T195932
CREATED:20220429T213538Z
LAST-MODIFIED:20220429T213539Z
UID:1320-1656153000-1656169200@nenevalleyhog.co.uk
SUMMARY:Red Lion Harley Day
DESCRIPTION:Departing from Towcester McDonalds at 10:30am. Badger leading\n\n\n\nFurther details to come…
URL:https://nenevalleyhog.co.uk/event/red-lion-harley-day/
LOCATION:McDonalds Towcester\, A43\, Towcester\, Northamptonshire\, NN12 6TQ\, United Kingdom
CATEGORIES:Ride Out
END:VEVENT
END:VCALENDAR