BEGIN:VCALENDAR
VERSION:2.0
PRODID:-//Nene Valley Harley Owners Group - ECPv6.15.20//NONSGML v1.0//EN
CALSCALE:GREGORIAN
METHOD:PUBLISH
X-WR-CALNAME:Nene Valley Harley Owners Group
X-ORIGINAL-URL:https://nenevalleyhog.co.uk
X-WR-CALDESC:Events for Nene Valley Harley Owners Group
REFRESH-INTERVAL;VALUE=DURATION:PT1H
X-Robots-Tag:noindex
X-PUBLISHED-TTL:PT1H
BEGIN:VTIMEZONE
TZID:Europe/London
BEGIN:DAYLIGHT
TZOFFSETFROM:+0000
TZOFFSETTO:+0100
TZNAME:BST
DTSTART:20210328T010000
END:DAYLIGHT
BEGIN:STANDARD
TZOFFSETFROM:+0100
TZOFFSETTO:+0000
TZNAME:GMT
DTSTART:20211031T010000
END:STANDARD
BEGIN:DAYLIGHT
TZOFFSETFROM:+0000
TZOFFSETTO:+0100
TZNAME:BST
DTSTART:20220327T010000
END:DAYLIGHT
BEGIN:STANDARD
TZOFFSETFROM:+0100
TZOFFSETTO:+0000
TZNAME:GMT
DTSTART:20221030T010000
END:STANDARD
BEGIN:DAYLIGHT
TZOFFSETFROM:+0000
TZOFFSETTO:+0100
TZNAME:BST
DTSTART:20230326T010000
END:DAYLIGHT
BEGIN:STANDARD
TZOFFSETFROM:+0100
TZOFFSETTO:+0000
TZNAME:GMT
DTSTART:20231029T010000
END:STANDARD
END:VTIMEZONE
BEGIN:VEVENT
DTSTART;TZID=Europe/London:20220605T103000
DTEND;TZID=Europe/London:20220605T150000
DTSTAMP:20260423T170028
CREATED:20220429T211022Z
LAST-MODIFIED:20220429T211023Z
UID:1308-1654425000-1654441200@nenevalleyhog.co.uk
SUMMARY:Jubilee Sunday Lunch Ride
DESCRIPTION:Leaving McDonalds at 10:30am. Becky leading\n\n\n\nThe ride is a lovely little route and is a mixture of A roads/B Roads and unmarked roads and a tiny bit of dual carriageway and a totally different route that last time. No petrol stop required \n\n\n\nThe ride will end at the  award winning Knife and Cleaver at Houghton Conquest where we have a table booked for Sunday lunch from 12:00pm. Please note this is Jubilee Sunday so it would be great if we could adorn our bikes in red\, white and blue  \n\n\n\n Address: The Grove\, Houghton Conquest\, MK45 3LA\, Tel 01234 930789 \n\n\n\nSunday lunch is as per the menu\, coffee and tea is provided courtesy of Big Jay \n\n\n\n\nFood and Drink\n\n\n\n\nThis is a one-way ride\, leaving you to make your own way home. Please give me an indication if you are planning to come \n\n\n\n beckyivers@icloud.com \n\n\n\n07901716385
URL:https://nenevalleyhog.co.uk/event/jubilee-sunday-lunch-ride/
LOCATION:McDonalds Towcester\, A43\, Towcester\, Northamptonshire\, NN12 6TQ\, United Kingdom
CATEGORIES:Ride Out
END:VEVENT
END:VCALENDAR