BEGIN:VCALENDAR
VERSION:2.0
PRODID:-//Nene Valley Harley Owners Group - ECPv6.15.20//NONSGML v1.0//EN
CALSCALE:GREGORIAN
METHOD:PUBLISH
X-WR-CALNAME:Nene Valley Harley Owners Group
X-ORIGINAL-URL:https://nenevalleyhog.co.uk
X-WR-CALDESC:Events for Nene Valley Harley Owners Group
REFRESH-INTERVAL;VALUE=DURATION:PT1H
X-Robots-Tag:noindex
X-PUBLISHED-TTL:PT1H
BEGIN:VTIMEZONE
TZID:Europe/London
BEGIN:DAYLIGHT
TZOFFSETFROM:+0000
TZOFFSETTO:+0100
TZNAME:BST
DTSTART:20210328T010000
END:DAYLIGHT
BEGIN:STANDARD
TZOFFSETFROM:+0100
TZOFFSETTO:+0000
TZNAME:GMT
DTSTART:20211031T010000
END:STANDARD
BEGIN:DAYLIGHT
TZOFFSETFROM:+0000
TZOFFSETTO:+0100
TZNAME:BST
DTSTART:20220327T010000
END:DAYLIGHT
BEGIN:STANDARD
TZOFFSETFROM:+0100
TZOFFSETTO:+0000
TZNAME:GMT
DTSTART:20221030T010000
END:STANDARD
BEGIN:DAYLIGHT
TZOFFSETFROM:+0000
TZOFFSETTO:+0100
TZNAME:BST
DTSTART:20230326T010000
END:DAYLIGHT
BEGIN:STANDARD
TZOFFSETFROM:+0100
TZOFFSETTO:+0000
TZNAME:GMT
DTSTART:20231029T010000
END:STANDARD
END:VTIMEZONE
BEGIN:VEVENT
DTSTART;TZID=Europe/London:20220513T080000
DTEND;TZID=Europe/London:20220516T170000
DTSTAMP:20260423T195046
CREATED:20220209T115523Z
LAST-MODIFIED:20220209T115526Z
UID:1173-1652428800-1652720400@nenevalleyhog.co.uk
SUMMARY:Iron horse Rally
DESCRIPTION:Every year in mid May\, tumultuous sounds of V-twins ring out in glorious Filey in North East Yorkshire. The annual St Leger Iron Horse rally has become the early-season destination for getting in a summer party mood. Held at the Blue Dolphin Holiday Park situated on the coast in a spectacular clifftop location\, attendees can take advantage of sumptuous fully fitted self-contained mobile homes or camp on one of the many tent or caravan pitches – most with electric hook up. Food is on offer aplenty in the on-site restaurants\, chippie\, burger bar\, pizza parlour or mini market
URL:https://nenevalleyhog.co.uk/event/iron-horse-rally/
LOCATION:Blue Dolphin Holiday Park\, Blue Dolphin Holiday Park\, Gristhorpe Bay\, Filey\, North Yorkshire\, YO14 9PU\, United Kingdom
CATEGORIES:Rally
END:VEVENT
END:VCALENDAR