BEGIN:VCALENDAR
VERSION:2.0
PRODID:-//Nene Valley Harley Owners Group - ECPv6.15.20//NONSGML v1.0//EN
CALSCALE:GREGORIAN
METHOD:PUBLISH
X-WR-CALNAME:Nene Valley Harley Owners Group
X-ORIGINAL-URL:https://nenevalleyhog.co.uk
X-WR-CALDESC:Events for Nene Valley Harley Owners Group
REFRESH-INTERVAL;VALUE=DURATION:PT1H
X-Robots-Tag:noindex
X-PUBLISHED-TTL:PT1H
BEGIN:VTIMEZONE
TZID:Europe/London
BEGIN:DAYLIGHT
TZOFFSETFROM:+0000
TZOFFSETTO:+0100
TZNAME:BST
DTSTART:20210328T010000
END:DAYLIGHT
BEGIN:STANDARD
TZOFFSETFROM:+0100
TZOFFSETTO:+0000
TZNAME:GMT
DTSTART:20211031T010000
END:STANDARD
BEGIN:DAYLIGHT
TZOFFSETFROM:+0000
TZOFFSETTO:+0100
TZNAME:BST
DTSTART:20220327T010000
END:DAYLIGHT
BEGIN:STANDARD
TZOFFSETFROM:+0100
TZOFFSETTO:+0000
TZNAME:GMT
DTSTART:20221030T010000
END:STANDARD
BEGIN:DAYLIGHT
TZOFFSETFROM:+0000
TZOFFSETTO:+0100
TZNAME:BST
DTSTART:20230326T010000
END:DAYLIGHT
BEGIN:STANDARD
TZOFFSETFROM:+0100
TZOFFSETTO:+0000
TZNAME:GMT
DTSTART:20231029T010000
END:STANDARD
END:VTIMEZONE
BEGIN:VEVENT
DTSTART;TZID=Europe/London:20220429T000000
DTEND;TZID=Europe/London:20220502T235959
DTSTAMP:20260423T195044
CREATED:20220209T113639Z
LAST-MODIFIED:20220209T113642Z
UID:1162-1651190400-1651535999@nenevalleyhog.co.uk
SUMMARY:Cider Rally
DESCRIPTION:Bridgwater Chapter 2022 cider rally \n\n\n\nAbout this event\n\n\n\nSo we’re back and ready to parrrrrtyyyyyy\, the Cider rally always starts the rally season so as we haven’t had one for 2 years let’s kick the butt out if it and make it one to remember just gonna be great to see you all after all this time  \n\n\n\nSo here’s to good times
URL:https://nenevalleyhog.co.uk/event/cider-rally/
LOCATION:Sand Bay Holiday Village\, 67 Beach Road\, BS22 9UR\, United Kingdom
CATEGORIES:Rally
END:VEVENT
BEGIN:VEVENT
DTSTART;TZID=Europe/London:20220430T000000
DTEND;TZID=Europe/London:20220501T235959
DTSTAMP:20260423T195044
CREATED:20220321T172831Z
LAST-MODIFIED:20220321T172831Z
UID:1255-1651276800-1651449599@nenevalleyhog.co.uk
SUMMARY:Come ride the Welsh Dragon Ride
DESCRIPTION:Weekend away in Wales – Chris Lapsley organising\n\n\n\nHi all – well following pre-ride and stay over\, the Dragon ride is sorted and on. Those on the original list have been updated with details – but this has led to 2 x Double rooms becoming available.This is a 2 day ride 30th April and 1st May – approx 200 miles each day and\, in places\, a demanding ride If you are interested then email me on c.lapsley@ntlworld.com – first come first served – and I will forward you the details.Cheers Chris
URL:https://nenevalleyhog.co.uk/event/come-ride-the-welsh-dragon-ride/
CATEGORIES:Ride Out,Weekend Away
ORGANIZER;CN="Chris Lapsley":MAILTO:c.lapsley@ntlworld.com
END:VEVENT
BEGIN:VEVENT
DTSTART;TZID=Europe/London:20220430T100000
DTEND;TZID=Europe/London:20220430T140000
DTSTAMP:20260423T195044
CREATED:20220406T193239Z
LAST-MODIFIED:20220410T175837Z
UID:1286-1651312800-1651327200@nenevalleyhog.co.uk
SUMMARY:April Fool Cynthia Spencer ride
DESCRIPTION:Northants V-Twin April Fool Charity ride for Cynthia Spencer is back on!!  \n\n\n\nSATURDAY 30TH APRIL IS THE DATE!! \n\n\n\nWe need all of you to save this important date!! Lets once again make some noise in the town center and raise some money for this wonderful charity!! \n\n\n\nAs usual\, we will be joining NVTwin in this epic fundraising effort for Cynthia House. \n\n\n\nLed by Badger (07946299447)\, we will leave Towcester McDonalds at 10.00 for the short ride to the meeting point at Sixfields. From there\, led and marshalled by NVTwin\, we will roll into the town centre and park in the pedestrian area. Once parked the expectation is that the bikes will stay there on display until leaving en masse at 13.00\, or thereabouts. \n\n\n\nThe riders are free to roam the streets\, drink coffee\, eat cake and shop until the leave time. \n\n\n\nMembers can also go straight to Sixfields\, instead of joining Badger and I. \n\n\n\nLook forward to seeing you all there\, if you’ve never done it before it is actually an awesome experience.
URL:https://nenevalleyhog.co.uk/event/april-fool-cynthia-spencer-ride/
LOCATION:McDonalds Towcester\, A43\, Towcester\, Northamptonshire\, NN12 6TQ\, United Kingdom
CATEGORIES:Bike Events,Ride Out
END:VEVENT
END:VCALENDAR