BEGIN:VCALENDAR
VERSION:2.0
PRODID:-//Nene Valley Harley Owners Group - ECPv6.15.20//NONSGML v1.0//EN
CALSCALE:GREGORIAN
METHOD:PUBLISH
X-ORIGINAL-URL:https://nenevalleyhog.co.uk
X-WR-CALDESC:Events for Nene Valley Harley Owners Group
REFRESH-INTERVAL;VALUE=DURATION:PT1H
X-Robots-Tag:noindex
X-PUBLISHED-TTL:PT1H
BEGIN:VTIMEZONE
TZID:Europe/London
BEGIN:DAYLIGHT
TZOFFSETFROM:+0000
TZOFFSETTO:+0100
TZNAME:BST
DTSTART:20210328T010000
END:DAYLIGHT
BEGIN:STANDARD
TZOFFSETFROM:+0100
TZOFFSETTO:+0000
TZNAME:GMT
DTSTART:20211031T010000
END:STANDARD
BEGIN:DAYLIGHT
TZOFFSETFROM:+0000
TZOFFSETTO:+0100
TZNAME:BST
DTSTART:20220327T010000
END:DAYLIGHT
BEGIN:STANDARD
TZOFFSETFROM:+0100
TZOFFSETTO:+0000
TZNAME:GMT
DTSTART:20221030T010000
END:STANDARD
BEGIN:DAYLIGHT
TZOFFSETFROM:+0000
TZOFFSETTO:+0100
TZNAME:BST
DTSTART:20230326T010000
END:DAYLIGHT
BEGIN:STANDARD
TZOFFSETFROM:+0100
TZOFFSETTO:+0000
TZNAME:GMT
DTSTART:20231029T010000
END:STANDARD
END:VTIMEZONE
BEGIN:VEVENT
DTSTART;TZID=Europe/London:20220422T000000
DTEND;TZID=Europe/London:20220424T235959
DTSTAMP:20260425T134937
CREATED:20220211T141332Z
LAST-MODIFIED:20220211T141335Z
UID:1184-1650585600-1650844799@nenevalleyhog.co.uk
SUMMARY:23rd OCCB Rally
DESCRIPTION:Our sister chapter’s (Orval) 23rd annual rally in Belgium. A great chance to catch up and party with our overseas friends. Further details on their website.
URL:https://nenevalleyhog.co.uk/event/23rd-occb-rally/
LOCATION:Rue de la Semois\, Rue de la semois\, Belgium
CATEGORIES:International Rally,Rally
END:VEVENT
BEGIN:VEVENT
DTSTART;TZID=Europe/London:20220423T093000
DTEND;TZID=Europe/London:20220423T120000
DTSTAMP:20260425T134937
CREATED:20220402T145708Z
LAST-MODIFIED:20220402T145709Z
UID:1270-1650706200-1650715200@nenevalleyhog.co.uk
SUMMARY:The Bull Breakfast
DESCRIPTION:Nene Valley breakfast meet Saturday 23rd April 09:30. The Bull Brackley Road\, Towcester. NN12 6DH\n\n\n\nMenu choices: \n\n\n\nFull English breakfast:   \n\n\n\nTwo rashers of rindless back bacon\, two Lashfords champion sausages\, grilled cherry vine tomatoes\, sauté potatoes\, a field mushroom\, beans\, slice of white toast\, spiced French crumpet & a fried local free-range egg. \n\n\n\nVeggie breakfast:  \n\n\n\nTwo veggie sausage\, grilled cherry vine tomatoes. A slice of white toast\, 2 field mushrooms\, 2 spiced French crumpets\, sauté potatoes\, beans & if required a fried local free-range egg. \n\n\n\nTo accompany your breakfast\, choice of tea\, coffee\, or fresh orange juice\, with a free refill £10. \n\n\n\nPlease let me have your breakfast pre-order from the above before 17th April\, either on F/B or at activities@nenevalleyhog.co.uk  because the landlord needs to make sure he’s got enough to feed us all!! \n\n\n\nCheers \n\n\n\nSimon Barron – Activities
URL:https://nenevalleyhog.co.uk/event/the-bull-breakfast/
LOCATION:The Bull\, Towcester\, The Bull\, Brackley Road\, Towcester\, NN12 6DH\, United Kingdom
CATEGORIES:Social Event
END:VEVENT
END:VCALENDAR