BEGIN:VCALENDAR
VERSION:2.0
PRODID:-//Nene Valley Harley Owners Group - ECPv6.15.20//NONSGML v1.0//EN
CALSCALE:GREGORIAN
METHOD:PUBLISH
X-ORIGINAL-URL:https://nenevalleyhog.co.uk
X-WR-CALDESC:Events for Nene Valley Harley Owners Group
REFRESH-INTERVAL;VALUE=DURATION:PT1H
X-Robots-Tag:noindex
X-PUBLISHED-TTL:PT1H
BEGIN:VTIMEZONE
TZID:Europe/London
BEGIN:DAYLIGHT
TZOFFSETFROM:+0000
TZOFFSETTO:+0100
TZNAME:BST
DTSTART:20210328T010000
END:DAYLIGHT
BEGIN:STANDARD
TZOFFSETFROM:+0100
TZOFFSETTO:+0000
TZNAME:GMT
DTSTART:20211031T010000
END:STANDARD
BEGIN:DAYLIGHT
TZOFFSETFROM:+0000
TZOFFSETTO:+0100
TZNAME:BST
DTSTART:20220327T010000
END:DAYLIGHT
BEGIN:STANDARD
TZOFFSETFROM:+0100
TZOFFSETTO:+0000
TZNAME:GMT
DTSTART:20221030T010000
END:STANDARD
BEGIN:DAYLIGHT
TZOFFSETFROM:+0000
TZOFFSETTO:+0100
TZNAME:BST
DTSTART:20230326T010000
END:DAYLIGHT
BEGIN:STANDARD
TZOFFSETFROM:+0100
TZOFFSETTO:+0000
TZNAME:GMT
DTSTART:20231029T010000
END:STANDARD
END:VTIMEZONE
BEGIN:VEVENT
DTSTART;TZID=Europe/London:20220410T103000
DTEND;TZID=Europe/London:20220410T160000
DTSTAMP:20260425T135537
CREATED:20220211T140311Z
LAST-MODIFIED:20220321T162804Z
UID:1179-1649586600-1649606400@nenevalleyhog.co.uk
SUMMARY:Broadway Tower Ride
DESCRIPTION:Departing from McDonalds\, Towcester at 10:30am. Mikey leading.\n\n\n\nJoin us on a nice ride to Broadway Tower to get you back in the saddle for the season ahead  \n\n\n\nIt is about 50 miles there\, following a cross country route to Banbury\, then to Chipping Camden and onto Broadway \n\n\n\nWe will allow 90 minutes at Broadway Tower so people have plenty of time to look around\, go for an explore and grab something to eat (there are now 3 places to choose from). There are some stunning views  \n\n\n\nWe will head back via Chipping Norton\, where we will stop for fuel at the Shell garage and  people can make their own way home from here  \n\n\n\nMikey leading \n\n\n\nAny questions please contact Mikey on: \n\n\n\n07950947681 \n\n\n\nmikeyivers@icloud.com
URL:https://nenevalleyhog.co.uk/event/broadway-tower-ride/
LOCATION:McDonalds Towcester\, A43\, Towcester\, Northamptonshire\, NN12 6TQ\, United Kingdom
CATEGORIES:Ride Out
END:VEVENT
END:VCALENDAR