BEGIN:VCALENDAR
VERSION:2.0
PRODID:-//Nene Valley Harley Owners Group - ECPv6.15.20//NONSGML v1.0//EN
CALSCALE:GREGORIAN
METHOD:PUBLISH
X-WR-CALNAME:Nene Valley Harley Owners Group
X-ORIGINAL-URL:https://nenevalleyhog.co.uk
X-WR-CALDESC:Events for Nene Valley Harley Owners Group
REFRESH-INTERVAL;VALUE=DURATION:PT1H
X-Robots-Tag:noindex
X-PUBLISHED-TTL:PT1H
BEGIN:VTIMEZONE
TZID:Europe/London
BEGIN:DAYLIGHT
TZOFFSETFROM:+0000
TZOFFSETTO:+0100
TZNAME:BST
DTSTART:20210328T010000
END:DAYLIGHT
BEGIN:STANDARD
TZOFFSETFROM:+0100
TZOFFSETTO:+0000
TZNAME:GMT
DTSTART:20211031T010000
END:STANDARD
BEGIN:DAYLIGHT
TZOFFSETFROM:+0000
TZOFFSETTO:+0100
TZNAME:BST
DTSTART:20220327T010000
END:DAYLIGHT
BEGIN:STANDARD
TZOFFSETFROM:+0100
TZOFFSETTO:+0000
TZNAME:GMT
DTSTART:20221030T010000
END:STANDARD
BEGIN:DAYLIGHT
TZOFFSETFROM:+0000
TZOFFSETTO:+0100
TZNAME:BST
DTSTART:20230326T010000
END:DAYLIGHT
BEGIN:STANDARD
TZOFFSETFROM:+0100
TZOFFSETTO:+0000
TZNAME:GMT
DTSTART:20231029T010000
END:STANDARD
END:VTIMEZONE
BEGIN:VEVENT
DTSTART;TZID=Europe/London:20220211T000000
DTEND;TZID=Europe/London:20220213T235959
DTSTAMP:20260426T002316
CREATED:20220207T204528Z
LAST-MODIFIED:20220207T204532Z
UID:1157-1644537600-1644796799@nenevalleyhog.co.uk
SUMMARY:London Motorcycle Show
DESCRIPTION:The 2022 Carole Nash MCN London Motorcycle Show returns to ExCeL this 11-13 Feb for an unmissable biking weekend. \n\n\n\nWith everything from the latest bikes and launches from manufacturers\, an exclusive Rossi tribute\, deals on kit\, bike fire-ups\, racing action and SO much more! \n\n\n\nCelebrating RossiIn tribute to the legendary Valentino Rossi and his incredible career in MotoGP there will be a display of his championship winning machines and exclusive interviews with the people who helped shape his success. It’s a rare and exclusive chance to see these bikes all under one roof and a must-see for any fans of the nine-time world champion. \n\n\n\nExclusive! See the new Ducati DesertX revealed at the London showSee all the important new bikes in London including 2022 models revealed live and exclusive at the show. \n\n\n\nBe inspired for adventure!Nathan Millward hosts the Travel and Adventure stage – visitors will have the chance to meet a mix of inspirational travellers and pick up tons of practical advice. \n\n\n\nGet yourself kitted out for the seasonAll the biggest clothing\, kit and accessory brands will be at the show. From technologically advanced race leathers to branded casual clothing. Bag a bargain from London’s biggest motorcycle shop – it’s on for one weekend only! \n\n\n\nSee the World’s coolest customsBuilt magazine will be bringing a jaw dropping collection of the latest machines from Europe’s premier custom shops. There’ll be over a dozen bikes on display\, expect the very best bikes from the biggest names in the business. \n\n\n\nClassics auctionSilverstone Auctions will be running a huge auction at the show on Saturday afternoon. With a wide-ranging selection of over 100 bikes from pre-war to modern machinery there’ll be something for every pocket. The star lot of the auction is a 1936 Brough Superior SS80 expected to reach over £50K  \n\n\n\nThrills and spills in the live action showThe biggest and best live action is back! PLUS a new circuit layout that guarantees even closer racing. \n\n\n\nRoads legends and team captains John McGuinness and Peter Hickman will be fighting it out in the all-new ‘King of the Roads’ live action racing that takes place at the heart of the London show. Featuring a new TT course that includes a technical section and a jump\, the racing will be fast paced and as packed with action as the real TT course as these two top class riders and their teams shoot it out for the title of ‘King of the Roads’.  \n\n\n\nBook a Paddock Pass and get the ultimate show experience. A Paddock Pass includes day entry into the show PLUS a grandstand seat for the live action race of your choice AND the chance to meet the riders in the paddock area for backstage banter and signings\, you’ll also get a limited-edition Rossi souvenir magazine worth £9.99 (whilst stocks last).
URL:https://nenevalleyhog.co.uk/event/london-motorcycle-show/
CATEGORIES:Bike Events
END:VEVENT
END:VCALENDAR