BEGIN:VCALENDAR
VERSION:2.0
PRODID:-//Nene Valley Harley Owners Group - ECPv6.15.20//NONSGML v1.0//EN
CALSCALE:GREGORIAN
METHOD:PUBLISH
X-WR-CALNAME:Nene Valley Harley Owners Group
X-ORIGINAL-URL:https://nenevalleyhog.co.uk
X-WR-CALDESC:Events for Nene Valley Harley Owners Group
REFRESH-INTERVAL;VALUE=DURATION:PT1H
X-Robots-Tag:noindex
X-PUBLISHED-TTL:PT1H
BEGIN:VTIMEZONE
TZID:Europe/London
BEGIN:DAYLIGHT
TZOFFSETFROM:+0000
TZOFFSETTO:+0100
TZNAME:BST
DTSTART:20200329T010000
END:DAYLIGHT
BEGIN:STANDARD
TZOFFSETFROM:+0100
TZOFFSETTO:+0000
TZNAME:GMT
DTSTART:20201025T010000
END:STANDARD
BEGIN:DAYLIGHT
TZOFFSETFROM:+0000
TZOFFSETTO:+0100
TZNAME:BST
DTSTART:20210328T010000
END:DAYLIGHT
BEGIN:STANDARD
TZOFFSETFROM:+0100
TZOFFSETTO:+0000
TZNAME:GMT
DTSTART:20211031T010000
END:STANDARD
BEGIN:DAYLIGHT
TZOFFSETFROM:+0000
TZOFFSETTO:+0100
TZNAME:BST
DTSTART:20220327T010000
END:DAYLIGHT
BEGIN:STANDARD
TZOFFSETFROM:+0100
TZOFFSETTO:+0000
TZNAME:GMT
DTSTART:20221030T010000
END:STANDARD
END:VTIMEZONE
BEGIN:VEVENT
DTSTART;TZID=Europe/London:20211114T093000
DTEND;TZID=Europe/London:20211114T120000
DTSTAMP:20260426T002712
CREATED:20210809T204948Z
LAST-MODIFIED:20211102T203421Z
UID:942-1636882200-1636891200@nenevalleyhog.co.uk
SUMMARY:Remembrance Ride
DESCRIPTION:Sunday 14th November 2021 \n\n\n\nLeaving McDonalds (A43) 09.30 \n\n\n\nI will be leading the ride to The Remembrance Day Service at Bletchley Cenotaph on Sunday 14h November2021\, leaving McDonalds (A43) at 09.30.  \n\n\n\nThe ride will be a one-way ride and will be a 45-minute amble via Silverstone\, Buckingham\, then into Bletchley\, where we will attend and support the service as previous\, with everyone finding their own way home. I look forward to seeing you all there. \n\n\n\nColin \n\n\n\n07771 744458
URL:https://nenevalleyhog.co.uk/event/remembrance-ride-and-baps/
CATEGORIES:Ride Out
END:VEVENT
END:VCALENDAR