BEGIN:VCALENDAR
VERSION:2.0
PRODID:-//Nene Valley Harley Owners Group - ECPv6.15.20//NONSGML v1.0//EN
CALSCALE:GREGORIAN
METHOD:PUBLISH
X-ORIGINAL-URL:https://nenevalleyhog.co.uk
X-WR-CALDESC:Events for Nene Valley Harley Owners Group
REFRESH-INTERVAL;VALUE=DURATION:PT1H
X-Robots-Tag:noindex
X-PUBLISHED-TTL:PT1H
BEGIN:VTIMEZONE
TZID:Europe/London
BEGIN:DAYLIGHT
TZOFFSETFROM:+0000
TZOFFSETTO:+0100
TZNAME:BST
DTSTART:20200329T010000
END:DAYLIGHT
BEGIN:STANDARD
TZOFFSETFROM:+0100
TZOFFSETTO:+0000
TZNAME:GMT
DTSTART:20201025T010000
END:STANDARD
BEGIN:DAYLIGHT
TZOFFSETFROM:+0000
TZOFFSETTO:+0100
TZNAME:BST
DTSTART:20210328T010000
END:DAYLIGHT
BEGIN:STANDARD
TZOFFSETFROM:+0100
TZOFFSETTO:+0000
TZNAME:GMT
DTSTART:20211031T010000
END:STANDARD
BEGIN:DAYLIGHT
TZOFFSETFROM:+0000
TZOFFSETTO:+0100
TZNAME:BST
DTSTART:20220327T010000
END:DAYLIGHT
BEGIN:STANDARD
TZOFFSETFROM:+0100
TZOFFSETTO:+0000
TZNAME:GMT
DTSTART:20221030T010000
END:STANDARD
END:VTIMEZONE
BEGIN:VEVENT
DTSTART;TZID=Europe/London:20211024T100000
DTEND;TZID=Europe/London:20211024T170000
DTSTAMP:20260426T033723
CREATED:20211017T225012Z
LAST-MODIFIED:20211017T225015Z
UID:1052-1635069600-1635094800@nenevalleyhog.co.uk
SUMMARY:Robin Hood Dealership Ride
DESCRIPTION:Departing from McDonalds on the A43 in Towcester. \n\n\n\nA last-minute decision\, I will be leading a ride to Nottingham Harley Davidson Sunday 24th October 2021. The ride will be leaving McDonalds on A43 Towcester at 10:00. \n\n\n\nThe route will take us through Market Harborough and along the B6047 then onto the A46 to Nottingham. The ride is about 63 miles and will take roughly 1.5 hours. \n\n\n\nFingers crossed the weather will be kind to us so we can squeeze in this ride before Colins remembrance ride. \n\n\n\n Mikey Ivers will be tailing. \n\n\n\nSimon \n\n\n\n07961 027921
URL:https://nenevalleyhog.co.uk/event/robin-hood-dealership-ride/
LOCATION:McDonalds Towcester\, A43\, Towcester\, Northamptonshire\, NN12 6TQ\, United Kingdom
ATTACH;FMTTYPE=image/jpeg:https://nenevalleyhog.co.uk/wp-content/uploads/2021/10/robin-hood-harley-davidson-nottingham.jpg
END:VEVENT
END:VCALENDAR