BEGIN:VCALENDAR
VERSION:2.0
PRODID:-//Nene Valley Harley Owners Group - ECPv6.15.20//NONSGML v1.0//EN
CALSCALE:GREGORIAN
METHOD:PUBLISH
X-ORIGINAL-URL:https://nenevalleyhog.co.uk
X-WR-CALDESC:Events for Nene Valley Harley Owners Group
REFRESH-INTERVAL;VALUE=DURATION:PT1H
X-Robots-Tag:noindex
X-PUBLISHED-TTL:PT1H
BEGIN:VTIMEZONE
TZID:Europe/London
BEGIN:DAYLIGHT
TZOFFSETFROM:+0000
TZOFFSETTO:+0100
TZNAME:BST
DTSTART:20200329T010000
END:DAYLIGHT
BEGIN:STANDARD
TZOFFSETFROM:+0100
TZOFFSETTO:+0000
TZNAME:GMT
DTSTART:20201025T010000
END:STANDARD
BEGIN:DAYLIGHT
TZOFFSETFROM:+0000
TZOFFSETTO:+0100
TZNAME:BST
DTSTART:20210328T010000
END:DAYLIGHT
BEGIN:STANDARD
TZOFFSETFROM:+0100
TZOFFSETTO:+0000
TZNAME:GMT
DTSTART:20211031T010000
END:STANDARD
BEGIN:DAYLIGHT
TZOFFSETFROM:+0000
TZOFFSETTO:+0100
TZNAME:BST
DTSTART:20220327T010000
END:DAYLIGHT
BEGIN:STANDARD
TZOFFSETFROM:+0100
TZOFFSETTO:+0000
TZNAME:GMT
DTSTART:20221030T010000
END:STANDARD
END:VTIMEZONE
BEGIN:VEVENT
DTSTART;TZID=Europe/London:20211009T000000
DTEND;TZID=Europe/London:20211010T235959
DTSTAMP:20260426T033729
CREATED:20210905T204724Z
LAST-MODIFIED:20210905T204727Z
UID:1010-1633737600-1633910399@nenevalleyhog.co.uk
SUMMARY:The Classic Motorcycle Mechanics Show
DESCRIPTION:The event features over 900 traders\, dealers and autojumble stands offering a wealth of parts and spares for every project. – Staffordshire Showground\, Staffs\, ST18 0BD.www.classicbikeshows.com
URL:https://nenevalleyhog.co.uk/event/the-classic-motorcycle-mechanics-show/
LOCATION:Staffordshire Showground\, Weston Road\, Stafford\, Staffordshire\, ST18 0BD\, United Kingdom
CATEGORIES:Bike Events
ATTACH;FMTTYPE=image/jpeg:https://nenevalleyhog.co.uk/wp-content/uploads/2021/09/StaffordShowJuly2021-1026_preview-400x267-1.jpg
END:VEVENT
END:VCALENDAR