BEGIN:VCALENDAR
VERSION:2.0
PRODID:-//Nene Valley Harley Owners Group - ECPv6.15.20//NONSGML v1.0//EN
CALSCALE:GREGORIAN
METHOD:PUBLISH
X-ORIGINAL-URL:https://nenevalleyhog.co.uk
X-WR-CALDESC:Events for Nene Valley Harley Owners Group
REFRESH-INTERVAL;VALUE=DURATION:PT1H
X-Robots-Tag:noindex
X-PUBLISHED-TTL:PT1H
BEGIN:VTIMEZONE
TZID:Europe/London
BEGIN:DAYLIGHT
TZOFFSETFROM:+0000
TZOFFSETTO:+0100
TZNAME:BST
DTSTART:20200329T010000
END:DAYLIGHT
BEGIN:STANDARD
TZOFFSETFROM:+0100
TZOFFSETTO:+0000
TZNAME:GMT
DTSTART:20201025T010000
END:STANDARD
BEGIN:DAYLIGHT
TZOFFSETFROM:+0000
TZOFFSETTO:+0100
TZNAME:BST
DTSTART:20210328T010000
END:DAYLIGHT
BEGIN:STANDARD
TZOFFSETFROM:+0100
TZOFFSETTO:+0000
TZNAME:GMT
DTSTART:20211031T010000
END:STANDARD
BEGIN:DAYLIGHT
TZOFFSETFROM:+0000
TZOFFSETTO:+0100
TZNAME:BST
DTSTART:20220327T010000
END:DAYLIGHT
BEGIN:STANDARD
TZOFFSETFROM:+0100
TZOFFSETTO:+0000
TZNAME:GMT
DTSTART:20221030T010000
END:STANDARD
END:VTIMEZONE
BEGIN:VEVENT
DTSTART;TZID=Europe/London:20211007T200000
DTEND;TZID=Europe/London:20211007T220000
DTSTAMP:20260426T033753
CREATED:20210908T161953Z
LAST-MODIFIED:20210908T161956Z
UID:1040-1633636800-1633644000@nenevalleyhog.co.uk
SUMMARY:Open Mic Night - Towcester Mill
DESCRIPTION:Free \n\n\n\nOur Open Mic nights are returning! All abilities/acts are welcome. You don’t even have to perform\, just being there supporting others would make for a great night out! Come and take to the Mill’s stage or sit back and enjoy the acts\, the choice is yours…  \n\n\n\nHosted by the lovely Lewis\, the night’s music will kick off around 8pm in the Steam Room on the first floor. No tickets required\, just turn up on the night and have a great time!
URL:https://nenevalleyhog.co.uk/event/open-mic-night-towcester-mill/
LOCATION:Towcester Mill\, Chantry Lane\, Towcester\, Northamptonshire\, NN12 6YY\, United Kingdom
CATEGORIES:Brewery Event
END:VEVENT
END:VCALENDAR